BEGIN:VCALENDAR
VERSION:2.0
PRODID:-//Camera de Comerţ şi Industrie a Municipiului Bucureşti - ECPv6.15.14//NONSGML v1.0//EN
CALSCALE:GREGORIAN
METHOD:PUBLISH
X-ORIGINAL-URL:https://ccib.ro
X-WR-CALDESC:Evenimente pentru Camera de Comerţ şi Industrie a Municipiului Bucureşti
REFRESH-INTERVAL;VALUE=DURATION:PT1H
X-Robots-Tag:noindex
X-PUBLISHED-TTL:PT1H
BEGIN:VTIMEZONE
TZID:Europe/Moscow
BEGIN:STANDARD
TZOFFSETFROM:+0300
TZOFFSETTO:+0300
TZNAME:MSK
DTSTART:20220101T000000
END:STANDARD
END:VTIMEZONE
BEGIN:VEVENT
DTSTART;TZID=Europe/Moscow:20230215T090000
DTEND;TZID=Europe/Moscow:20230215T103000
DTSTAMP:20260418T093646
CREATED:20230131T134458Z
LAST-MODIFIED:20230331T080457Z
UID:21842-1676451600-1676457000@ccib.ro
SUMMARY:Business Breakfast la Palatul CCIB:  Noutăţi ale Codului fiscal
DESCRIPTION:INVITAȚIE \nCamera de Comerţ şi Industrie a Municipiului Bucureşti vă invită la evenimentul: \nBusiness Breakfast la Palatul CCIB \nNoutăţi ale Codului fiscal \nmiercuri\, 15 februarie 2023\, între orele 9:00-10:30\, \nîn Aula Carol I din sediul nostru istoric\, situat în str. Ion Ghica nr. 4\, București. \nSubiectele de interes vor fi detaliate de invitații noștri speciali: \n Lucian HEIUȘ\, Președintele ANAF \n Dan Manolescu\, Președintele Camerei Consultanților Fiscali \nParticipanții vor avea oportunitatea de a discuta și lămuri cele mai stringente modificări aduse Codului fiscal\, printre care impozitarea microîntreprinderilor și facilitățile fiscale acordate pentru Cercetare&Dezvoltare\, raportarea E-factura și SAF-T\, noutăți în domeniul vamal\, modificarea plafoanelor pentru facilități fiscale în Construcții\, Agricultură și Industria Alimentară sau plafonarea beneficiilor extrasalariale. \nBusiness Breakfast este un eveniment marca CCIB\, care oferă posibilitatea reprezentanţilor mediului de afaceri să se întâlnească cu autorităţi\, specialişti\, consultanţi de top pentru a dezbate cele mai importante teme de interes economic şi de afaceri. \nMai puțin formal decât o masă oficială şi mai rapid\, Business Breakfast la Palatul CCIB este un model de networking ce vă oferă posibilitatea să vă întâlniți într-un cerc restrâns cu autorități de reglementare și consultanți de top\, precum și să identificați noi oportunități de afaceri. În același timp aveți avea ocazia să puneți întrebări și să primiți răspunsuri direct de la oficiali și specialiști. \nLocurile sunt limitate! Pentru a vă înscrie vă rugăm să completați formularul de participare disponibil pe site-ul www.ccib.ro. Membrii Camerei de Comerț și Industrie a Municipiului București beneficiază de gratuitate. Taxa de participare pentru firmele nemembre CCIB este de 40 Euro echivalent in lei (include TVA) și se face în contul RO 61 BRDE 441 SV 5106 892 4410\, deschis la BRD sucursala Unirea\, cu mențiunea ”Business Breakfast 15 februarie 2023”. \n  \nPentru alte detalii\, puteți contacta managerul de proiect: gabriela.dumitriu@ccib.ro (telefon 0729.164.482). \nVă așteptăm! \n  \n\n\n  \n\n\n\n Înregistrare participare \n \n Numele tău (obligatoriu)\n \n \n Emailul tău (obligatoriu)\n \n \n Compania (obligatoriu)\n \n \n Cod de Identificare Fiscala (obligatoriu)\n \n \n Sediul social al firmei\n \n \n Funcția\n \n \n Domeniul de activitate\n \n \nSunt membru CCIBNu sunt membru CCIB\n \n Telefon\n \n \n Mesajul tău\n \n \nDeclar că sunt de acord ca datele mele personale să fie utilizate de către Camera de Comert si Industrie a Municipiului Bucuresti și partenerii săi\, în scopul organizării evenimentului.\nAm citit şi sunt de acord cu termenii si conditiile Camerei de Comerţ şi Industrie a Municipiului Bucuresti (CCIB) referitoare la utilizarea şi prelucrarea datelor mele cu caracter personal în vederea participării la eveniment.\nDeclar că sunt de acord ca fotografiile / înregistrările audio-video care se vor realiza în cadrul evenimentului să fie utilizate de către CCIB și Parteneri în scopul promovării  evenimentului  și  că sunt de acord să fie utilizate și publicate în materialele publicitare audio/video\, presa scrisă\, aferente și/sau în legătură cu evenimentul                                    de Comerţ şi Industrie a Municipiului Bucuresti (CCIB) referitoare la utilizarea şi prelucrarea datelor mele cu caracter personal în vederea participării la eveniment.\nSunt de acord să primesc informaţii despre serviciile\, evenimentele şi manifestările expoziţionale organizate de CCIB şi/sau partenerii de afaceri.
URL:https://ccib.ro/eveniment/business-breakfast-15-februarie-2023/
LOCATION:Birou  reprezentare CCIB – Londra\, 1 Belgrave Square\, London\, London\, SW1X 8PH\, United Kingdom
CATEGORIES:Business Breakfast
ATTACH;FMTTYPE=image/png:https://ccib.ro/wp-content/uploads/2023/01/banner-BB-15.02.2023.png
ORGANIZER;CN="CCIB":MAILTO:office@ccib.ro;
END:VEVENT
END:VCALENDAR