BEGIN:VCALENDAR
VERSION:2.0
PRODID:-//Camera de Comerţ şi Industrie a Municipiului Bucureşti - ECPv6.15.14//NONSGML v1.0//EN
CALSCALE:GREGORIAN
METHOD:PUBLISH
X-ORIGINAL-URL:https://ccib.ro
X-WR-CALDESC:Evenimente pentru Camera de Comerţ şi Industrie a Municipiului Bucureşti
REFRESH-INTERVAL;VALUE=DURATION:PT1H
X-Robots-Tag:noindex
X-PUBLISHED-TTL:PT1H
BEGIN:VTIMEZONE
TZID:Europe/Moscow
BEGIN:STANDARD
TZOFFSETFROM:+0300
TZOFFSETTO:+0300
TZNAME:MSK
DTSTART:20220101T000000
END:STANDARD
END:VTIMEZONE
BEGIN:VEVENT
DTSTART;TZID=Europe/Moscow:20230627T090000
DTEND;TZID=Europe/Moscow:20230627T103000
DTSTAMP:20260420T175704
CREATED:20230606T133257Z
LAST-MODIFIED:20230619T100023Z
UID:22587-1687856400-1687861800@ccib.ro
SUMMARY:Business Breakfast la Palatul CCIB:  Cum aplici noile schimbări ale legislației muncii în compania ta?
DESCRIPTION:Anul 2023 a adus schimbări importante în domeniul legislației muncii și protectiei sociale. Aplicarea corectă și întelegerea acestor modificări sunt esențiale pentru ca fiecare companie să opereze în mod eficient și să evite orice obstacole legale ce pot atrage sancțiuni. Pentru a oferi o perspectivă asupra măsurilor pe care angajatorii trebuie să le ia în considerare pentru o conformare corectă\, Camera de Comerț și Industrie a Municipiului București vă invită la : \nBUSINESS BREAKFAST \nCum aplici noile schimbări ale legislației muncii în compania ta?\nmarți\, 27 iunie 2023\, între orele 9:00-10:30\, \nPalatul CCIB\, Aula Carol I\, str. Ion Ghica nr. 4\, Sector 3\, București \n\n\nAflă direct de la autorități și specialiști de top:: \n\nAspecte practice privind redactarea contractului individual de muncă – ce elemente noi ar trebui să conțină contractul de muncă;\nObligativitatea modelului cadru;\nNoile tipuri de concediu și zile libere pentru angajați;\nPrevederile obligatorii în regulamentul intern și modalitățile de comunicare către membrii echipei;\nNoile drepturi și obligații pentru angajatori și angajați ;\nNegocierea colectiva.\n\n\n      INVITAȚI SPECIALI \nDna Andreea Cristina Tudorie\, Director Directia Control Munca Nedeclarata\, Contracte Colective de Munca si Monitorizare Relatii de Munca \nINSPECȚIA MUNCII \nși \nDna. Mihaela NIȚU\, Avocat specializat în dreptul muncii \nCabinetul de avocat GRUIA DUFAUT \nBusiness Breakfast este un eveniment marca CCIB. Mai puțin formal decât o masă oficială şi mai rapid\, Business Breakfast la Palatul CCIB este un model de networking ce vă oferă posibilitatea să vă întâlniți într-un cerc restrâns cu autorități de reglementare și consultanți de top\, precum și să identificați noi oportunități de afaceri. În același timp aveți ocazia să puneți întrebări și să primiți răspunsuri direct de la oficiali și specialiști. \nLocurile sunt limitate! Pentru a vă înscrie vă rugăm să completați formularul de participare disponibil pe site. Membrii Camerei de Comerț și Industrie a Municipiului București beneficiază de gratuitate (pentru un reprezentant al firmei). Pentru cel de-al doilea participant în cazul firmelor membre CCIB\, se acordă reducere de 50% din taxă. Taxa de participare pentru firmele nemembre CCIB este de 40 Euro echivalent în lei (include TVA) și se face în contul RO 61 BRDE 441 SV 5106 892 4410\, deschis la BRD sucursala Unirea\, cu mențiunea ”Business Breakfast 27 iunie 2023”. \n  \nPentru alte detalii\, puteți contacta echipa de proiect: gabriela.dumitriu@ccib.ro (telefon 0729.164.482) sau membri@ccib.ro \n  \nVă așteptăm! \n\n\n  \n\n\n\n Înregistrare participare Business Breakfast\n \n Numele tău (obligatoriu)\n \n \n Emailul tău (obligatoriu)\n \n \n Compania (obligatoriu)\n \n \n Cod de Identificare Fiscala (obligatoriu)\n \n \n Nr Inregistrare la Registrul Comertului\n \n \n Sediul social al firmei\n \n \n Funcția\n \n \n Domeniul de activitate\n \n \nSunt membru CCIBNu sunt membru CCIB\n \n Telefon\n \n \n Mesajul tău\n \n \nDeclar că sunt de acord ca datele mele personale să fie utilizate de către Camera de Comert si Industrie a Municipiului Bucuresti și partenerii săi\, în scopul organizării evenimentului.\nAm citit şi sunt de acord cu termenii si conditiile Camerei de Comerţ şi Industrie a Municipiului Bucuresti (CCIB) referitoare la utilizarea şi prelucrarea datelor mele cu caracter personal în vederea participării la eveniment.\nDeclar că sunt de acord ca fotografiile / înregistrările audio-video care se vor realiza în cadrul evenimentului să fie utilizate de către CCIB și Parteneri în scopul promovării  evenimentului  și  că sunt de acord să fie utilizate și publicate în materialele publicitare audio/video\, presa scrisă\, aferente și/sau în legătură cu evenimentul organizat de Camera de Comerţ şi Industrie a Municipiului Bucuresti (CCIB).\nSunt de acord să primesc informaţii despre serviciile\, evenimentele şi manifestările expoziţionale organizate de CCIB şi/sau partenerii de afaceri.
URL:https://ccib.ro/eveniment/business-breakfast-la-palatul-ccib-schimbari-legislatia-muncii/
LOCATION:Birou  reprezentare CCIB – Londra\, 1 Belgrave Square\, London\, London\, SW1X 8PH\, United Kingdom
CATEGORIES:Business Breakfast
ATTACH;FMTTYPE=image/png:https://ccib.ro/wp-content/uploads/2023/06/banner-BB-munca.png
ORGANIZER;CN="CCIB":MAILTO:office@ccib.ro;
END:VEVENT
END:VCALENDAR