BEGIN:VCALENDAR
VERSION:2.0
PRODID:-//Camera de Comerţ şi Industrie a Municipiului Bucureşti - ECPv6.15.14//NONSGML v1.0//EN
CALSCALE:GREGORIAN
METHOD:PUBLISH
X-WR-CALNAME:Camera de Comerţ şi Industrie a Municipiului Bucureşti
X-ORIGINAL-URL:https://ccib.ro
X-WR-CALDESC:Evenimente pentru Camera de Comerţ şi Industrie a Municipiului Bucureşti
REFRESH-INTERVAL;VALUE=DURATION:PT1H
X-Robots-Tag:noindex
X-PUBLISHED-TTL:PT1H
BEGIN:VTIMEZONE
TZID:Europe/Moscow
BEGIN:STANDARD
TZOFFSETFROM:+0300
TZOFFSETTO:+0300
TZNAME:MSK
DTSTART:20170101T000000
END:STANDARD
END:VTIMEZONE
BEGIN:VEVENT
DTSTART;TZID=Europe/Moscow:20180425T150000
DTEND;TZID=Europe/Moscow:20180425T150000
DTSTAMP:20260424T024819
CREATED:20180418T213004Z
LAST-MODIFIED:20180420T074840Z
UID:12468-1524668400-1524668400@ccib.ro
SUMMARY:Intalnire de lucru cu Dl. Eugen-Orlando TEODOROVICI\, Ministrul Finantelor Publice
DESCRIPTION:Pentru a fi informați\, din surse autorizate\, asupra unor probleme care pot avea influențe asupra activității  companiei Dvs.\, Camera de Comert si Industrie a Municipiului Bucuresti în parteneriat cu Agenția Națională a Exportatorilor și Importatorilor din România vă invită miercuri\, 25 aprilie a.c.\, ora 15:00\, la o întâlnire de lucru\, cu participarea unor înalți demnitari ai Guvernului sau alte autorități publice: \n– Dl. Eugen – Orlando TEODOROVICI\, Ministrul Finanțelor Publice\n– D-na Georgeta BASARABESCU\, Președinta Autorității Naționale pentru Protecția  Datelor Personale \nTemele ce vor fi abordate: \na) În ce măsură firmele românești se simt dezavantajate în concurența pe piața UE și extra-UE datorită reglementărilor financiar-vamale impuse de Comisia Europeană\, dar și de autoritățile române \nb) Măsurile ce se cer intreprinse de firme pentru implementarea\, începând cu 25 mai a.c.\, a Directivei europene privind protecția datelor personale. \nLocația întâlnirii: \nPalatul CCIB\, str Ion Ghica nr. 4\, etaj 2\, Aula Carol I (vis-a-vis de Banca Națională). Strada Ion Ghica nr. 4\, sector 3\, 030044\, Bucuresti | 021 319 0132\, 021 318 5181 | office@ccib.ro | www.ccib.ro  \nParticiparea pentru membrii CCIB este gratuită\, dar în limita locurilor disponibile\, la eveniment urmând să fie prezenți și membrii părții private din Consiliul de Export al României. \nÎnregistrarea\, câte o persoană din partea unei firme/companii)\, se face prin mail la adresele: mircea.toader@ccib.ro și sandra.lasculescu@ccib.ro până\, luni 23 aprilie a.c. ora 16:00. \nPersoane de contact în CCIB: Mircea Toader\, consilier al președintelui pentru relații internaționale tel. 0725 167 894 sau 0723 144 663\, și Sandra Lăsculescu\, consilier relații internaționale tel. 0724 021 848. \nReiterând disponibilitatea de a sprijini activitatea firmei/companiei Dumneavoastră în eforturile de identificare a celor mai viabile soluții de dezvoltare\, atât în plan intern\, cât și de internaționalizare a afacerilor\, vă așteptăm la evenimentul anunțat\, precum și la cele viitoare.
URL:https://ccib.ro/eveniment/intalnire-de-lucru-cu-dl-eugen-orlando-teodorovici-ministrul-finantelor-publice/
LOCATION:Birou  reprezentare CCIB – Londra\, 1 Belgrave Square\, London\, London\, SW1X 8PH\, United Kingdom
CATEGORIES:Conferință,Eveniment
ATTACH;FMTTYPE=image/jpeg:https://ccib.ro/wp-content/uploads/2018/04/banner-site-ccib-inlalnire-lucru-teodorovici-ver-2.jpg
ORGANIZER;CN="CCIB":MAILTO:office@ccib.ro
END:VEVENT
END:VCALENDAR