BEGIN:VCALENDAR
VERSION:2.0
PRODID:-//Camera de Comerţ şi Industrie a Municipiului Bucureşti - ECPv6.15.14//NONSGML v1.0//EN
CALSCALE:GREGORIAN
METHOD:PUBLISH
X-WR-CALNAME:Camera de Comerţ şi Industrie a Municipiului Bucureşti
X-ORIGINAL-URL:https://ccib.ro
X-WR-CALDESC:Evenimente pentru Camera de Comerţ şi Industrie a Municipiului Bucureşti
REFRESH-INTERVAL;VALUE=DURATION:PT1H
X-Robots-Tag:noindex
X-PUBLISHED-TTL:PT1H
BEGIN:VTIMEZONE
TZID:Europe/Moscow
BEGIN:STANDARD
TZOFFSETFROM:+0300
TZOFFSETTO:+0300
TZNAME:MSK
DTSTART:20170101T000000
END:STANDARD
END:VTIMEZONE
BEGIN:VEVENT
DTSTART;VALUE=DATE:20180608
DTEND;VALUE=DATE:20180609
DTSTAMP:20260423T235710
CREATED:20180608T091502Z
LAST-MODIFIED:20180608T092004Z
UID:13372-1528416000-1528502399@ccib.ro
SUMMARY:Contrafacerile in Industria Alimentara si Gala Proprietatii Industriale
DESCRIPTION:Camera de Comert si Industrie a Municipiului Bucuresti si Legal Magazin va invita vineri\, 8 iunie 2018\, la evenimentul cu tema  CONTRAFACERILE IN INDUSTRIA ALIMENTARA\, care va fi urmat de GALA PROPRIETATII INDUSTRIALE\, editia a II-a.  \nConferinta si Gala se vor desfasura in Aula Carol I a Palatului Camerei de Comert si Industrie Bucuresti (Str. Ion Ghica\, Nr. 4\, Sector 3\, Bucuresti). \nPrezentarea evenimentului si formularul de inregistrare sunt atasate. \nEvenimentul va reuni cei mai buni experti din domeniu si va fi o platforma de dezbateri care sa aduca decidentii guvernamentali\, corporatiile\, antreprenorii si societatea civila intr-un dialog care sa genereze adevarata agenda publica in acest sector strategic care este industria agroalimentara. \nAgendă: \n15\,30 – 16\,00:  Înregistrarea participanților și welcome coffee\n16\,00 – 17\,30:  Sesiunea I \n17\,30 – 17\,45:  Business networking coffee break \n17\,45 – 18\,45:  Sesiunea a II-a\n18\,45 – 19\,00:  Degustare de vin\n19\,00 – 20\,00:  Gala Proprietății Industriale\n20\,00 – 21\,00:  Cină și Degustare de vin \nTaxa de participare este de 350 lei/participant si se va plati conform formularului de participare atasat sau in numerar direct la eveniment. \nPentru inscrieri va rugam sa transmiteti formularul de inscriere la email: membri@ccib.ro. \nTermenul-limita de plata si inregistrare este 8 iunie 2018. \nDescarca Formular inscriere curs
URL:https://ccib.ro/eveniment/contrafacerile-industria-alimentara-si-gala-proprietatii-industriale/
LOCATION:Birou  reprezentare CCIB – Londra\, 1 Belgrave Square\, London\, London\, SW1X 8PH\, United Kingdom
CATEGORIES:Eveniment
ATTACH;FMTTYPE=image/jpeg:https://ccib.ro/wp-content/uploads/2018/06/08_06-CONTRAFACERI-banner_851×315-pixeli.jpg
ORGANIZER;CN="CCIB":MAILTO:office@ccib.ro
END:VEVENT
BEGIN:VEVENT
DTSTART;VALUE=DATE:20180613
DTEND;VALUE=DATE:20180614
DTSTAMP:20260423T235710
CREATED:20180608T091852Z
LAST-MODIFIED:20180608T092045Z
UID:13378-1528848000-1528934399@ccib.ro
SUMMARY:MEDIUL DE AFACERI SUB LUPA CONSILIULUI CONCURENŢEI
DESCRIPTION:Camera de Comert si Industrie a Municipiului Bucuresti si Legal Magazin va invita miercuri\, 13 iunie 2018\, la evenimentul cu tema  MEDIUL DE AFACERI SUB LUPA CONSILIULUI CONCURENŢEI\, editia a IV-a.  \nConferinta si Gala se vor desfasura in Aula Carol I a Palatului Camerei de Comert si Industrie Bucuresti (Str. Ion Ghica\, Nr. 4\, Sector 3\, Bucuresti). \nPrezentarea evenimentului si formularul de inregistrare sunt atasate. \nIn cadrul evenimentului se vor dezbate probleme importante pentru companii\, institutii de stat\, asociatii patronale si profesionale\, intr-un cadru interactiv\, urmand a fi prezentate mai multe studii de caz. \nVorbitori: \n\nSorin Dimitriu\, Președinte\, Camera de Comerț și Industrie București\nBogdan Chirițoiu\, Președinte\, Consiliul Concurenței\nDiana Musliu\, Managing Partner\, Musliu & Asociații\nMihaela Ion\, Avocat Asociat\, Popovici Nițu Stoica & Asociații\nCristian Pârvan\, Președinte\, PIAROM\nAdrian Șter\, Avocat Partener\, Wolf Theiss\n\nAgendă:\n08\,45 – 09\,30: Înregistrarea participanților și welcome coffee\n09\,30 – 11\,30: Sesiunea I\n11\,30 – 12\,00: Business networking coffee break \n12\,00 – 14\,00: Sesiunea a II-a\n14\,00 – 15\,00: Business lunch &  networking \nParteneri: Bayer; Musliu & Asociații; Popovici Nițu Stoica & Asociații; Wolf Theiss \nTaxa de participare este de 350 lei/participant si se va plati conform formularului de participare atasat sau in numerar direct la eveniment. \n \nPentru inscrieri va rugam sa transmiteti formularul de inscriere la email: membri@ccib.ro.\nTermenul-limita de plata si inregistrare este miercuri 13 iunie\, ora 09\,30. \nDescarca Formular inscriere curs
URL:https://ccib.ro/eveniment/mediul-de-afaceri-sub-lupa-consiliului-concurentei/
LOCATION:Birou  reprezentare CCIB – Londra\, 1 Belgrave Square\, London\, London\, SW1X 8PH\, United Kingdom
CATEGORIES:Eveniment
ATTACH;FMTTYPE=image/jpeg:https://ccib.ro/wp-content/uploads/2018/06/06_13-DREPTUL-CONCURENTEI-banner_851×315-pixeli-e1528450095722.jpg
ORGANIZER;CN="CCIB":MAILTO:office@ccib.ro
END:VEVENT
BEGIN:VEVENT
DTSTART;VALUE=DATE:20180619
DTEND;VALUE=DATE:20180622
DTSTAMP:20260423T235710
CREATED:20180613T121033Z
LAST-MODIFIED:20180613T121033Z
UID:13425-1529366400-1529625599@ccib.ro
SUMMARY:CURSUL DE PREGĂTIRE  RESPONSABIL CU PROTECTIA DATELOR CU CARACTER PERSONAL
DESCRIPTION:Camera de Comerț și Industrie a Municipiului București (CCIB) în parteneriat cu The Insource Development Group (TID) organizează in perioada 19 – 21 iunie 2018\, cursul de pregătire „Responsabil cu protecţia datelor cu caracter personal”.  \nEvenimentul se va desfasura la sediul CCIB din str. Ion Ghica nr. 4\, sector 3\, etaj 2\, sala nr.52\, intre orele 10.00 -16.00 \nTeme abordate: \n\nNotiuni introductive privind Regulamentul (UE) 2016/679 protecţia persoanelor fizice în ceea ce priveşte prelucrarea datelor cu caracter personal şi privind libera circulaţie a acestor date\nPrelucrarea datelor personale – rolul DPO.\nRăspundere\, sancțiuni și raporturi de lucru in activitatea DPO\nAtributiile si sarcinile DPO in cadrul companiilor;\nActivitătile DPO în organizație pentru protecția datelor cu carater personal \nRaportul DPO – autoritate nationala – management organizatie – clienti \nProceduri de lucru –  incidente privind compromiterea datelor\nCyber-security awarners – securitatea sistemelor informatice\nScenarii operationale de lucru si studii de caz pentru managementul datelor cu caracter personal.\n\nCostul cursului este de: \n\n1500 lei (TVA inclus)/participant; \n1200 lei (TVA inclus)/participant\, pentru firmele membre ale CCIB cu cotizaţia achitată la zi.\n\nIn cazul firmelor care nu sunt membre ale CCIB este valabil un discount de 10% pentru doi sau mai mulți cursanți din aceeași companie. \nGrupă formată din 10-15 cursanți – Durata – 3 zile (19 ore). \nPrețul include suportul de curs\, coffee break și prânz. \nÎncă din anul 2016 a fost adoptat de către Parlamentul și Consiliul European Regulamentul privind protecția persoanelor fizice în ceea ce priveşte prelucrarea datelor cu caracter personal şi libera circulaţie a acestor date (Regulamentul General privind Protecția Datelor).  \nPentru e elimina riscurile generate de anumite acțiuni/inacțiuni ale personalului firmelor care au calitatea de operatori de date cu caracter personal este necesară dezvoltarea culturii generale de securitate și pregătirea acestora în vederea eliminării situațiilor care crează premisele incidentelor de securitate dar și modul de acțiune la apariția unui astfel de incident. \n Începând cu data de 25 mai 2018\, acest regulament a intrat în vigoare odată cu Directiva privind protecţia datelor prelucrate în scopul prevenirii\, detectării\, investigării şi punerii sub urmărire a infracţiunilor şi a altor activităţi judiciare\, și se aplica în toate statele membre ale Uniunii Europene. \nÎnscriere și modalitate de plată \nPentru inscrierea la curs este nevoie să completați  formularul de înscriere pentru cursul de 3 zile și să-l transmiteți prin e-mail la următoarele adrese: anca.apalaghiei@ccib.ro și office@gdpr-romania.com\, persoane de contact: Anca Apalaghiei (CCIB)\, tel: 0730980807 și Mihaela Bădănace (TID GROUP)\, tel: 0773922979. \n Plata se poate face prin virament bancar în contul The Insource Development Group SRL \nRO67 RZBR 0000 0600 1993 0844\, deschis la Raiffeisen Bank – AG. ROSETTI \nCUI: 28062577 \nDetalii plată: CURS 3 ZILE \nVă rugăm să transmiteți o copie a ordinului de plata la email: anca.apalaghiei@ccib.ro și office@gdpr-romania.com \n\n Plata se poate face și numerar în dimineața primei zile de curs.\n\nFormatori: \n\nLeontin Barbu – consilier juridic TID GROUP România\nUn expert în Cyber Security din cadrul TID GROUP România.\n\nIn cazul in care nu se inruneste numarul minim de cursanti acesta se amana pentru o alta data. \nÎn speranța că acest curs prezintă interes pentru dumneavoastră\, așteptăm confirmarea participării până\, cel mai târziu\, în preziua începerii cursului. \nDescarca Formular inscriere curs
URL:https://ccib.ro/eveniment/cursul-de-pregatire-responsabil-cu-protectia-datelor-cu-caracter-personal/
LOCATION:Birou  reprezentare CCIB – Londra\, 1 Belgrave Square\, London\, London\, SW1X 8PH\, United Kingdom
CATEGORIES:Cursuri,Eveniment
ATTACH;FMTTYPE=image/jpeg:https://ccib.ro/wp-content/uploads/2018/06/banner-site-ccib-GDPR-iunie-2018.jpg
ORGANIZER;CN="CCIB":MAILTO:office@ccib.ro
END:VEVENT
BEGIN:VEVENT
DTSTART;VALUE=DATE:20180620
DTEND;VALUE=DATE:20180621
DTSTAMP:20260423T235710
CREATED:20180618T234443Z
LAST-MODIFIED:20180618T234443Z
UID:13456-1529452800-1529539199@ccib.ro
SUMMARY:SUSTINEREA APLICATA A PROGRAMULUI DE PROMOVARE A EXPORTULUI
DESCRIPTION:Camera de Comert si Industrie a Municipiului Bucuresti (CCIB) partenerul Dvs in promovarea si internationalizarea afacerilor are placerea sa va invite la evenimentul SUSTINEREA APLICATA A PROGRAMULUI DE PROMOVARE A EXPORTULUI organizat de Ministerul pentru Mediul de Afaceri\, Comert sI Antreprenoriat (MMACA) in parteneriat cu CCIB\, miercuri 20 iunie intre orele 9:00 – 14:00 in Aula Carol I din Palatul CCIB. \nDl Stefan-Radu OPREA\, ministru pentru mediul de afaceri\, comert si antreprenoriat\,  va prezenta in alocutiunea Domniei Sale\, preocuparile guvernului si ministerului pentru imbunatatirea programului de export. \nProgramul evenimentului este aici. \nIn vederea participarii la eveniment\,  va rugam sa trimiteti un mail la adresa  gabriela.dobrescu@imm.gov.ro precum si la CCIB\, la persoanele de contact mentionate mai jos:. \nMircea Toader\, tel: 0725 167 894 sau 0723 144 663 mail: mircea.toader@ccib.ro \nSandra Lasculescu: tel 0724 021 848 mail: sandra.lasculescu@ccib.ro \nVa asteptam la eveniment.
URL:https://ccib.ro/eveniment/sustinerea-aplicata-programului-de-promovare-exportului/
LOCATION:Birou  reprezentare CCIB – Londra\, 1 Belgrave Square\, London\, London\, SW1X 8PH\, United Kingdom
CATEGORIES:Eveniment
ATTACH;FMTTYPE=image/jpeg:https://ccib.ro/wp-content/uploads/2018/06/banner-site-ccib-sustinerea-aplicata-final.jpg
ORGANIZER;CN="CCIB":MAILTO:office@ccib.ro
END:VEVENT
BEGIN:VEVENT
DTSTART;VALUE=DATE:20180626
DTEND;VALUE=DATE:20180628
DTSTAMP:20260423T235710
CREATED:20180606T112604Z
LAST-MODIFIED:20180613T120220Z
UID:13359-1529971200-1530143999@ccib.ro
SUMMARY:Cursul RESPONSABIL CU GESTIONAREA DEŞEURILOR
DESCRIPTION:Camera de Comerţ şi Industrie a Municipiului Bucureşti vă invită să participaţi la Cursul RESPONSABIL CU GESTIONAREA DEŞEURILOR ce se va desfăşura la sediul CCIB din str. Ion Ghica nr. 4\, etaj 2\, în perioada 26.06.2018–27.06.2018\, in intervalul orar 13.00-17.00. \nSeminarul se adresează operatorilor economici care produc\, utilizează\, manipulează\, depozitează sau transportă deşeuri nepericuloase şi/sau periculoase. \nIn conformitate cu prevederile Legii nr. 211/25.11.2011\, art. 22\, alin. 3\, deţinătorii/producătorii de deşeuri persoane juridice\, comercianţii\, precum şi operatorii economici autorizaţi pentru efectuarea operaţiunilor de colectare şi transport deşeuri „au obligaţia să desemneze o persoană din randul angajaţilor proprii care să urmarească şi să asigure îndeplinirea obligaţiilor prevăzute de prezenta lege sau să delege această obligaţie unei terţe persoane”. Conform alin. 4 „Persoanele desemnate\, prevăzute la art. 22\, alin. 3\, trebuie să fie instruite în domeniul gestiunii deşeurilor\, inclusiv a deşeurilor periculoase\, ca urmare a absolvirii unor cursuri de specialitate. Nedesemnarea unei persoane cf. art. 22 alin. 3\, constituie contravenţie şi se sancţioneaza cu amendă de la 15.000 lei la 30.000 lei. \nTematica cursului: \nPrezentarea actelor normative care reglementeaza domeniul protectiei mediului referitoare la solicitarea şi obţinerea actelor de reglementare\, precum şi obligaţiile titularilor de activitate impuse prin legislaţia specifică privind regimul deşeurilor\, în conformitate cu prevederile legislaţiei comunitare.  \n\n  Ordonanţa de Urgenţă a Guvernului nr. 195/2005 privind protecţia mediului\, cu modificările şi completările ulterioare cu referire la obligaţiile operatorilor economici faţă de cerinţele impuse prin actele de reglementare privind protecţia mediului- Studii de caz. \n  OM nr.739/2017 privind aprobarea Procedurii de înregistrare a operatorilor economici care nu se supun autorizării de mediu conform prevederilor Legii nr.211/2011 privind regimul deşeurilor.\n  Legea nr. 211/2011 privind regimul deşeurilor – obligaţiile agenţilor economici;\n HG 856/2002 privind evidenţa gestiunii deşeurilor şi pentru aprobarea listei cuprinzând deşeurile\, inclusiv deşeurile periculoase\, cu completările ulterioare;\n HG 1061/2008 privind transportul deşeurilor periculoase şi nepericuloase pe teritoriul României;\n Legea 249/2015 privind gestionarea ambalajelor şi a deşeurilor de ambalaje\, cu modificările şi completările ulterioare;\n Identificarea\, caracterizarea şi codificarea deşeurilor – Studiu de caz.\n Gestionarea deşeurilor şi\, în special\, a anumitor categorii reglementate prin acte normative speciale: uleiurile uzate\, bateriile şi acumulatorii uzaţi\, deşeurile de echipamente electrice şi electronice\, deşeurilor periculoase\, etc.;\n Întocmirea şi raportarea Registrului privind evidenţa deşeurilor nepericuloase şi periculoase.\n Obligaţiile faţă de fondul de mediu în domeniul gestiunii deşeurilor şi ambalajelor.\n Soluții practice pentru conformarea agenților economici cu cerințele legislației de mediu în domeniul deșeurilor. Evitarea sancțiunilor.Trasabilitatea deşeurilor \n Informaţii privind aplicaţiile SIM şi DSS existente pe site-ul ANPM.   \n\nCursul va beneficia de expertiza dnei ing. Magdalena Gheorghe\, consultant în domeniul protecţiei mediului\, având experienţa dobândită în cadrul autorităţilor de mediu\, APM/ANPM şi Garda Naţională de Mediu. \nLa finalul cursurilor se vor elibera certificatele de absolvire emise de Camera de Comerţ şi Industrie a Municipiului Bucureşti. \nTaxa de participare este de 300 lei/participant la care se adaugă TVA şi se poate achita conform formularului de participare anexat. Preţul include: suportul de curs şi eliberarea certificatului de absolvire. \nPentru detalii si inscrieri\, va rugam sa ne contactaţi la tel: 021.319.01.28\, 0730.980.807\, 0730.990.756\, persoane de contact Anca Apalaghiei si/sau Ana Dulgheru. \nFirmele membre ale CCIB cu cotizatia achitata la zi beneficiaza de o reducere de 30% din taxa. \nÎn speranţa că acest eveniment prezintă interes pentru dumneavoastră\, aşteptam confirmarea participării până la data de 22.06.2018 \nDescarca Formular inscriere curs
URL:https://ccib.ro/eveniment/cursul-responsabil-cu-gestionarea-deseurilor/
LOCATION:Birou  reprezentare CCIB – Londra\, 1 Belgrave Square\, London\, London\, SW1X 8PH\, United Kingdom
CATEGORIES:Cursuri,Eveniment
ATTACH;FMTTYPE=image/jpeg:https://ccib.ro/wp-content/uploads/2018/06/banner-site-ccib-gestionarea-deseurilor-iunie-2018.jpg
ORGANIZER;CN="CCIB":MAILTO:office@ccib.ro
END:VEVENT
BEGIN:VEVENT
DTSTART;VALUE=DATE:20180626
DTEND;VALUE=DATE:20180628
DTSTAMP:20260423T235710
CREATED:20180620T180417Z
LAST-MODIFIED:20180621T092033Z
UID:13514-1529971200-1530143999@ccib.ro
SUMMARY:Saptamana Diplomatiei Comerciale
DESCRIPTION:Camera de Comerț și Industrie a Municipiului București (CCIB)\, partenerul dumneavoastră pentru promovarea și internaționalizarea afacerilor\, vă invită la întâlnirile sectoriale ale reprezentanților Ministerului pentru Mediul de Afaceri\, Comerț și Antreprenoriat (MMACA) din cadrul misiunilor diplomatice ale României în străinătate (lista anexata)\, cu mediul de afaceri din România\, firme și companii interesate să-și promoveze produsele și serviciile pe piețele externe. \nIntalnirile mediului de afaceri cu reprezentantii MMACA la CCIB vor avea loc in zilele de marți 26 și miercuri 27 iunie a.c.\, in cadrul celei de-a X-a ediții a ”Săptămânii diplomației comerciale”\, eveniment organizat de Ministerul pentru Mediul de Afaceri\, Comerț și Antreprenoriat în parteneriat cu Camera de Comerț și Industrie a Municipiului București. \nCele doua intalniri sectoriale se vor desfășura în Aula Carol I din Palatul CCIB Business Center\, etaj 2\,  București\, sector 3\, str. Ion Ghica 4\, în zilele de marți 26 și miercuri 27 iunie a.c. dupa următorul program: \n26.06.2018 \n09:00 – 10:00 Alocuțiuni invitați \n10:00 – 10:30 Coffee break \n10:30 – 14:30 Întâlniri B2B ale reprezentanților comerciali MMACA\, acreditați în străinătate  cu firme\, companii și structuri asociative ale mediului de afaceri din domeniile: \n\nIndustria construcțiilor de mașini\, inclusiv livrări complexe;\nAutovehicule și accesorii\, subansamble auto;\nNave și componente;\nAeronave și subansamble;\nIndustria de securitate și apărare;\nIndustria electronică;\nEchipamente și aparate electrice\, electrotehnice și energetice;\nIT&C;\nMetalurgie și siderurgie;\nIndustria petrolului\, foraj.\n\n27.06.2018 \n09:00 – 10:00 Alocuțiuni invitați \n10:00 – 10:30 Coffee break \n10:30 – 14:30 Întâlniri B2B ale reprezentanților comerciali MMACA\, acreditați în străinătate cu firme\, companii și structuri asociative ale mediului de afaceri din domeniile: \n\nIndustria textilă (confecții textile\, tricotaje\, țesături\, etc.) și blănuri;\nDesign vestimentar\, bijuterii și accesorii de lux;\nIndustria pielăriei (încălțăminte\, confecții din piele\, marochinărie);\nProduse alimentare\, inclusiv bio\nVinuri\, băuturi alcoolice\, sucuri de fructe\, apă minerală\, alte băuturi răcoritoare;\nMobilă și prelucrarea lemnului;\nConstrucții și materiale de construcții;\nProduse din cauciuc\, material plastic și termopane;\nProduse chimice\, inclusiv medicamente și cosmetice;\nProduse din sticlă și porțelan;\nProduse de artizanat.\n\nConfirmarea participării la cele două reuniuni sectoriale se face prin mail până la 22.06.a.c. la: \n   – MMACA – Departamentul de Comert Exterior – dna. Mihaela Turbăceanu (mihaela.turbaceanu@dce.gov.ro)\, tel. 021.40.10.511 / 0722.719.109); \n – CCIB – dl. Mircea Toader (mircea.toader@ccib.ro) tel. 0723.144.663 / 0725.167.894 sau dsoara. Sandra.Lăsculescu(sandra.lasculescu@ccib.ro). \nPersoanele menționate pot fi contactate și pentru eventuale alte detalii și clarificări. \nIMPORTANT: Va rugam sa comunicati\, prin mail\, interesul de participare  persoanelor de contact mentionate in invitatie\, precizand oficiile diplomatice romanesti ai caror reprezentanti doriți sa-i intalniti. \nCCIB va asteapta la intalnirile B2B cu reprezentantii misiunilor diplomatice ale României în străinătate! \nLISTA REPREZENTANȚILOR DIN REȚEAUA EXTERNĂ MMACA\,\nPARTICIPANȚI LA „SĂPTĂMÂNA DIPLOMAȚIEI COMERCIALE”
URL:https://ccib.ro/eveniment/saptamana-diplomatiei-comerciale/
LOCATION:Birou  reprezentare CCIB – Londra\, 1 Belgrave Square\, London\, London\, SW1X 8PH\, United Kingdom
CATEGORIES:Eveniment
ATTACH;FMTTYPE=image/jpeg:https://ccib.ro/wp-content/uploads/2018/06/banner-site-ccib-saptamana-diplomatiei-comerciale.jpg
ORGANIZER;CN="CCIB":MAILTO:office@ccib.ro
END:VEVENT
END:VCALENDAR