BEGIN:VCALENDAR
VERSION:2.0
PRODID:-//Camera de Comerţ şi Industrie a Municipiului Bucureşti - ECPv6.15.14//NONSGML v1.0//EN
CALSCALE:GREGORIAN
METHOD:PUBLISH
X-ORIGINAL-URL:https://ccib.ro
X-WR-CALDESC:Evenimente pentru Camera de Comerţ şi Industrie a Municipiului Bucureşti
REFRESH-INTERVAL;VALUE=DURATION:PT1H
X-Robots-Tag:noindex
X-PUBLISHED-TTL:PT1H
BEGIN:VTIMEZONE
TZID:Europe/Moscow
BEGIN:STANDARD
TZOFFSETFROM:+0300
TZOFFSETTO:+0300
TZNAME:MSK
DTSTART:20170101T000000
END:STANDARD
END:VTIMEZONE
BEGIN:VEVENT
DTSTART;VALUE=DATE:20180703
DTEND;VALUE=DATE:20180704
DTSTAMP:20260423T222333
CREATED:20180620T125406Z
LAST-MODIFIED:20180620T125406Z
UID:13503-1530576000-1530662399@ccib.ro
SUMMARY:Conferința Mișcarea patronală – reprezentativitate și forță de dialog social  Ediția I\, 3 iulie 2018
DESCRIPTION:Camera de Comerț și Industrie București\, Revista Patronatelor și Legal Magazin \norganizează conferința\nMișcarea patronală – reprezentativitate și forță de dialog social\nEdiția I\, 3 iulie 2018 \nAula Carol I\nPalatul Camerei de Comerț și Industrie București\nStr. Ion Ghica\, Nr. 4\, București \nPrezentare: \nPrincipalele acte normative care guvernează societatea românească nu sunt dezbătute suficient și nu beneficiază de expertiza patronatelor.  \nRomânia nu are o experienţă consistentă în cultura dialogului social. Din punct de vedere instituţional\, dialogul social nu este 100% funcţional: la nivel central (ministere\, confederaţii) funcţionează acceptabil\, nu însă şi la nivel local (instituţii\, autorităţi publice locale\, servicii publice). Instituţiile prefectului\, structurile administraţiei publice locale\, respectiv Comisiile de Dialog Social constituite în acest context nu joacă un rol activ pentru stimularea şi medierea dialogului între partenerii social; dialogul social are doar un rol consultativ limitat. \nEvenimentul cu tema Mișcarea patronală – reprezentativitate și forță de dialog social își propune să fie un integrator de soluții pentru ca vocea patronatelor să fie respectată și apreciată în negocierile cu Executivul.  \nVorbitori \nPaula Pîrvănescu\, Secretar de Stat\, InvestRomania \nSorin Dimitriu\, Președinte\, Camera de Comerț și Industrie București \nCristian Pârvan\, Președinte\, PIAROM \nRadu Pavel\, Managing Partner\, Pavel\, Mărgărit și Asociații  \nReprezentanți federații și confederații patronale \nReprezentanți asociații profesionale \nTeme de discuție: \nLegea dialogului social \nReprezentativitatea patronatelor \nSoluții pentru coagularea mișcării patronale \nAudiență:  \nDirectori generali\, directori economici\, directori de marketing din companii\, asociaţii patronale şi asociații profesionale\, mass-media  \nAgendă: \n17\,30 – 18\,00: Înregistrarea participanților și welcome coffee \n18\,00 – 20\,00: Prezentări și dezbateri  \n20\,00-20\,45: Gala Patronatelor \n20\,45-21\,30: Cină &  networking  \nContact: \nAlexandru Străuț\, Publisher\, Revista Patronatelor\, 0767 596 988\, redactia@revista-patronatelor.ro \nMircea Fica\, Senior Editor\, Legal Magazin: 0732 903 216\, mircea.fica@legalmagazin.ro
URL:https://ccib.ro/eveniment/conferinta-miscarea-patronala-reprezentativitate-si-forta-de-dialog-social-editia-3-iulie-2018/
LOCATION:Birou  reprezentare CCIB – Londra\, 1 Belgrave Square\, London\, London\, SW1X 8PH\, United Kingdom
CATEGORIES:Conferință,Eveniment
ATTACH;FMTTYPE=image/jpeg:https://ccib.ro/wp-content/uploads/2018/06/07_03-MISCAREA-PATRONALA_banner_851×315-pixeli.jpg
ORGANIZER;CN="CCIB":MAILTO:office@ccib.ro
END:VEVENT
BEGIN:VEVENT
DTSTART;VALUE=DATE:20180718
DTEND;VALUE=DATE:20180720
DTSTAMP:20260423T222333
CREATED:20180628T142712Z
LAST-MODIFIED:20180628T142712Z
UID:13636-1531872000-1532044799@ccib.ro
SUMMARY:Cursul RESPONSABIL CU GESTIONAREA DESEURILOR
DESCRIPTION:Camera de Comerţ şi Industrie a Municipiului Bucureşti va invita sa participaţi la Cursul  RESPONSABIL CU GESTIONAREA DESEURILOR ce se va desfăşura la sediul CCIB din str. Ion Ghica nr. 4\, etaj 2\, în perioada 18-19 iulie 2018\, in intervalul orar 17.30-21.00. \nSeminarul se adreseaza operatorilor economici care produc\, utilizează sau manipuleaza deseuri. \nIn conformitate cu prevederile Legii nr. 211/25.11.2011\, art. 22\, alin. 3\, detinatorii/producatorii de deseuri persoane juridice\, comerciantii\, precum si operatorii economici autorizati pentru efectuarea operatiunilor de colectare si transport deseuri „au obligatia să desemneze o persoană din randul angajatilor proprii care sa urmarească si să asigure indeplinirea obligatiilor prevazute de prezenta lege sau sa delege această obligatie unei terte persoane”. Conform alin. 4 „Persoanele desemnate\, prevazute la art. 22\, alin. 3\, trebuie să fie instruite în domeniul gestiunii deseurilor\, inclusiv a deseurilor periculoase\, ca urmare a absolvirii unor cursuri de specialitate. Nedesemnarea unei persoane cf. art. 22 alin. 3\, constituie contraventie si se sanctioneaza cu amenda de la 15.000 lei la 30.000 lei. \nTematica cursului: \n\nPrezentarea actelor normative care reglementeaza domeniul protectiei mediului (OUG 195/2005 privind protectia mediului);\nLegea 211/2011  – Obligatii si responsabilitati in gestionarea deseurilor;\nNotiuni introductive\, definitii; Notiunea de gestiunea deseurilor\, trasabilitatea deseurilor; Tipuri de operatiuni de valorificare si eliminare;\nIdentificarea\, codificarea deseurilor pe tipuri confrom HG 856/2002; Intocmirea evidentei gestiunii deseurilor;\nResponsabilitatile/obligatiile productatorilor de deseuri;\nTransportul deseurilor\, documente care insotesc transportul deseurilor si cine are responsabilitatea intocmirii lor; Hotararea de Guvern nr. 1061/2008 privind transportul deseurilor;\nGestionarea ambalajelor si deseurilor de ambalaje\, responsabilitati\, conform Legii 249/2015 privind modalitatea de gestionare a ambalajelor şi a deşeurilor de ambalaje;\nFluxuri speciale de deseuri (baterii\, deseuri de echipamente electrice si electrocasnice\, vehicule scoase din uz\, anvelope uzate\, uleiuri\, etc);\nRegulamente europene\, notiuni introductive referitoare la incetarea statutului de deseu;\nCerinte specifice din autorizaţia de mediu legate de deseuri (raportari catre autoritati si modul de intocmire al acestora);\nObligatiile la fondul de mediu in domeniul gestiunii deseurilor;\nStudii de caz privind intocmirea gestiunii deseurilor\, raportarilor catre autoritati si a documentelor de transport.\n\nCursul va beneficia de expertiza dnei dr.ing. Simona Dumitrescu consultant in domeniul protectiei mediului. \nLa finalul cursurilor se vor elibera certificatele de absolvire emise de Camera de Comert si Industrie a Municipiului Bucuresti. \nTaxa de participare este de 300 lei/participant la care se adauga TVA şi se poate achita conform formularului de participare anexat. Pretul include: suportul de curs si eliberarea certificatului de absolvire. \nPentru detalii si inscrieri\, va rugam sa ne contactaţi la tel: 021.319.01.28\, 0730.980.807\, 0730.990.756\, persoane de contact Anca Apalaghiei si/sau Ana Dulgheru\,e-mail:  ana.dulgheru@ccib.ro. \nFirmele membre ale CCIB cu cotizatia achitata la zi beneficiaza de o reducere de 30% din taxa. \nIn speranta ca acest eveniment prezinta interes pentru dumneavoastra\, aşteptam confirmarea participarii pană la data de 16 iulie 2018. \nDescarca Formular inscriere curs
URL:https://ccib.ro/eveniment/cursul-responsabil-cu-gestionarea-deseurilor-2/
LOCATION:Birou  reprezentare CCIB – Londra\, 1 Belgrave Square\, London\, London\, SW1X 8PH\, United Kingdom
CATEGORIES:Cursuri,Eveniment
ATTACH;FMTTYPE=image/jpeg:https://ccib.ro/wp-content/uploads/2018/06/banner-site-ccib-gestionarea-deseurilor-iulie-2018-7.jpg
ORGANIZER;CN="CCIB":MAILTO:office@ccib.ro
END:VEVENT
END:VCALENDAR