BEGIN:VCALENDAR
VERSION:2.0
PRODID:-//Camera de Comerţ şi Industrie a Municipiului Bucureşti - ECPv6.15.14//NONSGML v1.0//EN
CALSCALE:GREGORIAN
METHOD:PUBLISH
X-WR-CALNAME:Camera de Comerţ şi Industrie a Municipiului Bucureşti
X-ORIGINAL-URL:https://ccib.ro
X-WR-CALDESC:Evenimente pentru Camera de Comerţ şi Industrie a Municipiului Bucureşti
REFRESH-INTERVAL;VALUE=DURATION:PT1H
X-Robots-Tag:noindex
X-PUBLISHED-TTL:PT1H
BEGIN:VTIMEZONE
TZID:Europe/Moscow
BEGIN:STANDARD
TZOFFSETFROM:+0300
TZOFFSETTO:+0300
TZNAME:MSK
DTSTART:20170101T000000
END:STANDARD
END:VTIMEZONE
BEGIN:VEVENT
DTSTART;VALUE=DATE:20181009
DTEND;VALUE=DATE:20181010
DTSTAMP:20260423T174331
CREATED:20181003T163800Z
LAST-MODIFIED:20181008T112916Z
UID:14183-1539043200-1539129599@ccib.ro
SUMMARY:Forum de Afaceri România - Egipt
DESCRIPTION:Camera de Comerț și Industrie a Municipiului București (CCIB) are plăcerea de a vă trimite\, anexat\, invitația dlui. prof. univ. dr. ing. Sorin Dimitriu\, presedintele CCIB\, la Forumul de Afaceri Româno – Egiptean\, organizat marţi\, 9 octombrie 2018\, ora 12.30 la Palatul CCIB\, etaj II\, Aula Carol I.  \n  \nLa Forum va participa o delegație de oameni de afaceri din Egipt\, membri ai părții egiptene în Consiliul de Afaceri Româno – Egiptean\, condusă de dl. Ahmed Fouad El Sokkary\, copreședinte al Consiliului\, reprezentant al Asociației Oamenilor de Afaceri din Egipt (EBA). Lista delegației egiptene se anexează. Participarea la Forum este gratuită. \n  \n12:00 – 12:30               Înregistrarea participanţilor \n12:30 – 12:35               Alocuţiune deschidere – Prof. Sorin Dimitriu\, PhD\, Preşedintele  Camerei de Comerţ şi Industrie a Municipiului Bucureşti\, Co-Preşedinte al  Consiliului de Afaceri România – Egipt \n12:35 – 12:40              Alocuţiune deschidere – Ing. Ahmed Fouad El Sokkary\, membru în consiliul EBA (Egyptian Businessmen Association) Co-Preşedinte al  Consiliului de Afaceri România – Egipt \n12:40 – 13:00              Oportunităţi de afaceri şi investiţii în Egipt  \n\nSharef Shafii – responsabil de relaţii cu investitorii\, Secţia de Promovare a Investiţiilor\, Autoritatea Generală pentru Investiţii şi Zone Libere (GAFI);\nTarek Mustafa Hashem\, director\, Zona economică Canalul Suez.\n\n13:00 – 13:10              Oportunităţi de investiţii în România. Prezentare susţinută de dna. Raluca Popa\, consilier\, Ministerul pentru Mediul de Afaceri\, Comerţ şi Antreprenoriat; \n13:10 – 13:20              Oferta EXIMBANK pentru companiile din România  care fac export de bunuri şi servicii\,  inclusiv Egipt – dna. Corina Vulpes\, director divizia Marketing & Comercial\, Finanţare\, Garanţii  şi Asigurare\, EXIMBANK România; \n13:20 – 13:35              “Egipt – oportunităţi de investiţii” – dl. Ovidiu Apostol\, director de Dezvoltare\, Marketing şi Comunicare\, ROMELECTRO S.A. \n13:35 – 14:00              Prezentarea delegaţiei egiptene \n14:00 – 14:15              Sesiune de întrebări şi răspunsuri. \n14:15 – 15:00              Întâlniri de afaceri B2B. \n  \nÎnscrierile la eveniment se primesc la adresele de mail: mircea.toader@ccib.ro ; stefan.toader@ccib.ro și membri@ccib.ro \, iar pentru eventuale informații suplimentare vă puteți adresa dlui. Mircea Toader\, consilier al președintelui CCIB pentru relații internaționale\, tel. 0725 167 894 sau 0723 144 663. \nÎn așteptarea confirmării participării\, vă rog să primiți asigurarea deosebitei noastre considerații \nDescarca Lista firme Egipt  Descarca Invitatie \n 
URL:https://ccib.ro/eveniment/forum-afaceri-egipt-oct2018/
LOCATION:Birou  reprezentare CCIB – Londra\, 1 Belgrave Square\, London\, London\, SW1X 8PH\, United Kingdom
CATEGORIES:Eveniment,Noutati
ATTACH;FMTTYPE=image/jpeg:https://ccib.ro/wp-content/uploads/2018/10/banner-site-ccib-romania-egipt.jpg
ORGANIZER;CN="CCIB":MAILTO:office@ccib.ro
END:VEVENT
BEGIN:VEVENT
DTSTART;VALUE=DATE:20181022
DTEND;VALUE=DATE:20181027
DTSTAMP:20260423T174331
CREATED:20181003T093144Z
LAST-MODIFIED:20181012T084859Z
UID:14179-1540166400-1540598399@ccib.ro
SUMMARY:Curs Responsabil cu Protectia Datelor cu Caracter Personal
DESCRIPTION:Camera de Comert si Industrie a Municipiului Bucuresti (CCIB) in parteneriat cu Professionals Business Knowledge au onoarea de a va invita in perioada 22 – 26 octombrie 2018\, la cursul „Responsabil cu protectia datelor cu caracter personal”\, conform Regulamentului U.E. nr. 679/2016 (G.D.P.R.)\, curs acreditat ANC – cod COR 242 231. \n  \nCompetente si deprinderi obtinute in urma finalizarii cursului cu examen ANC: \n1) Informarea organizatiei si persoanelor vizate cu privire la drepturile si obligatiile lor in baza legislatiei privind protectia datelor cu caracter personal; \n2) Monitorizarea modalitatilor prin care organizatia respecta legislatia privind protectia datelor cu caracter personal si standardele specifice la care organizatia a aderat; \n3) Emiterea de recomandari si oferirea asistentei de specialitate organizatiei cu privire la interpretarea si aplicarea prevederilor legislatiei privind protectia datelor cu caracter personal; \n4) Gestionarea relatiei cu autoritatea de supraveghere in domeniul protectiei datelor cu caracter personal; \n5) Respectarea principiului obiectivitatii in domeniul protectiei datelor cu caracter personal; \n6) Asigurarea si gestionarea registrului de evidenta al prelucrarii datelor cu caracter personal; \n7) Gestionarea si coordonarea resurselor umane\, financiare\, tehnice necesare realizarii sarcinilor si activitatilor specifice domeniului protectiei datelor cu caracter personal; \n8) Dezvoltarea profesionala continua in domeniul protectiei datelor cu caracter personal; \n9) Monitorizarea alocarii instrumentelor si metodelor de imbunatatire a eficacitatii sistemului de management al securitatii datelor cu caracter personal; \n10) Analizarea si evaluarea riscurilor de prelucrare a datelor cu caracter personal. \n  \nLectorii sunt avocati specializati in domeniul protectiei datelor cu caracter personal\, specialisti I.T\, auditori in domeniul securitatii informatiei. Cursul abordeaza aspectele practice cu privire la prelucrarile datelor cu caracter personal ale clientilor\, salariatilor si furnizorilor din organizatie din perspectiva dispozitiilor G.D.P.R. \nCursul se adreseaza persoanelor cu studii superioare\, conform cerintelor din standardul ocupational. \nPot participa si persoane cu studii medii dar acestea nu vor putea sustine examenul recunoscut de ANC si\, in concesinta\, vor primi doar diploma de participare la curs\, emisa de Camera de Comert si Industrie a Municipiului Bucuresti si de Professionals Business Knowledge SRL.  \n  \nPretul  cursului :  2.200 lei/ participant \nPretul cursului pentru firmele membre ale CCIB cu cotizaţia achitată la zi : 2.000 lei/participant \nLa preturile indicate NU se adauga TVA \nPerioada desfasurare curs : 22 – 26 octombrie 2018* \nProgram zilnic: 09 :00 – 17 :00 \nLoc desfasurare : sediul CCIB din str. Ion Ghica  nr. 4\, etaj 2\,  sala Stefan Cerkez \, sector 3\,Bucuresti \n  \nNOTA* : Conform standardului ocupational cod COR 242231\, durata totala a cursului este de 180 de ore (teorie + practica)\, din care 5 zile vor fi in sala de curs\, in perioada mentionata. \n  \n  \n  \nIn pret sunt incluse urmatoarele : \n  \n  \n– Certificat de absolvire ANC si supliment conform    cod COR 242 231; \n– Materialele de curs ; \n– Diploma auditor intern (BONUS !)* ; \n(* pentru cei care absolva examenul) \n– Coffee-breaks si lunch. \n  \nPlata cursului se face in contul bancar al Professionals Business Knowledge SRL \ncod fiscal: 34831314 (fara RO) \nReg. Com.: J/40/9352/2015 \nSediul: Str. Valea Buzaului 3\, bl. G13\, ap. 47\, sector 3\, Bucuresti \nIBAN: RO63CECEB30830RON4063069 \nBanca : CEC BANK \n  \n  \n  \n  \nCompletarea si transmiterea  formularului de inscriere reprezinta comanda dvs. ferma. In urma primirii formularului vom emite o factura proforma pe baza careia se va putea achita taxa de participare. \nContact:           dna. Anca Apalaghiei – 0730.980.807; E-mail:anca.apalaghiei@ccib.ro si/sau                dna. Ana Dulgheru – 0730.990.756; E-mail:ana.dulgheru@ccib.ro   \n  \nDe asemenea\, Professionals Business Knowledge poate ajuta organizatiile sa devina conforme cu cerintele G.D.P.R. prin oferirea unei game variate si complete de servicii dar si cursuri specifice: \n\nGap Analysis si consultanta in implementarea cerintelor Reg. U.E. 679/2016 (G.D.P.R.)\nAudituri de securitate\nAnalize de risc\, scanari de vulnerabilitati si teste de penetrare\nTraining si certificari de personal\nExternalizare D.P.O./servicii de mentenanta pentru asigurarea conformarii continue la cerintele G.D.P.R.\n\n  \nIn speranta ca acest  curs prezinta interes pentru dumneavoastra\, asteptam confirmarea participarii pana la data de 19 octombrie pentru cel din 22 octombrie 2018. \nNu ezitati sa ne contactati pentru informatii suplimentare. \n. \n\n  \nDescarca Formular inscriere 22 octombrie
URL:https://ccib.ro/eveniment/responsabil-cu-protectia-datelor-15-19oct2018-2/
LOCATION:Birou  reprezentare CCIB – Londra\, 1 Belgrave Square\, London\, London\, SW1X 8PH\, United Kingdom
CATEGORIES:Cursuri,Eveniment
ATTACH;FMTTYPE=image/jpeg:https://ccib.ro/wp-content/uploads/2018/10/banner-site-ccib-curs-GDPR-octombrie-2018.jpg
ORGANIZER;CN="CCIB":MAILTO:office@ccib.ro
END:VEVENT
BEGIN:VEVENT
DTSTART;VALUE=DATE:20181025
DTEND;VALUE=DATE:20181026
DTSTAMP:20260423T174331
CREATED:20181023T084024Z
LAST-MODIFIED:20181023T084910Z
UID:14331-1540425600-1540511999@ccib.ro
SUMMARY:Mediul de Afaceri si concurenta
DESCRIPTION:Camera de Comerț și Industrie București și Universul Juridic \norganizează cursul \n  \nMEDIUL DE AFACERI ȘI CONCURENȚA \nsusținut de Diana Musliu\, Managing Partner\, Musliu & Asociații \n25 octombrie 2018 \nSala Ștefan Cerkez\, Etaj 2\, Palatul Camerei de Comerț și Industrie București \nStr. Ion Ghica\, nr. 4\, Sector 3\, București \n  \n  \nPrezentare  \n  \nPrevenirea practicilor anticoncurențiale este mult mai eficientă decât efortul\, organizațional și financiar\, de a parcurge o investigație a Consiliului Concurenței și\, eventual\, a căilor de atac în instanță. Este de aşteptat ca prin asumarea unor politici clare\, ferme şi eficiente\, angajații întreprinderilor\, indiferent de dimensiune\, obiect de activitate\, prezenţă geografică\, să manifeste un interes direct în a se proteja împotriva vulnerabilităţilor şi ameninţărilor ce generează riscuri de încălcare a normelor de concurenţă. \n  \nConsiliul Concurenţei încurajează întreprinderile să îşi implementeze Programe eficiente de conformare cu regulile de concurenţă\, pentru a preveni participarea angajaților la încălcări ale legii concurenței care ar expune întreprinderile la amenzi contravenționale\, de până la 10% din cifra de afaceri\, ori penale atunci când încălcarea constituie infracțiune iar fapta se poate pedepsi cu închisoare de la 6 luni la 5 ani. \n  \nÎn cadrul cursului cu tema MEDIUL DE AFACERI ȘI CONCURENȚA vor fi dezbătute o serie de probleme importante pentru companii\, asociații patronale și profesionale\, din perspectiva dreptului concurenței. \n  \nEvenimentul va fi interactiv\, urmând să fie prezentate studii de caz din România. \n  \nTeme de discuţie:  \n  \n\n Radiografia legii concurenței \n Programul de conformare cu legislaţia concurenţei \n Riscul schimbului de informații în piață și în asociații profesionale \n Acorduri verticale și încălcări prin obiect \n\n  \nParticipanți:  \n\nDirectori juridici din companii româneşti şi multinaţionale din următoarele sectoare economice: Telecom\, Energie\, Farma\, Automotive\, Financiar-Bancar\, Transporturi\, Construcţii\, FMCG; Publicitate;\nDirectori Corporate Affairs şi Directori Compliance;\nReprezentanţi ai băncilor\, societăţilor de asigurări\, firmelor de leasing\, fondurilor de investiţii etc.;\nReprezentanţi/Directori juridici ai companiilor şi instituţiilor de stat.\n\n  \nDiana Musliu are un nivel remarcabil de cunoștințe în drept\, economie\, finanțe și inginerie și o experiență redutabilă în concurență\, consolidată pe parcursul a 14 ani de practică în domeniu. \nA absolvit Facultatea de Drept\, Universitatea din București\, Facultatea de Studii Economice\, Universitatea din Iași și Facultatea de Electronică și Telecomunicații din Iași. \nDiana Musliu este recunoscută pentru calitatea consultanței pe care o oferă clienților și performează în unele dintre cele mai importante și complexe cazuri pe dreptul concurenței din România. \n  \nProgram  \n09\,00-09\,30: Înregistrarea participanților şi welcome coffee \n09\,30-11\,30: Sesiunea I (prezentare Diana Musliu\, Managing Partner\, Musliu & Asociații) \n11\,30-11\,50: Pauză de cafea \n11\,50-14\,00: Sesiunea a II-a (Întrebări și Răspunsuri) \n14\,00-15\,00: Prânz
URL:https://ccib.ro/eveniment/mediul_afaceri_si_concurenta/
LOCATION:Birou  reprezentare CCIB – Londra\, 1 Belgrave Square\, London\, London\, SW1X 8PH\, United Kingdom
CATEGORIES:Cursuri,Eveniment
ATTACH;FMTTYPE=image/jpeg:https://ccib.ro/wp-content/uploads/2018/10/conf-Legal-magazine.jpg
ORGANIZER;CN="CCIB":MAILTO:office@ccib.ro
END:VEVENT
BEGIN:VEVENT
DTSTART;VALUE=DATE:20181029
DTEND;VALUE=DATE:20181030
DTSTAMP:20260423T174331
CREATED:20181024T100550Z
LAST-MODIFIED:20181024T100550Z
UID:14340-1540771200-1540857599@ccib.ro
SUMMARY:ÎNTÂLNIRE DE AFACERI ROMÂNIA – PORTUGALIA
DESCRIPTION:În continuarea programului destinat sprijinirii membrilor săi și în general a mediului de afaceri românesc pentru internaționalizarea afacerilor\, Camera de Comerţ şi Industrie a Municipiului Bucureşti (CCIB) în parteneriat cu Camera de Comerț bilaterală România-Portugalia și cu sprijinul Ambasadei României la Lisabona\,organizează luni\, 29.10.2018\, între orele 11:00 – 14:00 (înregistrarea de la 10:30)\, la Palatul CCIB din str. Ion Ghica nr.4 (vis-a-vis de sediul BNR): \n  \nÎNTÂLNIRE DE AFACERI ROMÂNIA – PORTUGALIA \n  \ndedicată promovării schimburilor comerciale și cooperării economice româno-portugheze. \nEvenimentul se desfăşoară în marja misiunii economice\, organizată de Asociația Antreprenorilor Portughezi  (AEP)\, care se va afla în România în perioada 28 octombrie- 2 noiembrie a.c. Invitat special la acest eveniment va fi un reprezentant al Ministerului pentru Mediul de Afaceri\, Comerț și Antreprenoriat (MMACA). \nLista completă a delegației portugheze cu menționarea domeniilor de activitate poate fi accesată mai jos. \n  \nParticiparea este gratuită\, fiind însă necesară înregistrarea participării le eveniment\, prin mail la adresele: mircea.toader@ccib.ro sau adrian.plesa@ccib.ro \n  \n  \nDescarca lista delegatiei portugheze
URL:https://ccib.ro/eveniment/intalnire-afaceri-portugalia-octombrie2018/
LOCATION:Birou  reprezentare CCIB – Londra\, 1 Belgrave Square\, London\, London\, SW1X 8PH\, United Kingdom
CATEGORIES:Eveniment
ATTACH;FMTTYPE=image/jpeg:https://ccib.ro/wp-content/uploads/2018/10/banner-site-ccib-intalnire-de-afaceri-rom-port.jpg
ORGANIZER;CN="CCIB":MAILTO:office@ccib.ro
END:VEVENT
BEGIN:VEVENT
DTSTART;VALUE=DATE:20181031
DTEND;VALUE=DATE:20181101
DTSTAMP:20260423T174331
CREATED:20181019T095018Z
LAST-MODIFIED:20181022T082808Z
UID:14305-1540944000-1541030399@ccib.ro
SUMMARY:TOPUL FIRMELOR DIN BUCUREŞTI 2018\, ediţia a XXV-a
DESCRIPTION:Camera de Comerț și Industrie a Municipiului București premiază de 25 ani liderii în afaceri! \n  \nDe 25 de ani premiem excelența în toate formele ei! Aducem în lumina reflectoarelor afaceri de succes\, dar nu uităm că înspatele acestora sunt oameni: antreprenori vizionari\, manageri consecvenți\, echipe creative\, implicate și pline de pasiune. \nTopul Firmelor din Bucuresti este singurul clasament al companiilor bucureștene care se supune rigorilor legii și unei metodologii complexe\, implementate unitar de sistemul cameral\, la nivel național. În stabilirea clasamentelor finale au fost luaţi în calcul indicatori precum: cifra de afaceri netă\, profitul din exploatare\, rata profitului din exploatare\, eficienţa utilizării resurselor umane şi eficienţa utilizării capitalului angajat\, calculaţi în baza a 16 elemente extrase din situaţiile financiare depuse de companiila Ministerul Finanţelor Publice şi la Oficiul Naţional al Registrului Comerţului. \nPotrivit metodologiei de top\, dintre cele 130.653 de firme cu sediul social în Capitală\, care au depus bilanţul aferent anului 2017\, au îndeplinit criteriile de eligibilitate 41.987 firme\, adică 32\,1% din total. \nEdiția aniversară Topul Firmelor din Bucuresti 2018 premiază firmele clasate pe primele 10 locuri\, (1-10)\, respectiv 6.922 firme din diferite sectoare de activitate: 1384 din industrie\, 2379 din servicii\, 1973 din comerț\, 240 din turism\, 387 din cercetare-dezvoltare și high-tech\, 144 din agricultură\, silvicultură și pescuit și 415 din construcții. Cele 6.922 companii performante însumează un total de cifră de afaceri de aproape 69 mld euro\, un profit din exploatare de peste 6 mld. Euro și 578.060  de salariați. \nFirmele clasate în Topul Firmelor din Bucuresti vor fi incluse în Catalogul TOPUL FIRMELOR DIN BUCUREŞTI 2018\, ediţia a XXV-a. \nAşa cum v-am obişnuit\, avem şi anul acesta o serie de premii speciale. Acordăm TROFEUL DE EXCELENŢĂ pentru poveştile de succes\, care inspiră şi motivează deopotrivă\, scrise de echipele celor 119 de companii care în ultimii cinci ani s-au clasat constant pe prima poziţie în competiţia elitelor. \nGala Topul Firmelor din Bucureşti 2018 va avea loc miercuri\, 31 octombrie\, la Sala Rondă\, Hotel Intercontinental\, începând cu ora 18:30\, unde vom avea onoarea de a vă înmâna trofeele în prezența unor personalități de prim-plan din spaţiul economic\, academic și diplomatic din România\, alături de managerii celor mai performante companii bucureştene şi reprezentanţi ai mass media.
URL:https://ccib.ro/eveniment/topul-firmelor-2018/
LOCATION:Hotel Intercontinental\, Sala Rondă\, Bulevardul Nicolae Bălcescu 4\, București\, București\, 010051\, România
CATEGORIES:Eveniment
ATTACH;FMTTYPE=image/jpeg:https://ccib.ro/wp-content/uploads/2018/10/banner-site-top-octombrie-2018-ver-2.jpg
ORGANIZER;CN="CCIB":MAILTO:office@ccib.ro
END:VEVENT
BEGIN:VEVENT
DTSTART;VALUE=DATE:20181031
DTEND;VALUE=DATE:20181101
DTSTAMP:20260423T174331
CREATED:20181030T082107Z
LAST-MODIFIED:20181030T082358Z
UID:14383-1540944000-1541030399@ccib.ro
SUMMARY:Conferinta „Excelenta în Medicina si Farmacie”
DESCRIPTION:Camera de Comert si Industrie Bucuresti si Universul Juridic organizeaza conferinta: \nEXCELENTA IN MEDICINA SI FARMACIE \nEditia a II-a\, 31.10.2018\nAula Carol I\, Palatul Camerei de Comert si Industrie Bucuresti\nStr. Ion Ghica\, Nr. 4\, Sector 3\, Bucuresti \n(vis-a-vis de Palatul Bancii Nationale a Romaniei din Str. Doamnei) \nParteneri \n \nParteneri Media \n \nConferinta EXCELENTA IN MEDICINA SI FARMACIE isi propune sa prezinte opiniei publice si profesionistilor din sistem exemple de succes in medicina de stat si in cea privata\, in sectorul farmaceutic si in cel al medicinei dentare. \nVorbitori confirmați: \n– Diana Loreta Păun\, Consilier de Stat\, Departamentul Sănătate Publică\, Administrația Prezidențială – Sistemul sanitar din România\, provocări și oportunități \n– Dr. Alexandru Velicu\, Președinte\, Agenția Națională a Medicamentului și a Dispozitivelor Medicale \n– Prof. dr.  Mircea Cinteză\, Colegiul Medicilor din România – Tehnologii medicale de vârf și celeritatea aducerii lor în România \n – Adrian Ionel\, Director General\, C.N. Unifarm S.A – „Management performant” \n– Marian Pană\, Director Comunicare și Imagine\, Colegiul Farmaciștilor din România – „Întâmplări din viitor” \n– Ec. Ioan Nani\, Director General\, Antibiotice SA – „Compania Antibiotice\, dezvoltare strategică pe piața internațională” \n– Dan Ene\, Director Resurse Umane\, Ropharma: „Ropharma – Cu drag de oameni” \n– Bogdan Moldovan\, șeful secției de chirurgie\, Spitalul Sfântul Constantin din Brașov \n– Dr. Daniel Șipoteanu\, Comandant\, INDCMM „Cantacuzino” \n– Dr. Gabriel Socol\, Șef  Secția Laseri\, Institutul Național pentru Fizica Laserilor\, Plasmei și Radiației – „Tehnologii cu laseri\, plasmă si radiații dedicate tratamentelor medicale avansate” \n– Reprezentant Fundația „Dr. Victor Babeș” \n– Ioan Antofie\, Președinte\, Asociația Națională a Farmaciștilor de Spital din România \n– Cristian Hotoboc\, Președinte\, Patronatul Furnizorilor de Servicii Medicale Private – „Rolul și locul sistemului privat de sănătate în sistemul medical” \n– Horia Radu\, Head of Medical Division\, HTSS  – „Creșterea calității tratamentului medical prin inovație” \n– Av. Laura Scutaru\, Managing Associate\, Pavel\, Mărgărit și Asociații – „Educație juridică în sistemul medical” \n– Mădălina Ciulley\, Sales & Marketing Department\, Tarus Media \n \nTeme de dezbatere: \n\nInvestitii in sistemul privat de sanatate\nManagement performant in spitalele publice\nCe obiective are noua Lege a Sanatatii\nCercetare si inovare in principalele specializari medicale: cardiologie\, oncologie\, neurologie\, pneumologie\, endocrinologie\,\nCercetare si inovare in principalele specializari ale medicinei dentare\nCercetare si inovare in domeniul farmaceutic\nDezvoltarea unui sistem informatic integrat in sistemul de sanatate publica\nFonduri europene pentru constructia\, reabilitarea si modernizarea unitatilor sanitare\nViitorul scolii romanesti de medicina si farmacie\nReformarea sistemului public de asigurare\nAsigurari pivate de sanatate\nConditiile de munca si de plata ale medicilor din Romania\nLiberalizarea profesiei medicale\nProgramele Nationale de Sanatate\nRolul si locul sistemului privat de sanatate in sistemul medical\nPachetul minimal de servicii medicale in asistenta medicala primara\nImportanta preventiei si educatiei in sanatate\nMasuri privind cresterea gradului de satisfactie a asiguratilor fata de calitatea serviciilor\nEvolutia sistemului de coplata\nFinantarea sistemului de sanatate (buget\, fonduri  europene\, PPP-uri\, sistemul bancar\, leasing\, etc.)\nTehnologii si echipamente moderne in sistemul medical\nSecuritatea IT in sistemul medical romanesc\n\nModerator: Madalina Ciulley\,Sales & Marketing Department\, TARUS Media \nAgenda:\n09:00-09:30: Inregistrarea participantilor si welcome coffee\n09:30-11:30: Sesiunea I\n11:30-12:00: Business networking coffee break\n12:00-14:00: Sesiunea a II-a\n14:00-15:00: Business lunch &  networking\n15:00-17:00: Sesiunea a III-a\nAudienta: \nManageri de spitale de stat; Manageri de spitale private; Companii care asigura echipamente\, produse si solutii IT&C\, spitalelor\, clinicilor dentare si medicilor de familie; Medici\, farmacisti\, stomatologi\, asistenti medicali\, asistenti farmacisti; Autoritati locale si central; Asociatii patronale si profesionale; Societati medicale; Societati de asigurare; Mass-media \nContact:\nMircea Fica\, Senior Editor\, Legal Magazin: 0732 903 216\, mircea.fica@universuljuridic.ro\nRoxana Biga\, Project Manager\, Legal Magazin; 0736.366.192\, office@universuljuridic.ro\nTaxa de participare este in valoare de 300 de lei + TVA si include: \n– Participarea la toate sesiunile evenimentului \n– Participarea la pauzele de cafea si la pranz \n– Documentatia oficiala a evenimentului si acces la prezentarile speakerilor \n– Acces la Abonamentul Premium Universul Juridic pe o perioada de 3 luni. \nVa rugam sa va inregistrati accesand link-ul de mai jos \nhttps://www.universuljuridic.ro/ccib-conferinta-excelenta-in-medicina-si-farmacie/
URL:https://ccib.ro/eveniment/conferinta-excelenta-medicina-farmacie/
LOCATION:Birou  reprezentare CCIB – Londra\, 1 Belgrave Square\, London\, London\, SW1X 8PH\, United Kingdom
CATEGORIES:Conferință,Eveniment
ORGANIZER;CN="CCIB":MAILTO:office@ccib.ro
END:VEVENT
END:VCALENDAR