BEGIN:VCALENDAR
VERSION:2.0
PRODID:-//Camera de Comerţ şi Industrie a Municipiului Bucureşti - ECPv6.15.14//NONSGML v1.0//EN
CALSCALE:GREGORIAN
METHOD:PUBLISH
X-WR-CALNAME:Camera de Comerţ şi Industrie a Municipiului Bucureşti
X-ORIGINAL-URL:https://ccib.ro
X-WR-CALDESC:Evenimente pentru Camera de Comerţ şi Industrie a Municipiului Bucureşti
REFRESH-INTERVAL;VALUE=DURATION:PT1H
X-Robots-Tag:noindex
X-PUBLISHED-TTL:PT1H
BEGIN:VTIMEZONE
TZID:Europe/Moscow
BEGIN:STANDARD
TZOFFSETFROM:+0300
TZOFFSETTO:+0300
TZNAME:MSK
DTSTART:20180101T000000
END:STANDARD
END:VTIMEZONE
BEGIN:VEVENT
DTSTART;VALUE=DATE:20190128
DTEND;VALUE=DATE:20190202
DTSTAMP:20260423T113229
CREATED:20190117T095049Z
LAST-MODIFIED:20190117T095647Z
UID:15015-1548633600-1549065599@ccib.ro
SUMMARY:Responsabil cu Protectia Datelor cu Caracter Personal - curs acreditat ANC
DESCRIPTION:  \nCamera de Comert si Industrie a Municipiului Bucuresti (CCIB) in parteneriat cu Professionals Business Knowledge au onoarea de a va invita in perioada 28 ianuarie – 1 februarie 2019\, la cursul acreditat ANC – cod COR 242 231„Responsabil cu protectia datelor cu caracter personal”\, conform Regulamentului U.E. nr. 679/2016 (G.D.P.R.). \n  \nCompetente si deprinderi obtinute in urma finalizarii cursului cu examen ANC: \n1) Informarea organizatiei si persoanelor vizate cu privire la drepturile si obligatiile lor in baza legislatiei privind protectia datelor cu caracter personal; \n2) Monitorizarea modalitatilor prin care organizatia respecta legislatia privind protectia datelor cu caracter personal si standardele specifice la care organizatia a aderat; \n3) Emiterea de recomandari si oferirea asistentei de specialitate organizatiei cu privire la interpretarea si aplicarea prevederilor legislatiei privind protectia datelor cu caracter personal; \n4) Gestionarea relatiei cu autoritatea de supraveghere in domeniul protectiei datelor cu caracter personal; \n5) Respectarea principiului obiectivitatii in domeniul protectiei datelor cu caracter personal; \n6) Asigurarea si gestionarea registrului de evidenta al prelucrarii datelor cu caracter personal; \n7) Gestionarea si coordonarea resurselor umane\, financiare\, tehnice necesare realizarii sarcinilor si activitatilor specifice domeniului protectiei datelor cu caracter personal; \n8) Dezvoltarea profesionala continua in domeniul protectiei datelor cu caracter personal; \n9) Monitorizarea alocarii instrumentelor si metodelor de imbunatatire a eficacitatii sistemului de management al securitatii datelor cu caracter personal; \n10) Analizarea si evaluarea riscurilor de prelucrare a datelor cu caracter personal. \n  \nLectorii sunt avocati specializati in domeniul protectiei datelor cu caracter personal\, specialisti I.T\, auditori in domeniul securitatii informatiei. Cursul abordeaza aspectele practice cu privire la prelucrarile datelor cu caracter personal ale clientilor\, salariatilor si furnizorilor din organizatie din perspectiva dispozitiilor G.D.P.R. \nCursul se adreseaza persoanelor cu studii superioare\, conform cerintelor din standardul ocupational. \nPot participa si persoane cu studii medii dar acestea nu vor putea sustine examenul recunoscut de ANC si\, in consecinta\, vor primi doar diploma de participare la curs\, emisa de Camera de Comert si Industrie a Municipiului Bucuresti si de Professionals Business Knowledge SRL. \n  \nPretul cursului :  1.500 lei/ participant \nPretul cursului pentru firmele membre ale CCIB cu cotizaţia achitată la zi : 1250 lei/participant \nLa preturile indicate NU se adauga TVA \n  \nPerioada desfasurare curs : 28 ianuarie –1 februarie 2019* \nProgram zilnic: 09:30 – 17:00 \nLoc desfasurare : Camera de Comert si Industrie a Municipiului Bucuresti\, str. Ion Ghica nr. 4\, etaj2\, sala Stefan Cerkez\, sector3\, Bucuresti  \n  \nNOTA* : Conform standardului ocupational cod COR 242231\, durata totala a cursului este de 180 de ore (teorie + practica)\, din care 5 zile vor fi in sala de curs\, in perioada mentionata. \n  \nIn pret sunt incluse urmatoarele : \n – Certificat de absolvire ANC si supliment conform cod COR 242 231; \n– Materialele de curs ; \n– Coffee-breaks si lunch. \n  \nPlata cursului se face in contul bancar al Professionals Business Knowledge SRL \ncod fiscal: 34831314 (fara RO) \nReg. Com.: J/40/9352/2015 \nSediul: Str. Valea Buzaului 3\, bl. G13\, ap. 47\, sector 3\, Bucuresti \nIBAN: RO63CECEB30830RON4063069 \nBanca : CEC BANK sucursala Ghica Tei \n  \n  \nPentru inscrierea la curs trebuie sa completati si sa transmiteti formularul de inscriere atasat.  Acest demers reprezinta comanda dvs. ferma. In urma primirii formularului vom emite o factura proforma pe baza careia se va putea achita taxa de participare. \nContact:     dna. Anca Apalaghiei – 0730.980.807; E-mail: anca.apalaghiei@ccib.ro dl. Andrei Parvu–0746.199.869; E-mail: vanzari@training-professionals.ro \n  \nIn speranta ca acest  curs prezinta interes pentru dumneavoastra\, asteptam confirmarea participarii pana la data de 23 ianuarie 2019. \nNu ezitati sa ne contactati pentru informatii suplimentare. \n\n  \nDescarca Formular inscriere
URL:https://ccib.ro/eveniment/curs-responsabil-cu-protectia-datelor-cu-caracter-personal-ian2019/
LOCATION:Birou  reprezentare CCIB – Londra\, 1 Belgrave Square\, London\, London\, SW1X 8PH\, United Kingdom
CATEGORIES:Cursuri,Eveniment
ATTACH;FMTTYPE=image/png:https://ccib.ro/wp-content/uploads/2019/01/banner-curs-GDPR.png
END:VEVENT
BEGIN:VEVENT
DTSTART;VALUE=DATE:20190206
DTEND;VALUE=DATE:20190207
DTSTAMP:20260423T113229
CREATED:20190130T101327Z
LAST-MODIFIED:20190130T101327Z
UID:15112-1549411200-1549497599@ccib.ro
SUMMARY:SpeechXRays: prima soluţie de biometrie vocală calibrată pe limba româna
DESCRIPTION:  \nCamera de Comert si Industrie a Municipiului Bucuresti are placerea de a vă invita miercuri\, 6 februarie 2019\, în Aula CAROL I din Palatul Camerei de Comerț și Industrie București (str. Ion Ghica nr. 4\, sector 3\, etaj 2) la evenimentul „SpeechXRays: prima solutie de biometrie vocala calibrata pe limba romana” în cadrul căruia reprezentanții IDEMIA – Franța\, SIVECO – România și IFIN-HH – România vor prezenta soluția biometrică multimodală (recunoaștere vocală și facială) dezvoltată în cadrul Proiectului European SpeechXRays. Multi-channel biometrics combining acoustic and machine vision analysis of speech\, lip movement and face (http://www.speechxrays.eu). \n  \nSoluția biometrică dezvoltată în cadrul Consorțiului European SpeechXRays (din care mai fac parte VoiceTrust – Germania\, RealEyes – Marea Britanie și University College London – Marea Britanie) este prima de acest fel calibrată pentru limba română și reprezintă o premieră pe piața de securitate digitală din România. \n  \nPrin organizarea acestui eveniment\, Camera de Comerț și Industrie București deschide calea către parteneriate economice și colaborări științifice între membrii camerei și firmele din cadrul consorțiului european SpeechXRays. \n  \nAgenda evenimentului este: \n\n10:00 – 10:15  Cuvânt introductiv (Sorin Dimitriu – CCIB\, Dan Enache – IFIN-HH\, Radu Jugureanu – SIVECO)\n10:15 – 10:45  Identity in the Digital World. A survey of recent innovative solutions from IDEMIA (Claude Bauzou – IDEMIA)\n10:45 – 11:15  Soluțiile SIVECO pentru provocările lumii digitale (Iacob Crucianu – SIVECO)\n11:15 – 11:45  SpeechXRays: prima soluție de biometrie vocală calibrată pe limba română (Alexandru Nicolin – IFIN-HH)\n11:45 – 12:15  Sesiune de întrebări\n\n  \nAccesul este gratuit. \n  \nVa rugam sa confirmati participarea la email membri@ccib.ro pana in data de 5.02.2019. \n  \n 
URL:https://ccib.ro/eveniment/speechxrays/
LOCATION:Birou  reprezentare CCIB – Londra\, 1 Belgrave Square\, London\, London\, SW1X 8PH\, United Kingdom
CATEGORIES:Eveniment
ATTACH;FMTTYPE=image/jpeg:https://ccib.ro/wp-content/uploads/2019/01/SpeechXRays-CCIB-1.jpg
ORGANIZER;CN="CCIB":MAILTO:office@ccib.ro
END:VEVENT
BEGIN:VEVENT
DTSTART;VALUE=DATE:20190213
DTEND;VALUE=DATE:20190215
DTSTAMP:20260423T113229
CREATED:20190130T093803Z
LAST-MODIFIED:20190130T094358Z
UID:15107-1550016000-1550188799@ccib.ro
SUMMARY:Cursul RESPONSABIL CU GESTIONAREA DESEURILOR
DESCRIPTION:  \nCamera de Comert si Industrie a Municipiului Bucuresti va invita sa participati la Cursul RESPONSABIL CU GESTIONAREA DESEURILOR ce se va desfasura la sediul CCIB din str. Ion Ghica nr. 4\, etaj 2\, in perioada 13–14 februarie 2019\, in intervalul orar 13.00-17.00. \n  \nSeminarul se adreseaza operatorilor economici care produc\, utilizeaza\, manipuleaza\, depoziteaza sau transporta deseuri nepericuloase si/sau periculoase\, persoane juridice\, care detin autorizatie/autorizatie integrata de mediu. \n  \nIn conformitate cu prevederile OUG nr. 74/2018 pentru modificarea si completarea Legii nr. 211/2011\, a Legii nr. 249/2015 si a OUG nr. 196/2005 privind Fondul de mediu\, cu modificarile si completarile ulterioare „persoanele juridice\, care detin autorizatie/autorizatie integrata de mediu au obligatia sa desemneze o persoana\, din randul angajatilor proprii\, care sa urmareasca si sa asigure indeplinirea obligatiilor prevazute de prezenta lege sau sa delege aceasta obligatie unei terte persoane”. \nPersoanele desemnate trebuie sa fie instruite in domeniul gestiunii deseurilor\, inclusiv a deseurilor periculoase\, ca urmare a absolvirii unor cursuri de specialitate. Nedesemnarea unei persoane constituie contraventie si se sanctioneaza cu amenda conform legii. \n  \nTematica cursului: \nPrezentarea actelor normative care reglementeaza domeniul protectiei mediului referitoare la solicitarea si obtinerea actelor de reglementare\, precum si obligatiile titularilor de activitate impuse prin legislatia specifica privind regimul deseurilor\, in conformitate cu prevederile legislatiei comunitare. \n\nOrdonanta de Urgenta a Guvernului nr. 74/2018 pentru modificarea si completarea Legii nr. 211/2011 privind regimul deseurilor\, a Legii nr. 249/ 2015 privind modalitatea de gestionare a ambalajelor si deseurilor de ambalaje si a OUG nr. 196/2005 privind Fondul de mediu.\nOrdonanta de Urgenta a Guvernului nr. 195/2005 privind protectia mediului\, cu modificarile si completarile ulterioare cu referire la obligatiile operatorilor economici fata de cerintele impuse prin actele de reglementare privind protectia mediului- studii de caz.\nOM nr.739/2017 privind aprobarea Procedurii de inregistrare a operatorilor economici care nu se supun autorizarii de mediu conform prevederilor Legii nr.211/2011 privind regimul deseurilor.\nLegea nr. 211/2011 privind regimul deseurilor – obligatiile agentilor economici;\nHG 856/2002 privind evidenta gestiunii deseurilor si pentru aprobarea listei cuprinzând deseurile\, inclusiv deseurile periculoase\, cu completarile ulterioare;\nHG 1061/2008 privind transportul deseurilor periculoase si nepericuloase pe teritoriul României;\nLegea 249/2015 privind gestionarea ambalajelor si a deseurilor de ambalaje\, cu modificarile si completarile ulterioare;\nIdentificarea\, caracterizarea si codificarea deseurilor – studiu de caz.\nGestionarea deseurilor si\, in special\, a anumitor categorii reglementate prin acte normative speciale: uleiurile uzate\, bateriile si acumulatorii uzati\, deseurile de echipamente electrice si electronice\, deseurilor periculoase\, etc.;\nIntocmirea si raportarea Registrului privind evidenta deseurilor nepericuloase si periculoase.\nObligatiile fata de fondul de mediu in domeniul gestiunii deseurilor si ambalajelor.\nSolutii practice pentru conformarea agentilor economici cu cerintele legislatiei de mediu in domeniul deseurilor. Evitarea sanctiunilor.Trasabilitatea deseurilor\nInformatii privind aplicatiile SIM si DSS existente pe site-ul ANPM.\n\n  \nCursul va beneficia de expertiza dnei ing. Magdalena Gheorghe\, consultant in domeniul protectiei mediului\, având experienta dobândita in cadrul autoritatilor de mediu\, APM/ANPM si Garda Nationala de Mediu. \nLa finalul cursurilor se vor elibera certificatele de absolvire emise de Camera de Comert si Industrie a Municipiului Bucuresti. \n  \nTaxa de participare este de 300 lei/participant la care se adauga TVA si se poate achita conform formularului de participare anexat. Pretul include: suportul de curs si eliberarea certificatului de absolvire. \nFirmele membre ale CCIB cu cotizatia achitata la zi beneficiaza de o reducere de 30% din taxa. \n  \nPentru inscrieri va rugam sa transmiteti formularul de participare completat\, la adresa de e-mail: Anca Apalaghiei. \nPentru alte detalii va rugam sa ne contactati la tel: 021.319.01.28\, 0730.980.807\,e-mail: anca.apalaghiei@ccib.ro\, persoana de contact Anca Apalaghiei. \nIn speranta ca acest eveniment prezinta interes pentru dumneavoastra\, asteptam confirmarea participarii pana la data de 12.02.2019. \n  \n  \n\n  \nDescarca Formular inscriere
URL:https://ccib.ro/eveniment/cursul-responsabil-cu-gestionarea-deseurilor-feb2019/
LOCATION:Birou  reprezentare CCIB – Londra\, 1 Belgrave Square\, London\, London\, SW1X 8PH\, United Kingdom
CATEGORIES:Cursuri,Eveniment
ATTACH;FMTTYPE=image/jpeg:https://ccib.ro/wp-content/uploads/2019/01/banner-site-deseuri-feb-2019.jpg
ORGANIZER;CN="CCIB":MAILTO:office@ccib.ro
END:VEVENT
BEGIN:VEVENT
DTSTART;VALUE=DATE:20190228
DTEND;VALUE=DATE:20190301
DTSTAMP:20260423T113229
CREATED:20190225T100405Z
LAST-MODIFIED:20190225T100648Z
UID:15180-1551312000-1551398399@ccib.ro
SUMMARY:Conferința „Forumul de mediu”\, ediția a IV-a
DESCRIPTION:Camera de Comerț și Industrie București și Editura Universul Juridic \norganizează \n„Forumul de mediu”\, ediția a IV-a \n  \nJoi\, 28 februarie 2019 \nAula Carol I\, Palatul Camerei de Comerț și Industrie București \nStr. Ion Ghica nr. 4\, Sector 3\, București \n  \nALS Life Sciences Romania este noul partener al Forumului de Mediu\, ediția a IV-a \nNe bucurăm să anunțăm că ALS Life Sciences România\, cunocută o bună perioadă drept LABORATOARELE TONNIE\, este noul partener al Forumului de Mediu\, pe care Universul Juridic și Camera de Comerț și Industrie București îl organizează joi\, 28 februarie 2019\, ora 9.00\, în Aula Carol I\, Etaj 2\, a Palatului Camerei de Comerț și Industrie București\, Str. Ion Ghica\, Nr. 4\, Sector 3\, București. \nAlături de Casa de Avocatură Schoenherr și Asociații\, unul dintre liderii pieței asistenței juridice pentru business\, ALS Life Sciences România va aduce\, indubitabil\, valoare adăugată evenimentului. Compania este primul laborator privat de analize de mediu din Romania\, dar și unul dintre pionierii în analize și tratarea apelor. ALS are peste 20 de ani de experiența în cercetare și practica analizei apelor reziduale\, condiționarea și tratarea apelor de răcire și conservarea fluidelor pentru prelucrarea metalelor și microbiologie industrială. \n  \nAudiența: Autorități publice (Ministerul Mediului\, Departamentul Guvernului pentru Dezvoltare Durabilă)\, asociații de profil\, companii care furnizează echipamente și soluții pentru protecția mediului\, analiști și consultanți specializați pe probleme eco și protecție a mediului\, avocați specializați în Dreptul Mediului\, ONG-uri de profil\, mass media \n  \nTeme de discuție: \n– Impactul viitoarelor modificări legislative în domeniul reciclării deșeurilor asupra consumatorilor și a mediului de business; \n– „Plătești pentru cât arunci” – de la concept la practică; \n– Finanțare pentru infrastructura de mediu; \n– Viitorul economiei circulare în România; \n– Etapele implementării Agendei 2030 pentru Dezvoltare Durabilă: Implicații pentru politica de mediu a UE; \n– Soluții\, studii de caz\, povești de succes din zona de gestionare a deșeurilor. \n  \nPropuneri vorbitori: \n– László Borbély\, coordonatorul Departamentului pentru Dezvoltare Durabilă al Guvernului României \n–  Cosmin Dorin Teodoru\, Director General\, Direcția Generală Deșeuri\, Situri Contaminate și Substanțe Periculoase\, Ministerul Mediului \n– Raul Pop\, membru fondator\, Coaliția pentru Economie Circulară \n– Mihaela Frăsineanu\, Director\, Direcția Protecția Mediului\, Direcția Generală de Pregătire și Monitorizare Proiecte de Infrastructură Rutieră\, Compania Națională de Administrare a Infrastructurii Rutiere \n– Florentin State\, Country Manager\, ALS Life Sciences Romania \n– Luminița Roșca\, Manager\, Departamentul de Mediu\, Green Enviro Solutions \n– Reprezentanți societăți de avocatură \n– Reprezentanți ai companiilor specializate în furnizarea de soluții de gestionare și reciclare a deșeurilor \n  \nAgenda: \n09\,00-09\,30: Înregistrarea participanților \n09\,30-11\,30: Sesiunea I \n11\,30-12\,00: Pauză de cafea & discuții cu presa \n12\,00-14\,00: Sesiunea a II-a \n14\,00-15\,00: Masa de prânz\, networking \n  \nPromovare: evenimentul este promovat pe paginile online ale Grupului Universul Juridic\, www.universuljuridic.ro\, www.ujmag.ro\, www.legalmagazin.ro și pe paginile de pe Facebook aferente\, iar concluziile vor fi publicate într-un material amplu\, ilustrat\, în paginile ediției tipărite a revistei Legal Magazin din luna martie 2019. \nTaxa de participare este în valoare de 300 lei (inclusiv TVA) și include: \nParticiparea la toate sesiunile evenimentului \nParticiparea la pauzele de cafea \nDocumentația oficială a evenimentului \nPentru detalii despre participare vă rugăm să ne contactați la adresa conferintele@universuljuridic.ro. \n 
URL:https://ccib.ro/eveniment/forum-mediu-editia-iv/
LOCATION:Birou  reprezentare CCIB – Londra\, 1 Belgrave Square\, London\, London\, SW1X 8PH\, United Kingdom
CATEGORIES:Conferință,Eveniment
ATTACH;FMTTYPE=image/jpeg:https://ccib.ro/wp-content/uploads/2019/02/conferinta-forumul-de-mediu1920X1080.jpg
ORGANIZER;CN="CCIB":MAILTO:office@ccib.ro
END:VEVENT
END:VCALENDAR