BEGIN:VCALENDAR
VERSION:2.0
PRODID:-//Camera de Comerţ şi Industrie a Municipiului Bucureşti - ECPv6.15.14//NONSGML v1.0//EN
CALSCALE:GREGORIAN
METHOD:PUBLISH
X-ORIGINAL-URL:https://ccib.ro
X-WR-CALDESC:Evenimente pentru Camera de Comerţ şi Industrie a Municipiului Bucureşti
REFRESH-INTERVAL;VALUE=DURATION:PT1H
X-Robots-Tag:noindex
X-PUBLISHED-TTL:PT1H
BEGIN:VTIMEZONE
TZID:Europe/Moscow
BEGIN:STANDARD
TZOFFSETFROM:+0300
TZOFFSETTO:+0300
TZNAME:MSK
DTSTART:20180101T000000
END:STANDARD
END:VTIMEZONE
BEGIN:VEVENT
DTSTART;VALUE=DATE:20190509
DTEND;VALUE=DATE:20190510
DTSTAMP:20260423T064551
CREATED:20190507T080048Z
LAST-MODIFIED:20190507T080048Z
UID:15402-1557360000-1557446399@ccib.ro
SUMMARY:Odiseea aparatelor de marcat electronice fiscale cu jurnal electronic\, Ediția a III-a
DESCRIPTION:Odiseea aparatelor de marcat electronice fiscale cu jurnal electronic\, Ediția a III-a  \nData 09 mai 2019\nLocația Aula Carol I\, Palatul Camerei de Comerț și Industrie București\, Str. Ion Ghica\, Nr. 4\, București \n  \nUniversul Juridic și Camera de Comerț și Industrie a Municpiului București organizează evenimentul Odiseea aparatelor de marcat electronice fiscale cu jurnal electronic\, Ediția a III-a. \nEvenimentul va avea loc la 9 mai 2019\, fiind găzduit de Aula Carol I\, Palatul Camerei de Comerț și Industrie București\, Str. Ion Ghica\, Nr. 4\, București. \nDupa cum se știe\, prin intermediul O.U.G. nr. 44/2018\, firmele au fost obligate să se doteze cu aparate de marcat cu jurnal electronic\, după un calendar amânat: până la 1 septembrie 2018\, în loc de 1 iunie 2018 –  contribuabilii mari sau mijlocii și până la 1 noiembrie 2018\, în loc de 1 august 2018\,  în cazul contribuabililor mici. \nDeși agitația de la final de an s-a mai stins\, Ministerul Finanțelor Publice și ANAF se arată interesate de continuarea proiectului „noile case de marcat”. La acest moment\, din punctul de vedere al celor direct implicați în problemă\, utilizatorii de case de marcat din Romania par împărțiți în două tabere: una a celor care s-au dotat cu noile case de marcat și care se simt păcăliți atunci când se uită la cei care nu le-au achiziționat nu au primit nici o sancțiune și o tabără a celor care nu au achiziționat noile case și care așteaptă. Ce așteaptă? \nLipsa sancțiunilor la controalele a fost cerută chiar de Ministerului Finanțelor\, în contextul în care autoritățile au știut  foarte bine că firmele au avut dificultăți majore să-și procure noile case de marcat\, din cauza ofertei destul de reduse a distribuitorilor. \nÎntre timp situația s-a schimbat. Până în martie 2019\, potrivit datelor oficiale\, firmele au instalat deja aproape 310.000 de case de marcat cu jurnal electronic\, în timp ce alte aproape 80.000 au fost cumpărate de firme și sunt în curs de instalare. Numărul total de aparate fiscale care ar trebui instalate însă se ridică la 700.000-750.000. Pe stocul firmelor de distribuție sunt în prezent circa 100.000 de noi case de marcat care își așteaptă cumpărătorii. Si in taximetrie vor trebui schimbate casele de marcat pentru fiecare autoturism taxi\, obligativitate impusă ferm după 31 ianuarie 2019. De vreme ce MFP și ANAF au constatat o reducere a interesului firmelor\, au decis să înceapă controale riguroase. \nÎn cadrul conferinței cu tema ODISEEA APARATELOR DE MARCAT ELECTRONICE FISCALE CU JURNAL ELECTRONIC ÎN COMERȚUL DIN ROMÂNIA\, ediția a III-a\, propunem enumerarea și dezbaterea ultimele noutăți  – certificările necesare\, fiscalizare\, norme\, sancțiuni\, mentenanță\, detalii tehnice\, training\, etc. – despre acest proces extrem de important pentru comercianți și pentru bugetul statului. \n  \nTeme propuse: \n– Stadiul echipării firmelor din România cu noi case de marcat fiscale după 6 luni de la momentul obligativității schimbării acestora. Ritmul de atribuire a seriilor fiscale și de instalare a aparatelor de marcat cu jurnal electronic. \n– Inițiativa lansării unui proiect de lucru între Ministerul Finanșelor Publice/ANAF și Patronatul caselor de marcat din Romania pe tema simplificării și fluidizării operațiunilor cu noile case de marcat. \n– Algoritmul de transmitere online către ANAF a datelor privind vânzările prin fișiere semnate electronic cu certificate calificat \n– Omologarea noilor case de marcat. Case de marcat pentru benzinării și magazine duty-free. \n– Reutilizarea caselor de marcat ale firmelor radiate de ONRC. Firmele de service case de marcat – victime colaterale în acțiunea de radiere? \n– Precizările ANAF cu privire la perioada în care casele de marcat defecte sunt în reparație \n– Noile case de marcat pentru taximetre\, obligatorii de la 31 ianuarie 2019 \n– Controlalele ANAF – principalele cerințe și sancțiuni. Capcane și recomandări. \n  \nAudiență \nOficiali din Ministrul Finanțelor\, ANAF\, Institutul Național de Cercetare-Dezvoltare în Informatică (ICI)\, Asociația Distribuitorilor de Aparate Electronice Fiscale din România\, Patronatul Comercianților și Servisanților de Case de Marcat din România\,  Asociația pentru Plăți Electronice din România (APERO)\, ANPC\, furnizori de echipamente\, operatori telecom\, middle management din zona de retail\, consultanți independenți\, firme de avocatură\, presă de specialitate. \n  \nPropuneri vorbitori: \nIonuț Cojocaru\, Șef Serviciu\, Direcția generală de legislație\, Cod procedură fiscală\, reglementări nefiscale și contabile\, Ministerul Finanțelor Publice \nMarian Anghelescu\, Președintele Patronatului Comercianților și Servisanților de Case de Marcat din România \nReprezentant Institutul Național de Cercetare-Dezvoltare în Informatică – ICI București \nGeorge Anghel\, Director Executiv\, APERO (Asociația de Plăți Electronice din România) \n  \nAgendă: \n08\,45-09\,30: Înregistrarea participanților și welcome coffee \n09\,30-11\,30: Sesiunea I \n11\,30-12\,00: Business networking coffee break \n12\,00-14\,00: Sesiunea a II-a \n14\,00-15\,00: Business lunch &  networking \n  \nTaxa de participare este 300 lei (TVA inclus) și oferă accesul general la conferință\, documentație\, prezentări\, pauzele de cafea și prânzul de lucru. \nContact: \nMircea Fica\, Editor\, Director Editorial\, 0732 903 216\, mircea.fica@universuljuridic.ro \nCristian Pavel\, Director Dezvoltare\, 0744656568\, cristian.pavel@universuljuridic.ro \nRoxana Biga\, Project Manager; 0736.366.192\, roxana.biga@universuljuridic.ro \n 
URL:https://ccib.ro/eveniment/odiseea-aparatelor-marcat-ed3/
LOCATION:Birou  reprezentare CCIB – Londra\, 1 Belgrave Square\, London\, London\, SW1X 8PH\, United Kingdom
CATEGORIES:Eveniment
ATTACH;FMTTYPE=image/jpeg:https://ccib.ro/wp-content/uploads/2019/05/Banner-9-mai.jpg
ORGANIZER;CN="CCIB":MAILTO:membri@ccib.ro;
END:VEVENT
BEGIN:VEVENT
DTSTART;VALUE=DATE:20190516
DTEND;VALUE=DATE:20190517
DTSTAMP:20260423T064551
CREATED:20190422T085325Z
LAST-MODIFIED:20190422T085325Z
UID:15378-1557964800-1558051199@ccib.ro
SUMMARY:Digital Tour 2019: Mai mult decât o simplă Transformare Digitală
DESCRIPTION:  \n\nEști distribuitor de software sau hardware?\nEști integrator de sistem?\nEști companie IT&C?\n\n\nSchimbă-ți punctul de vedere și devino digital! TeamSystem și BITSoftware prezintă Digital Tour 2019\n\nNu te limita și nu te mulțumi cu același software! Începând de astăzi\, alături de TeamSystem și BITSoftware\, vei beneficia de soluții alternative ușor de integrat\, pe care le vei putea oferi clienților tăi.\nÎnscrie-te la unul dintre evenimentele noastre și află mai multe despre TeamSystem și BITSoftware.\n  \nProgram \n\n\n11:00 – 11:30 Înregistrarea participanților \n\n\n11:30 – 12:15 Speaker invitat – Dan Mocanu: Schimbările afacerilor determinate de digitalizare \n\n\n12:15 – 13:00 Prezentarea și propunerea BITSoftware și TeamSystem \n\n\n13:00 – 15:00 Networking cu sesiuni One-to-One și standuri de produse \n\n\n  \nInscriere
URL:https://ccib.ro/eveniment/digital-tour-2019/
LOCATION:Birou  reprezentare CCIB – Londra\, 1 Belgrave Square\, London\, London\, SW1X 8PH\, United Kingdom
CATEGORIES:Eveniment
ATTACH;FMTTYPE=image/jpeg:https://ccib.ro/wp-content/uploads/2019/04/digitaltour.jpg
ORGANIZER;CN="CCIB":MAILTO:membri@ccib.ro;
END:VEVENT
BEGIN:VEVENT
DTSTART;VALUE=DATE:20190522
DTEND;VALUE=DATE:20190523
DTSTAMP:20260423T064551
CREATED:20190508T083722Z
LAST-MODIFIED:20190521T084353Z
UID:15405-1558483200-1558569599@ccib.ro
SUMMARY:FOCUS BUCUREȘTI: Infrastructura de transport: provocări și soluții inteligente
DESCRIPTION:Camera de Comerț și Industrie a Municipiului București are plăcerea de a vă anunța organizarea\, în data de 22 mai 2019\, a celei de a II-a ediții a Conferinței anuale FOCUS BUCUREȘTI\, eveniment care are ca principal obiectiv facilitarea dialogului dintre mediul privat și autoritățile publice\, pe teme de strictă actualitate a Capitalei. \nÎn cadrul ediției din acest an\, vă propunem să dezbatem tema – Infrastructura de transport: provocări și soluții inteligente\, pentru că fără îndoială\, infrastructura de transport se numără printre factorii cei mai importanţi ai competitivităţii economice naționale sau regionale\, alături de regimul fiscal\, de infrastructura tehnologică şi de cercetare sau de nivelul de pregătire al forţei de muncă. \nDe asemenea\, creșterea economică determină o creștere a nevoilor de transport chiar mai accentuată\, creând o presiune suplimentară asupra infrastructurii existente. Mai mult decât atât\, în București\, congestia traficului devine tot mai problematică și impune o nouă planificare a modelului de transport urban. \nFOCUS BUCUREȘTI reprezintă o nouă etapă în dezvoltarea activității Camerei de Comerț și Industrie a Municipiului București\, al carui scop declarat este acela de a oferi o platformă de afaceri și de dezbateri practice și propuneri\, menite să contribuie la modernizarea legislației de afaceri și a mediului de business în general. \nEvenimentul va reuni importanţi reprezentanţi ai comunităţii de afaceri din Bucureşti\, precum şi înalţi funcţionari ai statului\, cu scopul de a identifica împreună cu mediul de afaceri şi specialişti în diverse domenii economice\, cele mai bune soluţii şi practici ce pot consolida imaginea Bucureştiului de metropolă modernă a business-ului european. \nA G E N D A  \n  \n\n\n\n09:30 – 10:00\nÎnregistrarea participanților\n\n\n10:00 – 12:00\nINFRASTRUCTURA DE TRANSPORT: PROVOCĂRI ȘI SOLUȚII INTELIGENTE\n\n\n \n  \n\nDomnul  univ. dr. Sorin DIMITRIU\, Presedinte\n\nCAMERA DE COMERȚ ȘI INDUSTRIE A MUNICIPIULUI BUCUREȘTI \n\nDomnul Sorin Chiriță\, City Manager București (TBC)\n\nPRIMĂRIA MUNICIPIULUI BUCUREȘTI \n\nDomnul Daniel Florea\, Primar\n\nPRIMARIA SECTORULUI 5\, BUCUREȘTI \n–           Domnul Alin Șerbănescu\, Purtator de cuvânt  \nCOMPANIA NATIONALA DE ADMINISTRARE A INFRASTRUCTURII RUTIERE \n\nDoamna Aura Răducu\, Director \n\nASOCIAȚIA DE DEZVOLTARE INTERCOMUNITARĂ PENTRU TRANSPORT PUBLIC BUCUREȘTI-ILFOV \n\nDomnul Bogdan Vulpe\, Business Development Manager\n\nTPARK \n\nDoamna Raluca Badau\, Principal Banker\, Infra Europe \n\nBANCA EUROPEANĂ PENTRU RECONSTRUCȚIE ȘI DEZVOLTARE (BERD) \n\nDomnul Cristian Dragu\, Vicepreședinte\n\nASOCIAȚIA ROMÂNĂ PENTRU SMART CITY ȘI MOBILITATE\n\n\n12:00-12:30\nÎntrebări și răspunsuri\n\n\n12:30 – 13:00\nPauza de cafea și networking\n\n\n\nInscriere \n 
URL:https://ccib.ro/eveniment/focus-bucuresti-ed2/
LOCATION:Birou  reprezentare CCIB – Londra\, 1 Belgrave Square\, London\, London\, SW1X 8PH\, United Kingdom
CATEGORIES:Eveniment
ATTACH;FMTTYPE=image/png:https://ccib.ro/wp-content/uploads/2019/05/Focus-2019banner.png
ORGANIZER;CN="CCIB":MAILTO:membri@ccib.ro;
END:VEVENT
BEGIN:VEVENT
DTSTART;VALUE=DATE:20190523
DTEND;VALUE=DATE:20190524
DTSTAMP:20260423T064551
CREATED:20190423T080306Z
LAST-MODIFIED:20190522T114437Z
UID:15381-1558569600-1558655999@ccib.ro
SUMMARY:Data Protection; Soluții și responsabilități – un an  de la intrarea în vigoare a GDPR
DESCRIPTION:Camera de Comerț și Industrie București și Editura Universul Juridic \norganizează evenimentul \nData Protection; Soluții și responsabilități – un an  \nde la intrarea în vigoare a GDPR \nEdiția a VII-a\, 23 mai 2019 \nAula Carol I\, Palatul Camerei de Comerț și Industrie București \nStr. Ion Ghica\, Nr. 4\, Sector 3\, București (vis-a-vis de Banca Națională a României) \n  \n  \n  \nPrezentare \n  \nGeneral Data Protection Regulation (GDPR)\, care a intrat în vigoare în 25 mai 2018\, a fost cea mai mare schimbare legislativă la nivelul Uniunii Europene din ultimii 20 de ani. Companiile și instituțiile publice trebuie să se conformeze cu cerințele acestui act normativ\, care a stabilit amenzi usturătoate (care pot merge până la 20 milioane de euro sau până la 4% din cifra de afaceri mondială totală anuală). \nCele mai expuse companii sunt firmele care prelucrează un număr mare de date cu caracter personal (magazine online\, retaileri\, asigurători\, bănci)\, companiile care prelucrează categorii speciale de date\, cum ar fi datele privitoare la sănătate (clinici\, spitale) și cele care transmit date către țări din afara UE (companii de turism\, companii aeriene\, etc.). \nConferința cu tema Data Protection; Soluții și responsabilități – un an de la intrarea în vigoare a GDPR își propune să realizeze o radiografie a nivelului de conformare la un an de zile după intrarea în vigoare a noii legislații și să vină în sprijinul companiilor și autorităților\, clarificând o serie de aspecte prevăzute în Regulamentul privind protecția datelor cu caracter personal\, precum: \n\nPrincipalii operatori vizați;\nDileme în interpretarea regulamentului\, capcane de evitat;\nEvaluarea contractelor existente în vederea stabilirii conformității cu prevederile Regulamentului;\nEvaluarea politicilor\, procedurilor și notificărilor aferente prelucrării datelor cu caracter personal;\nRolul și eficiența unui responsabil cu protecția acestor date;\nEtape de urmat și recomandări;\nSoluții eficiente de conformare GDPR.\n\n  \n  \nTeme de discuție \n\nCum s-au conformat companiile și instituțiile din România?\nPentru cine este important Regulamentul General privind Protecția Datelor și de ce?\nProcedura de efectuare a investigațiilor Autorității Naționale de Supraveghere a Prelucrării Datelor cu Caracter Personal\nLista operaţiunilor pentru care este obligatorie realizarea evaluării impactului asupra protecţiei datelor cu caracter personal\nCe trebuie să facă operatorii economici în următoarele 6 luni\, ce pot să facă avocații și cum?\nAnaliza problemelor juridice pe care le ridică noua reglementare\nIdentificarea zonelor de impact aduse de GDPR\nMetode de evaluare a impactului GDPR asupra organizației\nCând trebuie efectuată DPIA și de către cine?\nCând trebuie consultată Autoritatea de Supraveghere (ANSPDCP)?\nImplicațiile de natură etică în respectarea protecției datelor personale\nSoluții software de conformare și operarea lor\n\n  \nAgendă: \n09\,00-09\,30: Înregistrarea participanților și welcome coffee \n09\,30–11\,30: Sesiunea I \n– Raluca Popa\, consilier Biroul Plângeri\, Autoritatea Națională de Supraveghere a Prelucrării Datelor cu Caracter Personal – „Procedura ANSPDCP de efectuare a investigațiilor” \n– Florența Răducanu\, Director General\, Argo Security – „Managementul performanței” \n– Ciprian Păun\, avocat coordonator\, „Păun Ciprian și Asociații” – „Contenciosul GDPR sau drumul spre CJUE este pavat cu întrebări” \n– Raluca Comănescu\, Avocat Partener\, Grecu & Asociații – „Prelucrarea datelor cu caracter personal din cazierul judiciar. Implicatii legale în diferite profesii” \n11\,30-12\,00: Business networking coffee break \n12\,00-14\,00: Sesiunea a II-a \n– Răzvan Ionescu\, CEO\, Professionals Business Knowledge – „Opinie privind protecția datelor începând cu momentul conceperii și în mod implicit”; \n– Lect. univ. dr. av. Raul-Felix Hodoș\, Universitatea de Medicină\, Farmacie\, Științe și Tehnologie Târgu Mureș – „Drepturile persoanei vizate și implicațiile GDPR asupra îndeplinirii obligațiilor fiscale”; \n– Vasile-Adrian Cămărășan\, lect. dr. în cadrul Facultății de Istorie și Filosofie a Universității Babeș-Bolyai din Cluj-Napoca\, consultant în managamentul informațiilor și datelor sensibile – „Abordarea sistemică și procesuală a măsurilor tehnice și organizatorice de conformare la RGPD” \n– Cristiana Deca\, Vicepreședinte\, Asociația Specialiștilor în Confidențialitate și Protecția Datelor (ASCPD) – „Răspunderea Responsabilului cu Protecția Datelor” \n– Bogdan Manolea\, co-fondator TRUSTED.ro și director executiv ApTI – Asociatia pentru Tehnologie si Internet – „Sughițurile GDPR-ului”; \n14\,00-14\,40: Business lunch & networking \n14\,45-16\,30: Sesiunea a III-a \n– Cătălin Giulescu\, Expert responsabil privind protecția datelor personale; \n– Drd. Ionuț Riteș\, expert în Managementul Informațiilor – „Protecția persoanelor în cazul tentativelor de exploatare informativă. Managementul informațiilor”. \n  \nTaxa de participare este 300 lei (TVA inclus) și oferă accesul general la conferință\, documentație\, prezentări\, pauzele de cafea și prânzul de lucru. \n  \n  \nContact: \n  \nMircea Fica\, Editor\, 0732 903 216\, mircea.fica@universuljuridic.ro \nCristian Pavel\, Director Dezvoltare\, 0744656568\, cristian.pavel@universuljuridic.ro \nRoxana Biga\, Project Manager; 0736.366.192\, roxana.biga@universuljuridic.ro \n 
URL:https://ccib.ro/eveniment/data-protection-solutii-responsabilitati-mai2019/
LOCATION:Birou  reprezentare CCIB – Londra\, 1 Belgrave Square\, London\, London\, SW1X 8PH\, United Kingdom
CATEGORIES:Eveniment
ATTACH;FMTTYPE=image/jpeg:https://ccib.ro/wp-content/uploads/2019/05/Data-Protection.jpg
ORGANIZER;CN="CCIB":MAILTO:membri@ccib.ro;
END:VEVENT
BEGIN:VEVENT
DTSTART;VALUE=DATE:20190527
DTEND;VALUE=DATE:20190529
DTSTAMP:20260423T064551
CREATED:20190510T071533Z
LAST-MODIFIED:20190510T071533Z
UID:15425-1558915200-1559087999@ccib.ro
SUMMARY:Cursul RESPONSABIL CU GESTIONAREA DESEURILOR
DESCRIPTION:  \nCamera de Comert si Industrie a Municipiului Bucuresti va invita sa participati la o noua sesiune a Cursului RESPONSABIL CU GESTIONAREA DESEURILOR\,  care se va desfasura in perioada 27 – 28 mai 2019\, in intervalul orar 13.00-17.00\,  la sediul CCIB din str. Ion Ghica nr. 4\, etaj 2\, sala Stefan Cerkez. \nSeminarul se adreseaza operatorilor economici care produc\, utilizeaza\, manipuleaza\, depoziteaza sau transporta deseuri nepericuloase si/sau periculoase\, persoane juridice\, care detin autorizatie/autorizatie integrata de mediu. \n  \nIn conformitate cu prevederile OUG nr. 74/2018 pentru modificarea si completarea Legii nr. 211/2011\, a Legii nr. 249/2015 si a OUG nr. 196/2005 privind Fondul de mediu\, cu modificarile si completarile ulterioare „persoanele juridice\, care detin autorizatie/autorizatie integrata de mediu au obligatia sa desemneze o persoana\, din randul angajatilor proprii\, care sa urmareasca si sa asigure indeplinirea obligatiilor prevazute de prezenta lege sau sa delege aceasta obligatie unei terte persoane”. \nPersoanele desemnate trebuie sa fie instruite in domeniul gestiunii deseurilor\, inclusiv a deseurilor periculoase\, ca urmare a absolvirii unor cursuri de specialitate. Nedesemnarea unei persoane constituie contraventie si se sanctioneaza cu amenda conform legii. \n  \nTematica cursului: \nPrezentarea actelor normative care reglementeaza domeniul protectiei mediului referitoare la solicitarea si obtinerea actelor de reglementare\, precum si obligatiile titularilor de activitate impuse prin legislatia specifica privind regimul deseurilor\, in conformitate cu prevederile legislatiei comunitare. \n\nOrdonanta de Urgenta a Guvernului nr. 74/2018 pentru modificarea si completarea Legii nr. 211/2011 privind regimul deseurilor\, a Legii nr. 249/ 2015 privind modalitatea de gestionare a ambalajelor si deseurilor de ambalaje si a OUG nr. 196/2005 privind Fondul de mediu.\nOrdonanta de Urgenta a Guvernului nr. 195/2005 privind protectia mediului\, cu modificarile si completarile ulterioare cu referire la obligatiile operatorilor economici fata de cerintele impuse prin actele de reglementare privind protectia mediului- studii de caz.\nOM nr.739/2017 privind aprobarea Procedurii de inregistrare a operatorilor economici care nu se supun autorizarii de mediu conform prevederilor Legii nr.211/2011 privind regimul deseurilor.\nLegea nr. 211/2011 privind regimul deseurilor – obligatiile agentilor economici;\nHG 856/2002 privind evidenta gestiunii deseurilor si pentru aprobarea listei cuprinzând deseurile\, inclusiv deseurile periculoase\, cu completarile ulterioare;\nHG 1061/2008 privind transportul deseurilor periculoase si nepericuloase pe teritoriul României;\nLegea 249/2015 privind gestionarea ambalajelor si a deseurilor de ambalaje\, cu modificarile si completarile ulterioare;\nIdentificarea\, caracterizarea si codificarea deseurilor – studiu de caz.\nGestionarea deseurilor si\, in special\, a anumitor categorii reglementate prin acte normative speciale: uleiurile uzate\, bateriile si acumulatorii uzati\, deseurile de echipamente electrice si electronice\, deseurilor periculoase\, etc.;\nIntocmirea si raportarea Registrului privind evidenta deseurilor nepericuloase si periculoase.\nObligatiile fata de fondul de mediu in domeniul gestiunii deseurilor si ambalajelor.\nSolutii practice pentru conformarea agentilor economici cu cerintele legislatiei de mediu in domeniul deseurilor. Evitarea sanctiunilor.Trasabilitatea deseurilor\nInformatii privind aplicatiile SIM si DSS existente pe site-ul ANPM.\n\n  \nCursul beneficiaza de expertiza dnei ing. Magdalena Gheorghe\, consultant in domeniul protectiei mediului\, având experienta dobândita in cadrul autoritatilor de mediu\, APM/ANPM si Garda Nationala de Mediu. \nLa finalul cursurilor se vor elibera certificatele de absolvire emise de Camera de Comert si Industrie a Municipiului Bucuresti. \n  \nTaxa de participare este de 300 lei/participant la care se adauga TVA si se poate achita conform formularului de participare anexat. \nPretul include: suportul de curs\, pauza de cafea\, suport din partea organizatorului pe toata durata cursului\, certificatul de absolvire oferit de organizator. \nFirmele membre ale CCIB cu cotizatia achitata la zi beneficiaza de o reducere de 30% din taxa. \nPentru inscrieri va rugam sa transmiteti formularul de participare completat\, la adresa de e-mail: anca.apalaghiei@ccib.ro \n  \nPentru alte detalii va rugam sa ne contactati la tel: 021.319.01.28\, 0730.980.807\,e-mail: anca.apalaghiei@ccib.ro  \, persoana de contact Anca Apalaghiei. \nIn speranta ca acest eveniment prezinta interes pentru dumneavoastra\, asteptam confirmarea participarii pana la data de 24.05.2019. \n  \n\n  \nDescarca Formular inscriere
URL:https://ccib.ro/eveniment/cursul-responsabil-cu-gestionarea-deseurilor-mai2019/
LOCATION:Birou  reprezentare CCIB – Londra\, 1 Belgrave Square\, London\, London\, SW1X 8PH\, United Kingdom
CATEGORIES:Cursuri,Eveniment
ATTACH;FMTTYPE=image/jpeg:https://ccib.ro/wp-content/uploads/2019/05/banner-site-ccib-daseuri-mai-2019.jpg
ORGANIZER;CN="CCIB":MAILTO:membri@ccib.ro;
END:VEVENT
END:VCALENDAR