BEGIN:VCALENDAR
VERSION:2.0
PRODID:-//Camera de Comerţ şi Industrie a Municipiului Bucureşti - ECPv6.15.14//NONSGML v1.0//EN
CALSCALE:GREGORIAN
METHOD:PUBLISH
X-ORIGINAL-URL:https://ccib.ro
X-WR-CALDESC:Evenimente pentru Camera de Comerţ şi Industrie a Municipiului Bucureşti
REFRESH-INTERVAL;VALUE=DURATION:PT1H
X-Robots-Tag:noindex
X-PUBLISHED-TTL:PT1H
BEGIN:VTIMEZONE
TZID:Europe/Moscow
BEGIN:STANDARD
TZOFFSETFROM:+0300
TZOFFSETTO:+0300
TZNAME:MSK
DTSTART:20180101T000000
END:STANDARD
END:VTIMEZONE
BEGIN:VEVENT
DTSTART;VALUE=DATE:20190603
DTEND;VALUE=DATE:20190608
DTSTAMP:20260423T052440
CREATED:20190520T084332Z
LAST-MODIFIED:20190520T085501Z
UID:15471-1559520000-1559951999@ccib.ro
SUMMARY:Responsabil cu Protectia Datelor cu Caracter Personal - curs acreditat ANC -cod COR 242 231
DESCRIPTION:  \nCamera de Comert si Industrie a Municipiului Bucuresti (CCIB) in parteneriat cu Professionals Business Knowledge au onoarea de a va invita in perioada 3 – 7 iunie 2019\, la Editia a XII-a a cursului „Responsabil cu protectia datelor cu caracter personal”\, curs acreditat ANC cod COR 242 231 \nLectorii sunt avocati specializati in domeniul protectiei datelor cu caracter personal\, specialisti I.T\, auditori in domeniul securitatii informatiei. Cursul abordeaza aspectele practice cu privire la prelucrarile datelor cu caracter personal ale clientilor\, salariatilor si furnizorilor din organizatie\, din perspectiva dispozitiilor G.D.P.R. si se adreseaza persoanelor cu studii superioare\, conform cerintelor din standardul ocupational. Pot participa si persoane cu studii medii dar acestea nu vor putea sustine examenul recunoscut de ANC si\, in consecinta\, vor primi doar diploma de participare la curs \nCompetente si deprinderi obtinute in urma finalizarii cursului cu examen ANC: \n1) Informarea organizatiei si persoanelor vizate cu privire la drepturile si obligatiile lor in baza legislatiei privind protectia datelor cu caracter personal; \n2) Monitorizarea modalitatilor prin care organizatia respecta legislatia privind protectia datelor cu caracter personal si standardele specifice la care organizatia a aderat; \n3) Emiterea de recomandari si oferirea asistentei de specialitate organizatiei cu privire la interpretarea si aplicarea prevederilor legislatiei privind protectia datelor cu caracter personal; \n4) Gestionarea relatiei cu autoritatea de supraveghere in domeniul protectiei datelor cu caracter personal; \n5) Respectarea principiului obiectivitatii in domeniul protectiei datelor cu caracter personal; \n6) Asigurarea si gestionarea registrului de evidenta al prelucrarii datelor cu caracter personal; \n7) Gestionarea si coordonarea resurselor umane\, financiare\, tehnice necesare realizarii sarcinilor si activitatilor specifice domeniului protectiei datelor cu caracter personal; \n8) Dezvoltarea profesionala continua in domeniul protectiei datelor cu caracter personal; \n9) Monitorizarea alocarii instrumentelor si metodelor de imbunatatire a eficacitatii sistemului de management al securitatii datelor cu caracter personal; \n10) Analizarea si evaluarea riscurilor de prelucrare a datelor cu caracter personal. \n  \n  \n  \n  \nPret curs cu discount :  1.250 lei/ participant (inscriere pana la data de 20 martie 2019) \nPret curs pentru firmele membre ale CCIB cu cotizaţia achitată la zi : 1250lei/participant \nPret curs : 1500 lei/ participant \nLa preturile indicate NU se adauga TVA \n  \n  \nDesfasurare curs : \n3 – 7iunie: sesiune de curs cu prezenta la sala: prezentari\, dezbateri\, aplicatii practice; \n10 iunie – 3 iulie : parte practica individuala: realizarea proiectului final\, indrumare si coordonare prin email; \n4iulie : sesiune de curs cu prezenta la sala: recapitulare\, verificare proiecte\, evaluarea finala: test grila + proiect – diploma acreditata va fi eliberata in aproximativ 7 zile de la data examinarii. \n  \nProgram zilnic: 09:30 – 17 :30 \nLoc desfasurare : Bucuresti\, str. Zambilelor\, nr.96\, etaj 1\, sector 2 \nExamen comisie ANC : 4 iulie 2019 \nNOTA* : Conform standardului ocupational cod COR 242231\, durata totala a cursului este de 180 de ore (teorie + practica)\, din care 5 zile vor fi in sala de curs\, in perioada mentionata. \nIn pret sunt incluse urmatoarele : \n– Certificat de absolvire ANC si supliment conform cod COR 242 231; \n– Materialele de curs ; \n– Coffee-breaks si lunch. \n  \n  \nPlata cursului se face in contul bancar al Professionals Business Knowledge SRL \ncod fiscal: 34831314 (fara RO) \nReg. Com.: J/40/9352/2015 \nSediul: Str. Valea Buzaului 3\, bl. G13\, ap. 47\, sector 3\, Bucuresti \nIBAN: RO63CECEB30830RON4063069 \nBanca : CEC BANK sucursala Ghica Tei \n  \n  \nPentru inscrierea la curs trebuie sa completati si sa transmiteti formularul de inscriere atasat.  Acest demers reprezinta comanda dvs. ferma. In urma primirii formularului vom emite o factura proforma pe baza careia se va putea achita taxa de participare. \nContact:     dna. Anca Apalaghiei – 0730.980.807; E-mail: anca.apalaghiei@ccib.ro dl. Andrei Parvu–0746.199.869; E-mail: vanzari@training-professionals.ro \n  \nIn speranta ca acest  curs prezinta interes pentru dumneavoastra\, asteptam confirmarea participarii pana la data de 30 mai 2019. \nNu ezitati sa ne contactati pentru informatii suplimentare. \n\n  \nDescarca Formular inscriere
URL:https://ccib.ro/eveniment/responsabil-cu-protectia-datelor-cu-caracter-personal-curs-acreditat-anc-cod-cor-242-231-iunie2019/
LOCATION:Birou  reprezentare CCIB – Londra\, 1 Belgrave Square\, London\, London\, SW1X 8PH\, United Kingdom
CATEGORIES:Cursuri,Eveniment
ATTACH;FMTTYPE=image/jpeg:https://ccib.ro/wp-content/uploads/2019/05/banner-site-ccib-gdpr-iunie-2019.jpg
END:VEVENT
BEGIN:VEVENT
DTSTART;VALUE=DATE:20190612
DTEND;VALUE=DATE:20190613
DTSTAMP:20260423T052440
CREATED:20190529T133126Z
LAST-MODIFIED:20190529T133126Z
UID:15568-1560297600-1560383999@ccib.ro
SUMMARY:Soluții tehnologice pentru prelucrarea reziduurilor din industria agro-alimentară
DESCRIPTION:  \nCamera de Comerț și Industrie a Municipiului București în parteneriat cu CIT- IRECSON Centrul de Informare Tehnologica vă invită la prezentarea ofertei publice de servicii “Soluții tehnologice pentru prelucrarea reziduurilor din industria agro-alimentară” organizată de Institutul Național de Cercetare-Dezvoltare pentru Științe Biologice – INCDSB prin Centrul de Bioanaliză. \nEvenimentul va avea loc în data de 12 iunie 2019\, începând cu ora 10.00\, la Palatul CAMEREI DE COMERŢ ŞI INDUSTRIE A MUNICIPIULUI BUCUREŞTI\, strada Ion Ghica nr. 4\, etaj 2\, sector 3\,       Sala “Ştefan Cerkez”. \nÎn cadrul evenimentului vor putea fi identificate modalități de colaborare a agenților economici cu Centrul de Bioanaliză\, în scopul obţinerii de noi produse superioare şi/sau valorificarea superioară a resurselor naturale vegetale (plante\, fructe\, biomasă etc.) cu asigurarea de finanțare nerambursabilă în cadrul proiectului. \nÎntâlnirea reprezintă un prilej de a stabili contacte şi de a iniţia discuţii cu privire la posibile colaborări si obţinerea de finanţare în cadrul proiectului FITOCOMP şi/sau a altor proiecte viitoare\, întreprinderile partenere putând beneficia de: \n\ntransfer de cunoştinţe prin asistenţă tehnică directă pentru dezvoltarea/îmbunătăţirea portofoliului firmei;\nacces la facilităţile\, instalaţiile\, echipamentele de cercetare ale INCDSB;\ntransfer de abilităţi / competenţe de cercetare-dezvoltare şi de sprijinire a inovării către personalul întreprinderilor ca suport pentru creşterea competitivităţii;\nrealizare de proiecte de cercetare-dezvoltare şi/sau de produse\, în colaborare.\n\n  \nPersoane de contact privind organizarea evenimentului sunt: \nDin partea CIT-IRECSON:     Dan Grigore\, tel: 0722.948.073\,  e-mail: evenimente@cit-irecson.ro \nDin partea CCIB:                     Anca Apalaghiei\, tel:0730.980.807\,e-mail: anca.apalaghiei@ccib.ro \nDin partea INCDSB:               Mirela Diaconu\, tel. 0746.831.820\,e-mail: mirela.diaconu@incdsb.ro \n  \nIn speranta ca evenimentul prezinta interes pentru dumneavoastra\, vă rugăm să confirmaţi participarea pe adresele de e-mail ale persoanelor de contact până cel târziu 10 iunie 2019. \n\n  \nAgenda evenimentului
URL:https://ccib.ro/eveniment/solutii-prelucrare-rezidduri-alimentare/
LOCATION:Birou  reprezentare CCIB – Londra\, 1 Belgrave Square\, London\, London\, SW1X 8PH\, United Kingdom
CATEGORIES:Eveniment
ATTACH;FMTTYPE=image/png:https://ccib.ro/wp-content/uploads/2019/05/Banner-final-site.png
ORGANIZER;CN="CCIB":MAILTO:membri@ccib.ro;
END:VEVENT
BEGIN:VEVENT
DTSTART;VALUE=DATE:20190613
DTEND;VALUE=DATE:20190614
DTSTAMP:20260423T052440
CREATED:20190607T090747Z
LAST-MODIFIED:20190607T090927Z
UID:15648-1560384000-1560470399@ccib.ro
SUMMARY:ÎNTÂLNIREA DE AFACERI ROMÂNIA – UCRAINA
DESCRIPTION:În continuarea programului destinat sprijinirii membrilor săi și în general a mediului de afaceri românesc pentru internaționalizarea afacerilor\, Camera de Comerţ şi Industrie a Municipiului Bucureşti (CCIB)\, în parteneriat cu Camera de Comerț Bilaterală România-Ucraina\, organizează joi\, 13.06.2019\, între orele 11:00 – 13:00 (înregistrarea de la 10:30)\, la Palatul CCIB din str. Ion Ghica nr.4 (vis-a-vis de sediul BNR) și are plăcerea să vă invite la: \n  \nÎNTÂLNIREA DE AFACERI ROMÂNIA – UCRAINA \n dedicată promovării schimburilor comerciale și cooperării economice româno-ucrainene. \nEvenimentul se desfăşoară în marja unei misiuni economice reprezentative ucrainene (23 persoane\, reprezentând 17 firme) organizată de Administrația regiunii Vinnița\, condusă de Guvernatorul acesteia. La evenimentvor fi prezenți E.S. Dl. Oleksandr Bankov\, ambasador extraordinar și plenipotențiar al Ucrainei în România\, domnul Olexandr Sliusarenko\, atașat economic în cadrul Ambasadei\, doamna Mariana Mihăileanu\, Secretar General al Camerei de Comerț Bilaterale România-Ucraina și reprezentanți din cadrul Departamentului de Comerț Exterior al Ministerului pentru Mediul de Afaceri\, Comerț și Antreprenoriat. Programul va include atât prezentarea potențialului economic și oportunităților de afaceri oferite de regiunea Vinnița\, cât și întâlniri B2B. \nLista completă a delegației ucrainene cu menționarea domeniilor de activitate poate fi vizionată mai jos. \n Participarea este gratuită\, fiind însă necesară înregistrarea prezenței la eveniment\, prin mail la adresele: mircea.toader@ccib.ro sau adrian.plesa@ccib.ro \n  \nConducerea CCIB va fi onorată să vă salute la eveniment. \n  \nLista delegatiei
URL:https://ccib.ro/eveniment/romania-ucraina-vinnita/
LOCATION:Birou  reprezentare CCIB – Londra\, 1 Belgrave Square\, London\, London\, SW1X 8PH\, United Kingdom
CATEGORIES:Eveniment
ATTACH;FMTTYPE=image/jpeg:https://ccib.ro/wp-content/uploads/2019/06/Banner-Ro_Ucraina.jpg
ORGANIZER;CN="CCIB":MAILTO:membri@ccib.ro;
END:VEVENT
BEGIN:VEVENT
DTSTART;VALUE=DATE:20190619
DTEND;VALUE=DATE:20190621
DTSTAMP:20260423T052440
CREATED:20190517T063223Z
LAST-MODIFIED:20190603T113202Z
UID:15462-1560902400-1561075199@ccib.ro
SUMMARY:Seminar: noutăţi legislative în domeniul TVA.
DESCRIPTION:  \nCamera de Comerţ şi Industrie a Municipiului Bucureşti\, în parteneriat cu SC CONFERINTE ONLINE SRL vă invită la seminarul privind noutatile legislative in domeniul TVA. \nSeminarul se desfasoara în perioada 19 – 20.06.2019\, intre orele 10:00 – 15:00  la sediul Camerei de Comerţ şi Industrie a Municipiului Bucureşti\, str.  Ion Ghica\, nr. 4\, etaj 2\, sala Cerchez\, sector 3. \n  \nTematica seminarului: \n\nPersoana impozabila – persoana neimpozabila\nFaptul generator – exigibilitatea TVA\nOperatiuni in sfera TVA. Baza de impozitare\nDeducerea TVA. Prorata TVA\nLimitarea dreptului de deducere a TVA\nCote de TVA. Ajustarea TVA\nPerioada fiscala. Vectorul fiscal privind TVA\nGrupul fiscal unic\nInregistrarea obligatorie in sfera TVA. Intrarea/iesirea din sistem\nTVA la incasare\nTVA split\nTranzactii intracomunitare: achizitii/livrari si prestari de servicii\nImportul si exportul de bunuri si servicii\nOperatiuni triunghiulare\nTransferul si nontransferul\nVanzari la distanta\nRegimul TVA in cazul refacturarilor\nRegimul TVA in cazul agentilor economici inactivi\nDeclarartiile fiscale in sfera TVA: 300\, 301\, 307\, 311\, 390\, 394\nRambursarea TVA\nRegimuri speciale: turism\, agricultura\, mijloace de transport\, bunuri imobile\nSpete si monografii practice privind TVA\n\n  \nLector este dl. Lect.Univ.Dr. Florentin CALOIAN\, Presedinte – Forumul Contabil din Romania \nTaxa de participare este de 357 lei/pers (TVA inclus).si se poate achita conform formularului de participare anexat. Pretul include: suportul de curs (peste 450 de pagini incluzand o bogata gama de aplicatii specifice TVA cu aspecte practice din activitatea curenta a agentilor economici)si eliberarea certificatului de absolvire. \n Membrii CCIB cu cotizatia platita la zi vor achita 250 lei/pers (TVA inclus). \nPentru inscrieri va rugam sa transmiteti formularul de participare completat\, la adresa de e-mail: ruxandra.stoica@ccib.ro. Pentru alte detalii va rugam sa ne contactati la tel: 021.319.01.28\, 0740.249.775\,e-mail: ruxandra.stoica@ccib.ro\, persoana de contact Ruxandra Stoica. \nIn speranta ca acest eveniment prezinta interes pentru dumneavoastra\, asteptam confirmarea participarii pana la data de 17.06.2019. \n  \n  \nDescarca Formular inscriere
URL:https://ccib.ro/eveniment/seminar-noutati-tva/
LOCATION:Birou  reprezentare CCIB – Londra\, 1 Belgrave Square\, London\, London\, SW1X 8PH\, United Kingdom
CATEGORIES:Cursuri,Eveniment
ATTACH;FMTTYPE=image/jpeg:https://ccib.ro/wp-content/uploads/2019/06/banner-site-ccib-tva-iunie-2019.jpg
ORGANIZER;CN="CCIB":MAILTO:membri@ccib.ro;
END:VEVENT
BEGIN:VEVENT
DTSTART;VALUE=DATE:20190619
DTEND;VALUE=DATE:20190620
DTSTAMP:20260423T052440
CREATED:20190528T072419Z
LAST-MODIFIED:20190530T133726Z
UID:15509-1560902400-1560988799@ccib.ro
SUMMARY:Conferința „Excelența în afaceri. Modelul EFQM – soluție pentru creșterea competitivității”
DESCRIPTION:Avem placerea de a va invita să participați la Conferința „Excelența în afaceri. Modelul EFQM – soluție pentru creșterea competitivității”. Evenimentul va avea loc miercuri\, 19 iunie 2019\, începând cu ora 10.00 (înregistrarea de la ora 9.30)\, în Aula Carol I (Palatul CCIB\, Strada Ion Ghica nr. 4\, sector 3). \n  \nEvenimentul este organizat sub auspiciile Președinției României la Consiliul Uniunii Europene de către Camera de Comerț și Industrie a Municipiului București (CCIB)\, în colaborare cu EFQM (the European Foundation for Quality Management) și JASPERS. \n  \nEFQM este o fundație non-profit\, cu sediul la Bruxelles\, care a contribuit la implementarea Modelului de excelență în peste 30.000 de organizații din UE și alte țări  din lume. JASPERS este un parteneriat de asistență între Comisia Europeană\, BEI și BERD\, care oferă consultanță independentă țărilor beneficiare pentru a le ajuta să pregătească proiecte majore de înaltă calitate\, care urmează să fie cofinanțate din Fondul european de dezvoltare regională și din Fondul de coeziune. \n  \nPrincipalul obiectiv al conferinței vizează prezentarea și promovarea Modelului EFQM de excelență\, ca instrument de evaluare și creștere a performanțelor și competitivității companiilor și organizațiilor. Prin aplicarea acestui model\, organizațiile pot să-și identifice punctele tari\, dar și zonele în care ar trebui să aducă îmbunățiri\, pentru a-și crește și a-și consolida poziția pe o piață globalizată și volatilă. \n  \nEvenimentul se adresează organizațiilor interesate să se dezvolte și să-și îmbunătățească performanțele și calitatea produselor și serviciilor: companii din toate domeniile de activitate\, spitale și rețele medicale\, instituții de învățământ\, fundații\, asociații\, camere de comerț\, dar și organismelor specializate în certificarea sistemelor de management și acreditarea organismelor de certificare și instituțiilor guvernamentale cu atribuții în creșterea competitivității. \n  \nÎn speranţa ca veţi da curs invitaţiei noastre\, vă mulţumim anticipat şi vă rugam sa confirmaţi participarea la adresa de email sandra.lasculescu@ccib.ro. Informații suplimentare: Cristina Șerbănescu (tel. 0730 990 764 \, e-mail: cristina.serbanescu@ccib.ro)\, de la care puteți obține și detalii privind oportunitățile de promovare a organizației dvs. în cadrul conferinței.
URL:https://ccib.ro/eveniment/conferinta_efqm/
LOCATION:Birou  reprezentare CCIB – Londra\, 1 Belgrave Square\, London\, London\, SW1X 8PH\, United Kingdom
CATEGORIES:Eveniment
ATTACH;FMTTYPE=image/png:https://ccib.ro/wp-content/uploads/2019/05/Conferinta-EFQM_Banner.png
ORGANIZER;CN="CCIB":MAILTO:membri@ccib.ro;
END:VEVENT
END:VCALENDAR