BEGIN:VCALENDAR
VERSION:2.0
PRODID:-//Camera de Comerţ şi Industrie a Municipiului Bucureşti - ECPv6.15.14//NONSGML v1.0//EN
CALSCALE:GREGORIAN
METHOD:PUBLISH
X-WR-CALNAME:Camera de Comerţ şi Industrie a Municipiului Bucureşti
X-ORIGINAL-URL:https://ccib.ro
X-WR-CALDESC:Evenimente pentru Camera de Comerţ şi Industrie a Municipiului Bucureşti
REFRESH-INTERVAL;VALUE=DURATION:PT1H
X-Robots-Tag:noindex
X-PUBLISHED-TTL:PT1H
BEGIN:VTIMEZONE
TZID:Europe/Moscow
BEGIN:STANDARD
TZOFFSETFROM:+0300
TZOFFSETTO:+0300
TZNAME:MSK
DTSTART:20180101T000000
END:STANDARD
END:VTIMEZONE
BEGIN:VEVENT
DTSTART;VALUE=DATE:20190930
DTEND;VALUE=DATE:20191005
DTSTAMP:20260422T225857
CREATED:20190809T131030Z
LAST-MODIFIED:20190923T124304Z
UID:15810-1569801600-1570233599@ccib.ro
SUMMARY:Responsabil cu Protectia Datelor cu Caracter Personal - curs acreditat ANC -cod COR 242 231
DESCRIPTION:  \nCamera de Comert si Industrie a Municipiului Bucuresti (CCIB) organizeaza in parteneriat cu Professionals Business Knowledge\, o noua sesiune a cursului acreditat ANC „Responsabil cu protectia datelor cu caracter personal” cod COR 242 231\, in perioada 30 septembrie – 30 octombrie 2019. \n  \nLectorii sunt avocati specializati in domeniul protectiei datelor cu caracter personal\, specialisti I.T\, auditori in domeniul securitatii informatiei. Cursul abordeaza aspectele practice cu privire la prelucrarile datelor cu caracter personal ale clientilor\, salariatilor si furnizorilor din organizatie\, din perspectiva dispozitiilor G.D.P.R. si se adreseaza persoanelor cu studii superioare\, conform cerintelor din standardul ocupational. Pot participa si persoane cu studii medii dar acestea nu vor putea sustine examenul recunoscut de ANC si\, in consecinta\, vor primi doar diploma de participare la curs \nCompetente si deprinderi obtinute in urma finalizarii cursului cu examen ANC: \n1) Informarea organizatiei si persoanelor vizate cu privire la drepturile si obligatiile lor in baza legislatiei privind protectia datelor cu caracter personal; \n2) Monitorizarea modalitatilor prin care organizatia respecta legislatia privind protectia datelor cu caracter personal si standardele specifice la care organizatia a aderat; \n3) Emiterea de recomandari si oferirea asistentei de specialitate organizatiei cu privire la interpretarea si aplicarea prevederilor legislatiei privind protectia datelor cu caracter personal; \n4) Gestionarea relatiei cu autoritatea de supraveghere in domeniul protectiei datelor cu caracter personal; \n5) Respectarea principiului obiectivitatii in domeniul protectiei datelor cu caracter personal; \n6) Asigurarea si gestionarea registrului de evidenta al prelucrarii datelor cu caracter personal; \n7) Gestionarea si coordonarea resurselor umane\, financiare\, tehnice necesare realizarii sarcinilor si activitatilor specifice domeniului protectiei datelor cu caracter personal; \n8) Dezvoltarea profesionala continua in domeniul protectiei datelor cu caracter personal; \n9) Monitorizarea alocarii instrumentelor si metodelor de imbunatatire a eficacitatii sistemului de management al securitatii datelor cu caracter personal; \n10) Analizarea si evaluarea riscurilor de prelucrare a datelor cu caracter personal. \n  \n  \n  \nPret curs catalog: 1600 RON/participant \n  \nReducere 22%\, pret curs cu discount: 1250 RON/participant \n  \nLa pretul indicat NU se adauga TVA\, cursurile acreditate ANC sunt scutite de plata TVA-ului. \n  \nPerioada de desfasurare: 30 septembrie- 30 octombrie 2019 \n  \nDesfasurare curs : \n5 zile (30 septembrie – 4 octombrie 2019): sesiune de curs cu prezenta la sala: prezentari\, dezbateri\, aplicatii practice; \n17 zile : parte practica individuala: realizarea proiectului final\, indrumare si coordonare prin email; \n1 zi : sesiune de curs cu prezenta la sala: recapitulare\, verificare proiecte\, evaluarea finala: test grila + proiect – diploma acreditata va fi eliberata in aproximativ 7 zile de la data examinarii. \n  \nProgram zilnic: 09:30 – 17 :30 \nLoc desfasurare : Bucuresti\, str. Zambilelor\, nr.96\, etaj 1\, sector 2 \n  \nNOTA* : Conform standardului ocupational cod COR 242231\, durata totala a cursului este de 180 de ore (teorie + practica)\, din care 5 zile vor fi in sala de curs\, in perioada mentionata. \nIn pret sunt incluse urmatoarele : \n– Certificat de absolvire ANC si supliment conform cod COR 242 231; \n– Materialele de curs ; \n– Coffee-breaks si lunch. \n  \n  \nPlata cursului se face in contul bancar al Professionals Business Knowledge SRL \ncod fiscal: 34831314 (fara RO) \nReg. Com.: J/40/9352/2015 \nSediul: Str. Valea Buzaului 3\, bl. G13\, ap. 47\, sector 3\, Bucuresti \nIBAN: RO63CECEB30830RON4063069 \nBanca : CEC BANK sucursala Ghica Tei \n  \n  \nPentru inscrierea la curs trebuie sa completati si sa transmiteti formularul de inscriere atasat.  Acest demers reprezinta comanda dvs. ferma. In urma primirii formularului vom emite o factura proforma pe baza careia se va putea achita taxa de participare. \nContact:     dna. Anca Apalaghiei – 0730.980.807; E-mail: anca.apalaghiei@ccib.ro dl. Andrei Parvu–0746.199.869; E-mail: vanzari@training-professionals.ro \n  \nIn speranta ca acest  curs prezinta interes pentru dumneavoastra\, asteptam confirmarea participarii pana la data de 27 septembrie. \nNu ezitati sa ne contactati pentru informatii suplimentare. \n\n  \nDescarca Formular inscriere
URL:https://ccib.ro/eveniment/responsabil-cu-protectia-datelor-cu-caracter-personal-curs-acreditat-anc-cod-cor-242-231-septoct2019/
CATEGORIES:Cursuri,Eveniment
ATTACH;FMTTYPE=image/jpeg:https://ccib.ro/wp-content/uploads/2019/09/banner-site-ccib-gdpr-sep-oct2019.jpg
END:VEVENT
BEGIN:VEVENT
DTSTART;VALUE=DATE:20191021
DTEND;VALUE=DATE:20191022
DTSTAMP:20260422T225857
CREATED:20191017T092740Z
LAST-MODIFIED:20191017T092930Z
UID:16068-1571616000-1571702399@ccib.ro
SUMMARY:Lansare carte "Camera de Comerț si Industrie din București și oamenii săi 1864-1948" -  conf.univ.dr. Ion Vorovenci
DESCRIPTION:Camera de Comerț și Industrie a Municipiului București lansează în data de 21.10.2019\, la Palatul CCI București\, Aula Carol I\, str. Ion Ghica\, nr. 4\, volumul Camera de Comerț și Industrie din București și oamenii săi (1864-1948)\, scrisă de conf.univ.dr. Ion Vorovenci. \n  \nVolumul de față inaugurează colecția „Biblioteca Camerei de Comerț și Industrie București – serie nouă”\, coordonată de Prof. Univ. Dr. Ing. Sorin Dimitriu\, cu obiectivul de reconstituire documentară a contribuției avute de-a lungul timpului de către Camera bucureșteană la modelarea economiei românești în ansamblul său. \nLucrarea oferă o retrospectivă minuțioasă a activității și realizărilor primei camere de comerț înființate pe teritoriul României\, care surprinde cea mai tumultoasă și prolifică perioadă a existenței sale\, cuprinsă între anii 1864 și 1948. \nConstruită pe o axă cronologică\, această lucrare abordează cu o documentată argumentație diversele transformări suferite de sistemul cameral din România\, în paralel cu o prezentare largă a inițiativelor ce au contribuit la formarea și dezvoltarea industriei locale\, modernizarea comerțului\, dezvoltarea transporturilor si comunicațiilor\, a sistemului bancar și de credit\, dar și la dezvoltarea învățământului economic. \nCartea este structurată pe șapte capitole: ”Activitatea Camerei de Comerț și Industrie din București între anii 1864-1900”\, ”Dezideratele Camerei de Comerț și Industrie din București la începutul secolului al XX-lea”\, ”Anul 1908 – construirea Palatului Camerei de Comerț și Industrie și Bursei”\, ”O nouă epocă\, alți președinți\, aceleași preocupări”\, ”Camera de Comerț din București în primii ani de după război”\, ”Stabilizarea monetară\, criza mondială din anii 29-33 și progresele ce au urmat”\, ”Anii 38-48 – un deceniu\, un război și două dictaturi”. \nCamera de Comerț si Industrie din București și oamenii săi 1864-1948 a apărut la Editura Economică\, în 2018\, an ce a coincis și cu marcarea a 150 de ani de existență a camerei bucureștene. \n  \n*** \nCamera de Comerț si Industrie din București și oamenii săi 1864-1948/ Ion Vorovenci; \nEditura Economică \nArgument: Prof.univ.dr.ing. Sorin Dimitriu \nRedactor: Cristina Stoian \nCopertă: Mihai Găzdaru \nNr. pagini: 320 \nISBN 978-973-709-876-4
URL:https://ccib.ro/eveniment/lansare-carte-oct2019/
LOCATION:Birou  reprezentare CCIB – Londra\, 1 Belgrave Square\, London\, London\, SW1X 8PH\, United Kingdom
CATEGORIES:Eveniment
ATTACH;FMTTYPE=image/gif:https://ccib.ro/wp-content/uploads/2019/10/banner.gif
END:VEVENT
BEGIN:VEVENT
DTSTART;VALUE=DATE:20191022
DTEND;VALUE=DATE:20191024
DTSTAMP:20260422T225857
CREATED:20191007T091452Z
LAST-MODIFIED:20191007T091452Z
UID:16028-1571702400-1571875199@ccib.ro
SUMMARY:Cursul RESPONSABIL CU GESTIONAREA DESEURILOR
DESCRIPTION:  \nCamera de Comert si Industrie a Municipiului Bucuresti va invita sa participati la o noua sesiune a Cursului RESPONSABIL CU GESTIONAREA DESEURILOR\,  care se va desfasura in perioada 22 – 23 octombrie 2019\, in intervalul orar 13.00-17.00\,  la sediul CCIB din str. Ion Ghica nr. 4\, etaj 2\, sala Stefan Cerkez. \nSeminarul se adreseaza operatorilor economici care produc\, utilizeaza\, manipuleaza\, depoziteaza sau transporta deseuri nepericuloase si/sau periculoase\, persoane juridice\, care detin autorizatie/autorizatie integrata de mediu. \n  \nIn conformitate cu prevederile OUG nr. 74/2018 pentru modificarea si completarea Legii nr. 211/2011\, a Legii nr. 249/2015 si a OUG nr. 196/2005 privind Fondul de mediu\, cu modificarile si completarile ulterioare „persoanele juridice\, care detin autorizatie/autorizatie integrata de mediu au obligatia sa desemneze o persoana\, din randul angajatilor proprii\, care sa urmareasca si sa asigure indeplinirea obligatiilor prevazute de prezenta lege sau sa delege aceasta obligatie unei terte persoane”. \nPersoanele desemnate trebuie sa fie instruite in domeniul gestiunii deseurilor\, inclusiv a deseurilor periculoase\, ca urmare a absolvirii unor cursuri de specialitate. Nedesemnarea unei persoane constituie contraventie si se sanctioneaza cu amenda conform legii. \n  \nTematica cursului: \n  \nPrezentarea actelor normative care reglementeaza domeniul protectiei mediului referitoare la solicitarea si obtinerea actelor de reglementare\, precum si obligatiile titularilor de activitate impuse prin legislatia specifica privind regimul deseurilor\, in conformitate cu prevederile legislatiei comunitare. \n\nOrdonanta de Urgenta a Guvernului nr. 74/2018 pentru modificarea si completarea Legii nr. 211/2011 privind regimul deseurilor\, a Legii nr. 249/ 2015 privind modalitatea de gestionare a ambalajelor si deseurilor de ambalaje si a OUG nr. 196/2005 privind Fondul de mediu.\nOrdonanta de Urgenta a Guvernului nr. 195/2005 privind protectia mediului\, cu modificarile si completarile ulterioare cu referire la obligatiile operatorilor economici fata de cerintele impuse prin actele de reglementare privind protectia mediului- studii de caz.\nOM nr.739/2017 privind aprobarea Procedurii de inregistrare a operatorilor economici care nu se supun autorizarii de mediu conform prevederilor Legii nr.211/2011 privind regimul deseurilor.\nLegea nr. 211/2011 privind regimul deseurilor – obligatiile agentilor economici;\nHG 856/2002 privind evidenta gestiunii deseurilor si pentru aprobarea listei cuprinzând deseurile\, inclusiv deseurile periculoase\, cu completarile ulterioare;\nHG 1061/2008 privind transportul deseurilor periculoase si nepericuloase pe teritoriul României;\nLegea 249/2015 privind gestionarea ambalajelor si a deseurilor de ambalaje\, cu modificarile si completarile ulterioare;\nIdentificarea\, caracterizarea si codificarea deseurilor – studiu de caz.\nGestionarea deseurilor si\, in special\, a anumitor categorii reglementate prin acte normative speciale: uleiurile uzate\, bateriile si acumulatorii uzati\, deseurile de echipamente electrice si electronice\, deseurilor periculoase\, etc.;\nIntocmirea si raportarea Registrului privind evidenta deseurilor nepericuloase si periculoase.\nObligatiile fata de fondul de mediu in domeniul gestiunii deseurilor si ambalajelor.\nSolutii practice pentru conformarea agentilor economici cu cerintele legislatiei de mediu in domeniul deseurilor. Evitarea sanctiunilor.Trasabilitatea deseurilor\nInformatii privind aplicatiile SIM si DSS existente pe site-ul ANPM.\n\n  \nCursul beneficiaza de expertiza dnei ing. Magdalena Gheorghe\, consultant in domeniul protectiei mediului\, având experienta dobândita in cadrul autoritatilor de mediu\, APM/ANPM si Garda Nationala de Mediu. \nLa finalul cursurilor se vor elibera certificatele de absolvire emise de Camera de Comert si Industrie a Municipiului Bucuresti. \n  \nTaxa de participare este de 300 lei/participant la care se adauga TVA si se poate achita conform formularului de participare anexat. \nPretul include: suportul de curs\, pauza de cafea\, suport din partea organizatorului pe toata durata cursului\, certificatul de absolvire oferit de organizator. \nFirmele membre ale CCIB cu cotizatia achitata la zi beneficiaza de o reducere de 30% din taxa. \nPentru inscrieri va rugam sa transmiteti formularul de participare completat\, la adresa de e-mail: anca.apalaghiei@ccib.ro \n  \nPentru alte detalii va rugam sa ne contactati la tel: 021.319.01.28\, 0730.980.807\,e-mail: anca.apalaghiei@ccib.ro\, persoana de contact Anca Apalaghiei. \nIn speranta ca acest eveniment prezinta interes pentru dumneavoastra\, asteptam confirmarea participarii pana la data de 21.10.2019. \n  \n\n  \nDescarca Formular inscriere
URL:https://ccib.ro/eveniment/cursul-responsabil-cu-gestionarea-deseurilor-oct2019/
LOCATION:Birou  reprezentare CCIB – Londra\, 1 Belgrave Square\, London\, London\, SW1X 8PH\, United Kingdom
CATEGORIES:Cursuri,Eveniment
ATTACH;FMTTYPE=image/jpeg:https://ccib.ro/wp-content/uploads/2019/10/banner-site-ccib-deseuri-oct-2019-1024x576.jpg
ORGANIZER;CN="CCIB":MAILTO:membri@ccib.ro;
END:VEVENT
BEGIN:VEVENT
DTSTART;VALUE=DATE:20191028
DTEND;VALUE=DATE:20191102
DTSTAMP:20260422T225857
CREATED:20191021T090300Z
LAST-MODIFIED:20191021T090300Z
UID:16075-1572220800-1572652799@ccib.ro
SUMMARY:Responsabil cu Protectia Datelor cu Caracter Personal - curs acreditat ANC -cod COR 242 231
DESCRIPTION:  \n  \nCamera de Comert si Industrie a Municipiului Bucuresti (CCIB) organizeaza in parteneriat cu Professionals Business Knowledge\, cursul „Responsabil cu protectia datelor cu caracter personal”\,acreditat ANC pentru toate modulele din standardul european\, cod COR 242 231. \n  \nPentru a raspunde cerintelor dumneavoastra\, va prezentam programul cursurilor organizate in perioada urmatoare\, pana la sfarsitul anului\, in speranta ca agenda va va permite sa participati la una dintre sesiunile organizate. \n  \nGrupa 1: 28 octombrie – 27 noiembrie 2019 \nGrupa 2: 18 noiembrie – 19 decembrie 2019 \nGrupa 3: 9 decembrie 2019 – 10 ianuarie 2020 \n  \nLectorii cursului sunt avocati specializati in domeniul protectiei datelor cu caracter personal\, specialisti I.T\, auditori in domeniul securitatii informatiei. Cursul abordeaza aspectele practice cu privire la prelucrarile datelor cu caracter personal ale clientilor\, salariatilor si furnizorilor din organizatie din perspectiva dispozitiilor G.D.P.R. \nCursul se adreseaza persoanelor cu studii superioare\, conform cerintelor din standardul ocupational. Pot participa si persoane cu studii medii dar acestea nu vor putea sustine examenul recunoscut de ANC si\, in consecinta\, vor primi doar diploma de participare la curs. \n  \nCompetente si deprinderi obtinute in urma finalizarii cursului cu examen ANC: \n1) Informarea organizatiei si persoanelor vizate cu privire la drepturile si obligatiile lor in baza legislatiei privind protectia datelor cu caracter personal; \n2) Monitorizarea modalitatilor prin care organizatia respecta legislatia privind protectia datelor cu caracter personal si standardele specifice la care organizatia a aderat; \n3) Emiterea de recomandari si oferirea asistentei de specialitate organizatiei cu privire la interpretarea si aplicarea prevederilor legislatiei privind protectia datelor cu caracter personal; \n4) Gestionarea relatiei cu autoritatea de supraveghere in domeniul protectiei datelor cu caracter personal; \n5) Respectarea principiului obiectivitatii in domeniul protectiei datelor cu caracter personal; \n6) Asigurarea si gestionarea registrului de evidenta al prelucrarii datelor cu caracter personal; \n7) Gestionarea si coordonarea resurselor umane\, financiare\, tehnice necesare realizarii sarcinilor si activitatilor specifice domeniului protectiei datelor cu caracter personal; \n8) Dezvoltarea profesionala continua in domeniul protectiei datelor cu caracter personal; \n9) Monitorizarea alocarii instrumentelor si metodelor de imbunatatire a eficacitatii sistemului de management al securitatii datelor cu caracter personal; \n10) Analizarea si evaluarea riscurilor de prelucrare a datelor cu caracter personal. \n  \n  \n  \nPret curs catalog: 1600 RON/participant \n  \nReducere 22%\, pret curs cu discount: 1250 RON/participant \n  \nLa pretul indicat NU se adauga TVA\, cursurile acreditate ANC sunt scutite de plata TVA-ului. \n  \nGrupa 1: 28 octombrie – 27 noiembrie 2019 \nGrupa 2: 18 noiembrie – 19 decembrie 2019 \nGrupa 3: 9 decembrie 2019 – 10 ianuarie 2020 \n  \n  \nDesfasurare curs : \n5 zile (prima saptamana din perioada mentionata): sesiune de curs cu prezenta la sala: prezentari\, dezbateri\, aplicatii practice; \n17 zile : parte practica individuala: realizarea proiectului final\, indrumare si coordonare prin email; \n1 zi : sesiune de curs cu prezenta la sala: recapitulare\, verificare proiecte\, evaluarea finala: test grila + proiect – diploma acreditata va fi eliberata in aproximativ 7 zile de la data examinarii. \n  \nProgram zilnic: 09:30 – 17 :30 \nLoc desfasurare : Bucuresti\, str. Zambilelor\, nr.96\, etaj 1\, sector 2 \n  \nNOTA* : Conform standardului ocupational cod COR 242231\, durata totala a cursului este de 180 de ore (teorie + practica)\, din care 5 zile vor fi in sala de curs\, in perioada mentionata. \nIn pret sunt incluse urmatoarele : \n– Certificat de absolvire ANC si supliment conform cod COR 242 231; \n– Materialele de curs ; \n– Coffee-breaks si lunch. \n  \n  \nPlata cursului se face in contul bancar al Professionals Business Knowledge SRL \ncod fiscal: 34831314 (fara RO) \nReg. Com.: J/40/9352/2015 \nSediul: Str. Valea Buzaului 3\, bl. G13\, ap. 47\, sector 3\, Bucuresti \nIBAN: RO63CECEB30830RON4063069 \nBanca : CEC BANK sucursala Ghica Tei \n  \n  \nPentru inscrierea la curs trebuie sa completati si sa transmiteti formularul de inscriere atasat.  Acest demers reprezinta comanda dvs. ferma. In urma primirii formularului vom emite o factura proforma pe baza careia se va putea achita taxa de participare. \nContact:     dna. Anca Apalaghiei – 0730.980.807; E-mail: anca.apalaghiei@ccib.ro dl. Andrei Parvu–0746.199.869; E-mail: vanzari@training-professionals.ro \n  \nIn speranta ca acest  curs prezinta interes pentru dumneavoastra\, asteptam confirmarea participarii la una din sesiunile propuse. \nNu ezitati sa ne contactati pentru informatii suplimentare. \n\n  \nDescarca Formular inscriere
URL:https://ccib.ro/eveniment/responsabil-cu-protectia-datelor-cu-caracter-personal-curs-acreditat-anc-cod-cor-242-231-oct2019/
CATEGORIES:Cursuri,Eveniment
ATTACH;FMTTYPE=image/jpeg:https://ccib.ro/wp-content/uploads/2019/10/banner-site-ccib-gdpr-oct-dec2019.jpg
END:VEVENT
BEGIN:VEVENT
DTSTART;VALUE=DATE:20191030
DTEND;VALUE=DATE:20191031
DTSTAMP:20260422T225857
CREATED:20191003T090438Z
LAST-MODIFIED:20191003T090836Z
UID:16011-1572393600-1572479999@ccib.ro
SUMMARY:TOPUL FIRMELOR DIN BUCUREŞTI 2019
DESCRIPTION:Vă invităm miercuri\, 30 octombrie\, începând cu ora 18.30\, la cea de a XXVI-a ediţie a TOPULUI FIRMELOR DIN BUCUREŞTI\, care va avea loc în rafinata Sala Rondă a Hotelului Intercontinental. Programul evenimentului\, organizat de Camera de Comerţ şi Industrie a Municipiului Bucureşti (CCIB)\, va cuprinde o festivitate de înmânare a premiilor\, urmată de o cină de gală.  \nVor participa managerii celor mai performante companii bucureştene și  personalitati de prim-plan din spaţiul economic\, academic si diplomatic din România. \n  \n  \nDetalii Topul firmelor din Bucureşti – ediţia 2019\n 
URL:https://ccib.ro/eveniment/topul-firmelor-2019/
LOCATION:Birou  reprezentare CCIB – Londra\, 1 Belgrave Square\, London\, London\, SW1X 8PH\, United Kingdom
CATEGORIES:Eveniment
ATTACH;FMTTYPE=image/jpeg:https://ccib.ro/wp-content/uploads/2019/10/banner-site-ccib-cladire-transparenta.jpg
END:VEVENT
END:VCALENDAR