BEGIN:VCALENDAR
VERSION:2.0
PRODID:-//Camera de Comerţ şi Industrie a Municipiului Bucureşti - ECPv6.15.14//NONSGML v1.0//EN
CALSCALE:GREGORIAN
METHOD:PUBLISH
X-WR-CALNAME:Camera de Comerţ şi Industrie a Municipiului Bucureşti
X-ORIGINAL-URL:https://ccib.ro
X-WR-CALDESC:Evenimente pentru Camera de Comerţ şi Industrie a Municipiului Bucureşti
REFRESH-INTERVAL;VALUE=DURATION:PT1H
X-Robots-Tag:noindex
X-PUBLISHED-TTL:PT1H
BEGIN:VTIMEZONE
TZID:Europe/Moscow
BEGIN:STANDARD
TZOFFSETFROM:+0300
TZOFFSETTO:+0300
TZNAME:MSK
DTSTART:20190101T000000
END:STANDARD
END:VTIMEZONE
BEGIN:VEVENT
DTSTART;VALUE=DATE:20200302
DTEND;VALUE=DATE:20200304
DTSTAMP:20260422T153545
CREATED:20200214T094749Z
LAST-MODIFIED:20200214T103648Z
UID:16453-1583107200-1583279999@ccib.ro
SUMMARY:Seminar: Intrarea pe piaţă în Statele Unite ale Americii
DESCRIPTION:Rețeaua internațională de consultanță Premier Global Council vă invită pe 2 și 3 Martie la seminarul nostru dedicat firmelor care sunt interesate sa-și extindă activitatea în Statele Unite sau pe alte piețe Europene. Vom trata subiecte de la structură legală și documentație import/export\, până la pregătire pentru delegații comerciale\, lucrând în baza manualului de lucru dezvoltat de PGC Group. \nPremier Global Council Group este o rețea internațională de consultanți\, originară din Statele Unite\, care oferă servicii de asistență\, sfătuire și de pregătire\, pentru companiile și organizațiile care vor să-și extindă activitatea în alte țări. În acest sens\, ne specializăm în mod deosebit pe piețele din Statele Unite și Uniunea Europeană. \nTraining-urile noastre au fost dezvoltate ca un program de pregătire complementară\, în contextul dezvoltării rapide a piețelor internaționale și a creșterii capacității firmelor de a profita de acest lucru. Ele sunt în special dedicate executivilor\, sau altor categorii de decidenți\, care sunt interesați sa-și facă o idee mai clară asupra necesităților și posibilității firmelor lor de a face o intrare pe piață\, înainte de a investi semnificativ spre acest scop. \nSeminarul acoperă subiecte care încep de la schimburile de produse în cadrul acestei de-a 4-a Revoluții Industriale\, și până la tehnici de penetrare ale piețelor dezvoltate\, cu accent pe Statele Unite ale Americii și Europa. \nAbordarea utilizată se bazează pe interacțiune\, sesiuni de brainstorming direcționat și studii de caz reale\, compilate din experiența de activitate a PGC Group. \n  \nTemele principale abordate in cadrul seminarului:\n– structură legala\n– documentație import/export\n– resurse guvernamentale\n– reprezentare pe piața americană\n– competiție\n– analiză industrială\n– dezvoltarea relațiilor cu omologii americani\n– pregătire pentru delegații comerciale\n– contabilitate primară \n  \nConținutul seminarului \nAcesta va fi împărțit în activități interactive\, exerciții de brainstorming\, problematizare și identificare de soluții. În plus\, vă veți familiariza cu o varietate de obstacole cu care o afacere internațională se confruntă. \nÎn jur de 60% din sesiunea de lucru va fi dedicată unei serii de analize SWOT ale perspectivelor pieței globale\, în contextul deciziilor tipice pe care le presupune o intrare pe o piață străină. Acestea se vor desfășura pe baza manualului de sarcini dezvoltat de PGC Group de-a lungul anilor\, și care vă este oferit ca parte din program. \nPerioada: 2 și 3 martie 2020\nDurata: 4 ore/zi\nLocație: Camera de Comert si Industrie București\nGrupă: min. 10\, max. 25 participanți\nLimba: seminarul va fi sustinut in limba Engleză\nPreț: 500 euro/participant\nTermen limită de înscriere și plată: 26.02.2020 \n  \nParticipanții la seminar\, care sunt deja interesati de a face pasul către Statele Unite\, sunt invitati să programeze o ora de consultanță directă\, inclusa în prețul seminarului\, cu partenerul PGC Group Romania în vederea stabilirii mai clare a posibilității intrării pe piață în Statele Unite și a serviciilor cu care PGC Group poate să ajute în acest sens. \n  \nPentru orice nelămuriri vă rugăm să ne contactați la adresa de e-mail: info@pgcgroup.ro \n\n\n  \n\n\n\n Nume Prenume (obligatoriu)\n \n \nMod facturare\nPersoana fizicaPersoana juridica\n \nMetoda de plata\nCashTransfer bancarCard bancar\n \n Companie (doar pentru persoane juridice)\n \n CUI (doar pentru persoane juridice)\n \n \n Telefonul tău (obligatoriu)\n \n \n Emailul tău (obligatoriu)\n \n \n Comentarii aditionale\n \n \n\n \nNota: Prin acţiunea "Trimite" vă daţi acordul pentru prelucrarea datelor Dvs. personale de către organizatorul evenimentului\, Premier Global Council Group\, conform reglementărilor GDPR în vigoare. Pentru mai multe detalii contactaţi organizatorul la adresa info@pgcgroup.ro .
URL:https://ccib.ro/eveniment/seminar-pcggroup-martie2020/
LOCATION:Birou  reprezentare CCIB – Londra\, 1 Belgrave Square\, London\, London\, SW1X 8PH\, United Kingdom
CATEGORIES:Cursuri,Eveniment
ATTACH;FMTTYPE=image/jpeg:https://ccib.ro/wp-content/uploads/2020/02/D-PGCG-Workshop-Buc.jpg
ORGANIZER;CN="PGC Group":MAILTO:info@pgcgroup.ro
END:VEVENT
BEGIN:VEVENT
DTSTART;VALUE=DATE:20200304
DTEND;VALUE=DATE:20200305
DTSTAMP:20260422T153546
CREATED:20200227T102231Z
LAST-MODIFIED:20200227T102422Z
UID:16520-1583280000-1583366399@ccib.ro
SUMMARY:FORUMUL DE AFACERI ROMÂNO – MAROCAN
DESCRIPTION:Camera de Comerț și Industrie a Municipiului București (CCIB) vă invită să participați la: \n  \nFORUMUL DE AFACERI ROMÂNO – MAROCAN \nMiercuri\, 4 martie 2020 \nOrele 10:00 – 12:00 (înregistrarea de la 09:30) \nPalatul CCIB\, Aula Carol I\, Strada Ion Ghica 4\, Sector 3\, Bucureşti\, \n  \nrealizat cu ocazia vizitei în București a unei misiuni economice marocane\, multisectorială\, organizată de \nBiroul de Promovare Comercial Economică la Tanger (BPCE Tanger) și reprezentanța CCIB în Tanger\, în colaborare cu Ambasada României de la Rabat\, Camera de Comerţ Bilaterală Maroc-România. \nSe anexează lista celor 15 firme participante din domeniile auto\, agroindustrial\, constructii si materiale de constructii\, industrial\, financiar\, turism\, cosmetice\, lemn si prelucrarea lemnului\, mobila si mobilier urban\, precum si reprezentanti de asociatii si diverse alte entitati de stat si private din Maroc. \nDin delegația marocană face parte și dl. Zouhair Magour\, Președintele Camerei de Comerț Bilaterale Maroc-România\, iar misiunea economică va fi însoțită de dl. Remus Rădulescu\, ministru consilier la BPCE Tanger. \n  \nParticiparea la lucrările forumului este gratuită\, cu condiția ca toți participanții să confirme până în data de 3 martie a.c.\, la adresele de E-mail CCIB: dl. Mircea TOADER – mircea.toader@ccib.ro\, dl. Ștefan TOADER – stefan.toader@ccib.ro şi dra. Alina MARCU – alina.marcu@ccib.ro. Informații telefonice se pot obține la numerele: 0725.167.894 sau 0723.133.663. \n  \nVă așteptăm la Forum\, care vă va oferi atât oportunități de internaționalizare a afacerilor Dvs pe o piață în plin avânt\, precum și posibilitatea de a dialoga cu delegația marocană în cadrul sesiunii de convorbiri B2B. \n  \nLista delegatiei din Maroc
URL:https://ccib.ro/eveniment/forumul-romania-maroc-martie2020/
LOCATION:Birou  reprezentare CCIB – Londra\, 1 Belgrave Square\, London\, London\, SW1X 8PH\, United Kingdom
CATEGORIES:Eveniment
ATTACH;FMTTYPE=image/jpeg:https://ccib.ro/wp-content/uploads/2020/02/banner_forum_maroc-1.jpg
END:VEVENT
END:VCALENDAR