BEGIN:VCALENDAR
VERSION:2.0
PRODID:-//Camera de Comerţ şi Industrie a Municipiului Bucureşti - ECPv6.15.14//NONSGML v1.0//EN
CALSCALE:GREGORIAN
METHOD:PUBLISH
X-ORIGINAL-URL:https://ccib.ro
X-WR-CALDESC:Evenimente pentru Camera de Comerţ şi Industrie a Municipiului Bucureşti
REFRESH-INTERVAL;VALUE=DURATION:PT1H
X-Robots-Tag:noindex
X-PUBLISHED-TTL:PT1H
BEGIN:VTIMEZONE
TZID:Europe/Moscow
BEGIN:STANDARD
TZOFFSETFROM:+0300
TZOFFSETTO:+0300
TZNAME:MSK
DTSTART:20190101T000000
END:STANDARD
END:VTIMEZONE
BEGIN:VEVENT
DTSTART;VALUE=DATE:20200706
DTEND;VALUE=DATE:20200711
DTSTAMP:20260422T094942
CREATED:20200115T091912Z
LAST-MODIFIED:20200617T115448Z
UID:16304-1593993600-1594425599@ccib.ro
SUMMARY:Responsabil cu Protectia Datelor cu Caracter Personal - curs acreditat ANC -cod COR 242 231
DESCRIPTION:  \n  \nÎncepând din luna mai\, Camera de Comert si Industrie a Municipiului Bucuresti (CCIB) in parteneriat cu Professionals Business Knowledge organizeaza cursul „Responsabil cu protectia datelor cu caracter personal”\, acreditat ANC pentru toate modulele din standardul european\, cod COR 242 231\, inclusiv LIVE\, în sistem de videoconferinţă.   \nPentru a raspunde cerintelor dumneavoastra\, va prezentam programul cursurilor organizate in perioada iulie – octombrie 2020\, in speranta ca agenda va va permite sa participati la una dintre sesiunile de mai jos. \nGrupa 1: 6 iulie – 5 august 2020 \nGrupa 2: 3 august – 4 septembrie 2020 \nGrupa 3: 7 septembrie – 8 octombrie 2020 \n  \nLectorii cursului sunt avocati specializati in domeniul protectiei datelor cu caracter personal\, specialisti I.T\, auditori in domeniul securitatii informatiei. Cursul abordeaza aspectele practice cu privire la prelucrarile datelor cu caracter personal ale clientilor\, salariatilor si furnizorilor din organizatie din perspectiva dispozitiilor G.D.P.R. \nCursul se adreseaza persoanelor cu studii superioare\, conform cerintelor din standardul ocupational. Pot participa si persoane cu studii medii dar acestea nu vor putea sustine examenul recunoscut de ANC si\, in consecinta\, vor primi doar diploma de participare la curs. \n  \nCompetente si deprinderi obtinute in urma finalizarii cursului cu examen ANC: \n1) Informarea organizatiei si persoanelor vizate cu privire la drepturile si obligatiile lor in baza legislatiei privind protectia datelor cu caracter personal; \n2) Monitorizarea modalitatilor prin care organizatia respecta legislatia privind protectia datelor cu caracter personal si standardele specifice la care organizatia a aderat; \n3) Emiterea de recomandari si oferirea asistentei de specialitate organizatiei cu privire la interpretarea si aplicarea prevederilor legislatiei privind protectia datelor cu caracter personal; \n4) Gestionarea relatiei cu autoritatea de supraveghere in domeniul protectiei datelor cu caracter personal; \n5) Respectarea principiului obiectivitatii in domeniul protectiei datelor cu caracter personal; \n6) Asigurarea si gestionarea registrului de evidenta al prelucrarii datelor cu caracter personal; \n7) Gestionarea si coordonarea resurselor umane\, financiare\, tehnice necesare realizarii sarcinilor si activitatilor specifice domeniului protectiei datelor cu caracter personal; \n8) Dezvoltarea profesionala continua in domeniul protectiei datelor cu caracter personal; \n9) Monitorizarea alocarii instrumentelor si metodelor de imbunatatire a eficacitatii sistemului de management al securitatii datelor cu caracter personal; \n10) Analizarea si evaluarea riscurilor de prelucrare a datelor cu caracter personal. \n  \n  \n  \nPret promotional pentru cursurile ON-LINE acreditate\, valabil pentru inscrierile efectuate pana la 30 iunie 2020: 990 lei ( redus de la 1400 lei) \n  \n  \nLa pretul indicat NU se adauga TVA\, cursurile acreditate ANC sunt scutite de plata TVA-ului. \n  \nIn pret sunt incluse urmatoarele : \n  \n– Certificat de absolvire ANC si supliment conform cod COR 242 231; \n– Materialele de curs ; \n– Coffee-breaks si lunch. \n  \n  \n  \nDesfasurare curs : \nNOU! Cursul este LIVE\, în sistem de videoconferinţă!!! \n  \nAvând în vedere prevederile OUG 32/26.03.2020\, pe perioada stării de urgenţă cursurile autorizate ANC se pot organiza în sistem de videoconferinţă\, utilizând o platforma online.  \n  \nDupă încetarea stării de alertă\, cursanţii vor susţine examenul alături de o comisie desemnată de ANC pentru verificarea însuşirii noţiunilor parcurse şi dobândite în sistem online. \n  \nCursanţii sunt în legătură directă cu profesorii\, 100% LIVE\, pot să comunice în timp real cu aceştia\, pot adresa întrebări şi pot rezolva exerciţii interactive. \n5 zile (prima saptamana din perioada mentionata): sesiune de curs cu prezenta la sala: prezentari\, dezbateri\, aplicatii practice; \n17 zile : parte practica individuala: realizarea proiectului final\, indrumare si coordonare prin email; \n1 zi : sesiune de curs cu prezenta la sala: recapitulare\, verificare proiecte\, evaluarea finala: test grila + proiect – diploma acreditata va fi eliberata in aproximativ 7 zile de la data examinarii. \n  \nGrupa 1: 6 iulie – 5 august 2020 \nGrupa 2: 3 august – 4 septembrie 2020 \nGrupa 3: 7 septembrie – 8 octombrie 2020 \nProgram zilnic: 09:30 – 17 :30 \nLoc desfasurare : Platforma on-line \nNOTA* : Conform standardului ocupational cod COR 242231\, durata totala a cursului este de 180 de ore (teorie + practica)\, din care 5 zile vor fi in sistem de videoconferinta\, in perioada mentionata. \n  \n  \n  \nPlata cursului se face in contul bancar al Professionals Business Knowledge SRL \ncod fiscal: 34831314 (fara RO) \nReg. Com.: J/40/9352/2015 \nSediul: Str. Valea Buzaului 3\, bl. G13\, ap. 47\, sector 3\, Bucuresti \nIBAN: RO63CECEB30830RON4063069 \nBanca : CEC BANK sucursala Ghica Tei \n  \n  \nPentru inscrierea la curs trebuie sa completati si sa transmiteti formularul de inscriere atasat.  Acest demers reprezinta comanda dvs. ferma. In urma primirii formularului vom emite o factura proforma pe baza careia se va putea achita taxa de participare. \nContact:     dna. Anca Apalaghiei – 0730.980.807; E-mail: anca.apalaghiei@ccib.ro dl. Andrei Parvu–0746.199.869; E-mail: vanzari@training-professionals.ro \n  \nIn speranta ca acest  curs prezinta interes pentru dumneavoastra\, asteptam confirmarea participarii la una din sesiunile propuse. \nNu ezitati sa ne contactati pentru informatii suplimentare. \n\n  \nDescarca Formular inscriere\n  \nDescarca Agenda cursului
URL:https://ccib.ro/eveniment/responsabil-cu-protectia-datelor-cu-caracter-personal-curs-acreditat-anc-cod-cor-242-231-iulie2020/
CATEGORIES:Cursuri,Eveniment
ATTACH;FMTTYPE=image/jpeg:https://ccib.ro/wp-content/uploads/2020/06/banner-site-ccib-gdpr-iulie-octombrie.jpg
END:VEVENT
BEGIN:VEVENT
DTSTART;VALUE=DATE:20200707
DTEND;VALUE=DATE:20200708
DTSTAMP:20260422T094942
CREATED:20200630T171800Z
LAST-MODIFIED:20200630T171835Z
UID:16932-1594080000-1594166399@ccib.ro
SUMMARY:Webinar:  PARTICULARITĂȚI ÎN RELAȚIILE CONTRACTUALE ȘI ÎN ACHIZIȚIILE PUBLICE  ÎN PERIOADA COVID-19
DESCRIPTION:Webinar \nPARTICULARITĂȚI ÎN RELAȚIILE CONTRACTUALE ȘI ÎN ACHIZIȚIILE PUBLICE  \nÎN PERIOADA COVID-19 \n  \nMarți\, 07 iulie 2020 (10:00 -11:00) \n  \n  \nWebinarul organizat de Cabinetul de Avocat GRUIA DUFAUT\, în parteneriat cu Camera de Comert si Industrie București\, marți\, 07 iulie 2020 (10 :00 – 11 :00)\, se va concentra asupra principalelor amenințări și tendințe ce se manifestă în contextual pandemiei de Covid-19\, în derularea relațiilor contractuale și în procedurile de achiziții publice\, din perspectiva ofertanților. \nNoua “normalitate” în derularea raporturilor comerciale între firme private\, dar și cu autoritățile publice ridică noi provocări pentru companii\, dar vine și cu oportunitatea de a reașeza relațiile contractuale pe baze solide\, respectand principiile securității contractuale\, transparenței și egalității de tratament. \nEvenimentul\, susținut de Loredana van de WAART și Teodora KOLETSIS\, Avocati Asociati in cadrul Cabinetului de Avocat GRUIA DUFAUT\, va oferi participantilor oportunitatea de a intra in dialog cu lectorii și de a intelege anumite aspecte de ordin juridic și practic privind următoarele teme : \n\nClauzele contractuale de exonerare de răspundere și executarea obligațiilor (clauza de forță majoră\, impreviziunea)\nMijloace posibile de revizuire / negociere a contractelor comerciale\nBune practici în relațiile contractuale\nParticularități ale achizițiilor publice în contextul actual generat de COVID 19\nReguli specifice în procedurile de achiziții publice în perioada de criză ; noutăți naționale și europene în materia achizițiilor publice\nPolisibilități legale de modificare a contractului de achiziții publice în contextul crizei generate de COVID 19.\n\n  \nSpeakeri :  \nLoredana van de WAART este Avocat Asociat al Cabinetului de avocatura GRUIA DUFAUT\, coordonator al Departamentului de Consultanta\, achiziții publice și PPP. Cu aproape 20 de ani de experiență în dreptul afacerilor\, ea oferă servicii de consultanță și reprezentare juridică în special în operațiuni de fuziuni și achiziții\, achiziții publice și PPP\, proiecte de dezvoltare imobiliară–achiziții imobiliare complexe și greenfield\, dreptul concurenței și dreptul contractelor și în drept fiscal. De asemenea\, intervine cu succes în litgii și arbitraje naționale și ICC complexe\, mai ales în ariile sale de expertiză. Cu o vastă experiență în domeniul achizițiilor publice\, lucrând în acest domeniu din 2004 si având o bună cunoaștere a evoluției legislative și jurisprudențiale europene și națională\, atât înainte de aderarea României la UE\, cât și ulterior\, ea oferă asistență juridică și reprezentare în toate etapele unui proiect de achiziții publice\, de la faza de pregătire a ofertelor și de depunere până la încheiere și implementarea contractului de achiziție\, precum și în toate fazele litigioase ale unei proceduri de achiziție publică (în fața Consiliului Național de Soluționare Contestații și instanțe judecătorești) / contract public (instanțe judecătorești\, curți de arbitraj național și internaționale).  \n  \nTeodora KOLETSIS este Avocat Asociat al Cabinetului GRUIA DUFAUT\, cu o experiență de 15 ani în dreptul afacerilor\, fiind specializată în dreptul contractelor\, drept imobiliar & construcții\, fuziuni și achiziții\, dreptul proprietății\, drept medical & farma. Experiența dobândită îi permite să intervină cu succes atât în dosare de consultanță juridică pentru investitori români și străini\, cât și în dosare de contencios civil\, comercial și fiscal. Ca avocat pledant\, reprezintă clienții în fața tuturor instanțelor și autorităților din România\, precum și la CEDO. \nModerator : Dana GRUIA DUFAUT\, Managing Partner \n  \nProfilul participanților : Webinarul se adresează cu precădere managerilor de companii\, directorilor și responsabililor de achiziții / vânzări\, reprezentanților departamentelor juridice. \n  \nParticiparea este GRATUITĂ\, însă înregistrarea obligatorie.  \nPentru participare\, vă rugăm să completați Formularul de înregistrare.  \nWebinarul se va desfășura în limba română. \n  \nDupă încheierea perioadei de înregistrare (6 iulie 2020\, ora 14.00)\, veți primi un link pentru conectarea la eveniment via Zoom. \n  \nVă așteptăm ! \n  \n 
URL:https://ccib.ro/eveniment/covid19-particularitati-achizitii-contracte/
CATEGORIES:Cursuri,Eveniment
ATTACH;FMTTYPE=image/png:https://ccib.ro/wp-content/uploads/2020/06/Banner-Werbinar-final.png
ORGANIZER;CN="CCIB":MAILTO:membri@ccib.ro;
END:VEVENT
BEGIN:VEVENT
DTSTART;VALUE=DATE:20200708
DTEND;VALUE=DATE:20200710
DTSTAMP:20260422T094942
CREATED:20200703T092825Z
LAST-MODIFIED:20200703T092825Z
UID:16942-1594166400-1594339199@ccib.ro
SUMMARY:Cursul RESPONSABIL CU GESTIONAREA DESEURILOR
DESCRIPTION:  \nCamera de Comert si Industrie a Municipiului Bucuresti reincepe organizarea Cursului RESPONSABIL CU GESTIONAREA DESEURILOR\, la care va invita sa participati in perioada 08 – 09 iulie 2020\, in intervalul orar 13.00-17.00\,  la sediul CCIB din str. Ion Ghica nr. 4\, sector 3\, etaj 2\, sala Stefan Cerkez. \nIn contextul pandemiei COVID-19\, este  esential sa cooperam pentru a depasi cu bine dificultatile acestei perioade. Avand in vedere acest lucru\, echipa CCIB asigura toate conditiile de siguranta impuse de autoritatile statului\, iar numarul participantilor este limitat la 10 persoane. \nSeminarul se adreseaza operatorilor economici care produc\, utilizeaza\, manipuleaza\, depoziteaza sau transporta deseuri nepericuloase si/sau periculoase\, persoane juridice\, care detin autorizatie/autorizatie integrata de mediu. \n  \nIn conformitate cu prevederile OUG nr. 74/2018 pentru modificarea si completarea Legii nr. 211/2011\, a Legii nr. 249/2015 si a OUG nr. 196/2005 privind Fondul de mediu\, cu modificarile si completarile ulterioare „persoanele juridice\, care detin autorizatie/autorizatie integrata de mediu au obligatia sa desemneze o persoana\, din randul angajatilor proprii\, care sa urmareasca si sa asigure indeplinirea obligatiilor prevazute de prezenta lege sau sa delege aceasta obligatie unei terte persoane”. \nPersoanele desemnate trebuie sa fie instruite in domeniul gestiunii deseurilor\, inclusiv a deseurilor periculoase\, ca urmare a absolvirii unor cursuri de specialitate. Nedesemnarea unei persoane constituie contraventie si se sanctioneaza cu amenda conform legii. \n  \nTematica cursului: \n  \nPrezentarea actelor normative care reglementeaza domeniul protectiei mediului referitoare la solicitarea si obtinerea actelor de reglementare\, precum si obligatiile titularilor de activitate impuse prin legislatia specifica privind regimul deseurilor\, in conformitate cu prevederile legislatiei comunitare. \n\nOrdonanta de Urgenta a Guvernului nr. 74/2018 pentru modificarea si completarea Legii nr. 211/2011 privind regimul deseurilor\, a Legii nr. 249/ 2015 privind modalitatea de gestionare a ambalajelor si deseurilor de ambalaje si a OUG nr. 196/2005 privind Fondul de mediu.\nOrdonanta de Urgenta a Guvernului nr. 195/2005 privind protectia mediului\, cu modificarile si completarile ulterioare cu referire la obligatiile operatorilor economici fata de cerintele impuse prin actele de reglementare privind protectia mediului- studii de caz.\nOM nr.739/2017 privind aprobarea Procedurii de inregistrare a operatorilor economici care nu se supun autorizarii de mediu conform prevederilor Legii nr.211/2011 privind regimul deseurilor.\nLegea nr. 211/2011 privind regimul deseurilor – obligatiile agentilor economici;\nHG 856/2002 privind evidenta gestiunii deseurilor si pentru aprobarea listei cuprinzând deseurile\, inclusiv deseurile periculoase\, cu completarile ulterioare;\nHG 1061/2008 privind transportul deseurilor periculoase si nepericuloase pe teritoriul României;\nLegea 249/2015 privind gestionarea ambalajelor si a deseurilor de ambalaje\, cu modificarile si completarile ulterioare;\nIdentificarea\, caracterizarea si codificarea deseurilor – studiu de caz.\nGestionarea deseurilor si\, in special\, a anumitor categorii reglementate prin acte normative speciale: uleiurile uzate\, bateriile si acumulatorii uzati\, deseurile de echipamente electrice si electronice\, deseurilor periculoase\, etc.;\nIntocmirea si raportarea Registrului privind evidenta deseurilor nepericuloase si periculoase.\nObligatiile fata de fondul de mediu in domeniul gestiunii deseurilor si ambalajelor.\nSolutii practice pentru conformarea agentilor economici cu cerintele legislatiei de mediu in domeniul deseurilor. Evitarea sanctiunilor.Trasabilitatea deseurilor\nInformatii privind aplicatiile SIM si DSS existente pe site-ul ANPM.\n\n  \nCursul beneficiaza de expertiza dnei ing. Magdalena Gheorghe\, consultant in domeniul protectiei mediului\, având experienta dobândita in cadrul autoritatilor de mediu\, APM/ANPM si Garda Nationala de Mediu. \nLa finalul cursurilor se vor elibera certificatele de absolvire emise de Camera de Comert si Industrie a Municipiului Bucuresti. \n  \nTaxa de participare este de 300 lei/participant la care se adauga TVA si se poate achita conform formularului de participare anexat. \nPretul include: suportul de curs\, pauza de cafea\, suport din partea organizatorului pe toata durata cursului\, certificatul de absolvire oferit de organizator. \nFirmele membre ale CCIB cu cotizatia achitata la zi beneficiaza de o reducere de 30% din taxa. \nPentru inscrieri va rugam sa transmiteti formularul de participare completat\, la adresa de e-mail: anca.apalaghiei@ccib.ro \n  \nPentru alte detalii va rugam sa ne contactati la tel: 0730.980.807\,e-mail: anca.apalaghiei@ccib.ro\, persoana de contact Anca Apalaghiei. \nIn speranta ca acest eveniment prezinta interes pentru dumneavoastra\, asteptam confirmarea participarii pana la data de 07.07.2020. \n  \n  \n\n  \nDescarca Formular inscriere
URL:https://ccib.ro/eveniment/cursul-responsabil-cu-gestionarea-deseurilor-iulie2020/
LOCATION:Birou  reprezentare CCIB – Londra\, 1 Belgrave Square\, London\, London\, SW1X 8PH\, United Kingdom
CATEGORIES:Cursuri,Eveniment
ATTACH;FMTTYPE=image/jpeg:https://ccib.ro/wp-content/uploads/2020/07/banner-site-ccib-deseuri-iulie-2019.jpg
ORGANIZER;CN="CCIB":MAILTO:membri@ccib.ro;
END:VEVENT
BEGIN:VEVENT
DTSTART;VALUE=DATE:20200722
DTEND;VALUE=DATE:20200801
DTSTAMP:20260422T094942
CREATED:20200623T085834Z
LAST-MODIFIED:20200623T085834Z
UID:16922-1595376000-1596239999@ccib.ro
SUMMARY:Curs Broker de Afaceri
DESCRIPTION:Fii parte din cea mai mare comunitate internațională de profesioniști în vânzarea de afaceri! \nCamera de Comert si Industrie a Municipiului Bucuresti (CCIB)\, în colaborare cu TradeX-Transfer Afaceri\, organizeaza în perioada 22 –24 iulie și 29 – 31 iulie ( miercuri – vineri) cursul Broker de Afaceri\, pentru calificarea în vânzarea\, cumpărarea sau transferul de afaceri\, ONLINE\,  pe platforma ZOOM\,  \nBrokerajul de Afaceri deschide noi oportunități în piața de business din România. \nCreșterea economică din România\, înmulțirea numărului de întreprinderi\, precum și îmbătrânirea proprietarilor de IMM-uri creează și menține un climat prielnic vânzărilor de afaceri.\nCreată special pentru Romania\, în parteneriat cu International Business Brokers Association\, Școala de Business Brokers este locul în care începe viitorul tău! \nProprietarii de afaceri mici și mijlocii care se apropie rapid de vârsta pensionării au nevoie de un profesionist care să îi ajute să-și vândă afacerile. Au nevoie de tine! \nDacă îți place mediul de afaceri\, cariera de Business Broker este o alegere naturală – vei avea contact cu multe tipuri de companii\, dar și stiluri de management diferite. În brokerajul de afaceri\, zilele nu sunt niciodată la fel\, iar veniturile sunt consistente! \nDupă finalizarea cursurilor\, îți punem la dispoziție: \n\nDiplomă eliberată de IBBA\, recunoscută la nivel internațional\nIDX-BB: o platformă unică pentru vânzarea și cumpărarea de afaceri\nPromovarea anunțurilor tale pe site-uri de specialitate\nSuport și mentorat din partea comunității de brokeri TradeX\n\nPrețul cursului de business broker este de 950 lei. \nÎnscrie-te acum  \nla cursul online și vei avea parte de o experiență de învățare completă\, prin interacțiunea directă cu trainer-ul și colegii\, chiar din confortul casei tale! \naccesand:  https://trade-x.ro/ro/curs-business-broker \nAcum\, milioane de oameni învață lucruri noi de acasă. Poți fi și tu unul dintre ei! \nIată care sunt avantajele cursului online de Business Broker: \n\nNu mai trebuie să te deplasezi nicăieri\, poți participa direct de acasă\, indiferent de locația ta.\nVei interacționa live atât cu trainerul\, cât și cu viitorii colegi. Vă veți vedea în timp real și veți putea comunica așa cum ați face-o și în sala de clasă.\nVei putea înregistra părțile care ți se par interesante.\nAi nevoie doar de un laptop\, tabletă sau PC dotat cu webcam și microfon.\nO să primești manualul în format fizic înainte de începerea cursului. Dezinfectat 😀\n\n\nÎn plus\, te susținem și după curs! Ai posibilitatea să câștigi pachete de promovare pentru primele tale listări\, pe site-uri specializate\, naționale și internaționale. \nÎncepe-ți acum cariera de Business Broker! \nDiploma IBBA\, recunoscută în toată lumea\, te transformă în expert internațional în transferul de afaceri! \n\nDetalii organizatorice\n  \nPrimul curs online de business broker se va desfășura în perioada 22 –24 iulie și 29 – 31 iulie ( miercuri – vineri)\, astfel: \nProgram: miercuri și joi: orele 14-19\, iar vinerea\, 13-19. \nÎn total\, veti parcurge 32 de ore de training. La fel ca în sala de clasă.  \nDupa inscrierea realizata accessand linkul indicat avem rugamintea sa confirmati participarea si pe e-mail: anca.apalaghiei@ccib.ro \, persoana de contact: Anca Apalaghiei.  \nTelefon: 0730 980 807 \nIată care sunt cursurile pe care le vei parcurge alături de noi \n✓IBBA #100 – Etică Profesională și Cadrul Legislativ pentru Intermediarii de Afaceri\no Codul Etic\, Standarde de Conduită\no Tipuri de Transferuri de Afaceri \n✓IBBA #101 – Introducere în Brokerajul de Afaceri\no Pregătirea Listării Afacerilor\no Căutarea Cumpărătorilor\no Derularea Vânzării\no Probleme Neprevăzute\, Transferul Afacerii\, După Vânzare \n✓IBBA #107 – Analiza Financiară a unei Afaceri de Vânzare\no Bilanțul Contabil\no Contul de Profit și Pierdere\no Cash Flow\no EBITDA \n✓IBBA #108 – Depășirea Obiecțiilor din Contractele de Listare și Vânzare\no Înțelegerea Obiecțiilor\no Obiecții la Contractele de Listare\no Obiecții la Contractele de Vânzare \n✓IBBA #119 – Cum să Supraviețuiești și să Reușești în Primul An de Brokeraj\no Crearea un Plan care Funcționează\no Stabilirea și Definirea Corectă a Obiectivelor\n▪ specifice\, măsurabile\, realizabile\, realiste și care pot fi realizate la timp\no Cum să Găsești Surse de Recomandare \n✓IBBA #145 – Pregătirea unei Afaceri pentru Vânzare\no Rezumatul Afacerii\, Teaser și Prezentări Rapide\no Memorandum de Informare \n✓ IBBA #150 – Crearea Listărilor de Afaceri la Vânzare\no Crearea unui Inventar de Afaceri la Vânzare\no Strategiile de Listare\no Întâlnirea cu Proprietarul Afacerii \n✓IBBA #220 – Determinarea Prețului Corect pentru Vânzarea Afacerii\no Preț Bazat pe Risc și Recompensă\no Finanțarea Vânzării și Structura Acordului\no Metode de Calcul al Prețului de Vânzare \n✓Prezentarea Platformei de Brokeraj: IDX-BB (CRM gratuit pentru Brokerii de Afaceri)\no Simplifică și ușurează pe cât se poate munca unui Broker de Afaceri\no Ajută la pregătirea afacerii de vânzare și expunerea corectă a acesteia\no Publică afacerile de vânzare pe cinci website-uri din România\, Europa și Internațional în funcție de necesitatea de expunere a acestora\no Editează automat Oferta de Colaborare și Teaser-ul\no Editează automat Contractele cu Clienții\, Acordul de Confidențialitate și Scrisoarea de Intenție\noEditează parțial automatizat Memorandumul de Informare și potențialul preț de vânzare\no Oferă acces la chestionare\, materiale informative\, broșuri sau orice alte documente tipizate necesare în relația cu un client\no Păstrează toate documentele create sau importate centralizate pe fișiere generate automat\, pentru fiecare client\no Oferă acces la cereri de reprezentare ale vânzătorilor sau cumpărătorilor de afaceri\, lista de noi oportunități\no Creează o bază de date cu afaceri la vânzare\, cumpărători de afaceri\, alți brokeri și specialiști\no Facilitează networking-ul intern între brokeri și specialiști\no Organizează agenda sarcinilor și întâlnirilor necesare pentru fiecare client în particular sau în lista centralizată și calendar \n  \nVă așteptăm sa parcurgem împreună această experiență și vă dorim mult succes! Echipa CCIB \n  \n  \nDescarca Formular inscriere \n 
URL:https://ccib.ro/eveniment/curs-broker-de-afaceri-iulie2020/
CATEGORIES:Cursuri,Eveniment
ATTACH;FMTTYPE=image/jpeg:https://ccib.ro/wp-content/uploads/2020/05/curs-business-broker-1920-1080.jpg
ORGANIZER;CN="CCIB":MAILTO:office@ccib.ro
END:VEVENT
BEGIN:VEVENT
DTSTART;VALUE=DATE:20200728
DTEND;VALUE=DATE:20200729
DTSTAMP:20260422T094942
CREATED:20200721T065559Z
LAST-MODIFIED:20200722T124659Z
UID:16985-1595894400-1595980799@ccib.ro
SUMMARY:“Google pentru IMM-uri: dezvoltarea online a afacerii”
DESCRIPTION:Camera de Comerț și Industrie a Municipiului București\, în parteneriat cu Google România organizează în data de 28 iulie\, începând cu ora 11.00\, webinarul “Google pentru IMM-uri: dezvoltarea online a afacerii”. \nPentru a continua dezvoltarea afacerii\, îndeosebi în contextul pandemiei COVID-19\, considerăm că IMM-urile trebuie să fie familiarizate cu mediul online. Astfel\, vă invităm să luați parte la un eveniment personalizat pe nevoile antreprenorilor și mediului de afaceri din București\, pentru a le facilita și susține digitalizarea. \nTematica abordată va fi susținută de către un trainer Google specializat și va cuprinde următoarele subiecte: \n\nCum construiești o prezență online pentru afacerea ta?\nCum dezvolți o afacere folosind instrumente online?\nCum folosești social media pentru a-ți promova afacerea?\nCum atragi mai mulți clienți cu Google Ads? (doar în limita timpului alocat)\n\nDurata webinarului va fi de 1h-1h30min\, participarea este gratuită\, iar înscrierea se face prin completarea acestui formular – link de înscriere. \nFoarte important de respectat\, la înscriere avem rugămintea să menționați/adăugați\, neapărat într-o paranteză\, la numele de familie/numele afacerii\, mențiunea “CCIB”\, pentru ca ulterior să puteți primi invitația cu link de acces pe Google Hangouts (Meet)\, unde se va ține concret webinarul. \nAvem rugamintea sa confirmati participarea si la adresele de mail de mai jos. \n  \nPentru informații suplimentare\, ne puteți contacta pe: \n\ne-mail: anca.apalaghiei@ccib.ro și ruxandra.stoica@ccib.ro\ntelefon: 0730980807 – Anca Apalaghiei și 0740249775 – Ruxandra Stoica.\n\nÎn speranța că evenimentul prezintă interes pentru dumneavoastră\, așteptăm confirmarea participării pâna la data de 27 iulie 2020.
URL:https://ccib.ro/eveniment/google-imm-ccib-iulie2020/
CATEGORIES:Cursuri,Eveniment
ATTACH;FMTTYPE=image/jpeg:https://ccib.ro/wp-content/uploads/2020/07/banner-site-FINAL.jpg
ORGANIZER;CN="CCIB":MAILTO:membri@ccib.ro;
END:VEVENT
END:VCALENDAR