BEGIN:VCALENDAR
VERSION:2.0
PRODID:-//Camera de Comerţ şi Industrie a Municipiului Bucureşti - ECPv6.15.14//NONSGML v1.0//EN
CALSCALE:GREGORIAN
METHOD:PUBLISH
X-ORIGINAL-URL:https://ccib.ro
X-WR-CALDESC:Evenimente pentru Camera de Comerţ şi Industrie a Municipiului Bucureşti
REFRESH-INTERVAL;VALUE=DURATION:PT1H
X-Robots-Tag:noindex
X-PUBLISHED-TTL:PT1H
BEGIN:VTIMEZONE
TZID:Europe/Moscow
BEGIN:STANDARD
TZOFFSETFROM:+0300
TZOFFSETTO:+0300
TZNAME:MSK
DTSTART:20200101T000000
END:STANDARD
END:VTIMEZONE
BEGIN:VEVENT
DTSTART;VALUE=DATE:20210216
DTEND;VALUE=DATE:20210218
DTSTAMP:20260421T230930
CREATED:20210201T095123Z
LAST-MODIFIED:20210201T095241Z
UID:17638-1613433600-1613606399@ccib.ro
SUMMARY:Cursul RESPONSABIL CU GESTIONAREA DESEURILOR
DESCRIPTION:Camera de Comert si Industrie a Municipiului Bucuresti organizeaza in premiera\, Cursul RESPONSABIL CU GESTIONAREA DESEURILOR\, LIVE\, în sistem de videoconferinţă\, in perioada 16 – 17 februarie 2021\, intre orele 12.00-16.00\, pe platforma ZOOM. \nPe toata durata evenimentului\, cursanţii sunt în legătură directă cu lectorul\, 100% LIVE\, pot să comunice în timp real cu acesta\, pot adresa întrebări şi pot rezolva exerciţii interactive. \n  \nCursul se adreseaza operatorilor economici care produc\, utilizeaza\, manipuleaza\, depoziteaza sau transporta deseuri nepericuloase si/sau periculoase\, persoane juridice\, care detin autorizatie/autorizatie integrata de mediu. \nIn conformitate cu prevederile OUG nr. 74/2018 pentru modificarea si completarea Legii nr. 211/2011\, a Legii nr. 249/2015 si a OUG nr. 196/2005 privind Fondul de mediu\, cu modificarile si completarile ulterioare „persoanele juridice\, care detin a autorizatie/autorizatie integrata de mediu au obligatia sa desemneze o persoana\, din randul angajatilor proprii\, care sa urmareasca si sa asigure indeplinirea obligatiilor prevazute de prezenta lege sau sa delege aceasta obligatie unei terte persoane”. \nPersoanele desemnate trebuie sa fie instruite in domeniul gestiunii deseurilor\, inclusiv a deseurilor periculoase\, ca urmare a absolvirii unor cursuri de specialitate. Nedesemnarea unei persoane constituie contraventie si se sanctioneaza cu amenda conform legii. \n  \nTematica cursului: \n  \nPrezentarea actelor normative care reglementeaza domeniul protectiei mediului referitoare la solicitarea si obtinerea actelor de reglementare\, precum si obligatiile titularilor de activitate impuse prin legislatia specifica privind regimul deseurilor\, in conformitate cu prevederile legislatiei comunitare. \n\nOrdonanta de Urgenta a Guvernului nr. 74/2018 pentru modificarea si completarea Legii nr. 211/2011 privind regimul deseurilor\, a Legii nr. 249/ 2015 privind modalitatea de gestionare a ambalajelor si deseurilor de ambalaje si a OUG nr. 196/2005 privind Fondul de mediu.\nOrdonanta de Urgenta a Guvernului nr. 195/2005 privind protectia mediului\, cu modificarile si completarile ulterioare cu referire la obligatiile operatorilor economici fata de cerintele impuse prin actele de reglementare privind protectia mediului- studii de caz.\nOM nr.739/2017 privind aprobarea Procedurii de inregistrare a operatorilor economici care nu se supun autorizarii de mediu conform prevederilor Legii nr.211/2011 privind regimul deseurilor.\nLegea nr. 211/2011 privind regimul deseurilor – obligatiile agentilor economici;\nHG 856/2002 privind evidenta gestiunii deseurilor si pentru aprobarea listei cuprinzând deseurile\, inclusiv deseurile periculoase\, cu completarile ulterioare;\nHG 1061/2008 privind transportul deseurilor periculoase si nepericuloase pe teritoriul României;\nLegea 249/2015 privind gestionarea ambalajelor si a deseurilor de ambalaje\, cu modificarile si completarile ulterioare;\nIdentificarea\, caracterizarea si codificarea deseurilor – studiu de caz.\nGestionarea deseurilor si\, in special\, a anumitor categorii reglementate prin acte normative speciale: uleiurile uzate\, bateriile si acumulatorii uzati\, deseurile de echipamente electrice si electronice\, deseurilor periculoase\, etc.;\nIntocmirea si raportarea Registrului privind evidenta deseurilor nepericuloase si periculoase.\nObligatiile fata de fondul de mediu in domeniul gestiunii deseurilor si ambalajelor.\nSolutii practice pentru conformarea agentilor economici cu cerintele legislatiei de mediu in domeniul deseurilor. Evitarea sanctiunilor.Trasabilitatea deseurilor\nInformatii privind aplicatiile SIM si DSS existente pe site-ul ANPM.\n\n  \nCursul beneficiaza de expertiza dnei ing. Magdalena Gheorghe\, consultant in domeniul protectiei mediului\, având experienta dobândita in cadrul autoritatilor de mediu\, APM/ANPM si Garda Nationala de Mediu. \nLa finalul cursurilor se vor elibera certificatele de absolvire emise de Camera de Comert si Industrie a Municipiului Bucuresti. \n  \nTaxa de participare este de 300 lei/participant la care se adauga TVA si se poate achita conform formularului de participare anexat. \nPretul include: suportul de curs\, suport din partea organizatorului pe toata durata cursului\, certificatul de absolvire oferit de organizator (CCIB). \nFirmele membre ale CCIB cu cotizatia achitata la zi beneficiaza de o reducere de 30% din taxa. \nPentru inscrieri va rugam sa transmiteti formularul de participare completat la adresele de e-mail: anca.apalaghiei@ccib.ro si  ruxandra.stoica@ccib.ro.  \n În urma confirmării înscrierii\, participanții vor primi datele de conectare la eveniment\, în platforma Zoom. \n  \nPentru alte detalii va rugam sa ne contactati la tel: 0730.980.807\,  e-mail: anca.apalaghiei@ccib.ro\, persoana de contact Anca Apalaghiei sau Ruxandra.Stoica\, \ntel: 0740.249.775\, e-mail: ruxandra.stoica@ccib.ro . \nIn speranta ca acest eveniment prezinta interes pentru dumneavoastra\, asteptam confirmarea participarii pana la data de 15.02.2021. \n  \n\n  \nDescarca Formular inscriere
URL:https://ccib.ro/eveniment/cursul-responsabil-cu-gestionarea-deseurilor-feb2021/
CATEGORIES:Cursuri,Eveniment
ATTACH;FMTTYPE=image/jpeg:https://ccib.ro/wp-content/uploads/2021/02/banner-site-ccib-deseuri-feb-2021.jpg
ORGANIZER;CN="CCIB":MAILTO:membri@ccib.ro;
END:VEVENT
BEGIN:VEVENT
DTSTART;VALUE=DATE:20210222
DTEND;VALUE=DATE:20210226
DTSTAMP:20260421T230930
CREATED:20210218T135351Z
LAST-MODIFIED:20210218T135351Z
UID:17727-1613952000-1614297599@ccib.ro
SUMMARY:Curs MS EXCEL pentru sectorul financiar-bancar
DESCRIPTION:MS EXCEL pentru sectorul financiar-bancar \n                                     Nivel MEDIU – AVANSAT \n  \n  \nPrezentarea cursului \nMS Excel este una dintre aplicaţiile cele mai utilizate în mediul de afaceri\, datorită facilităţilor pe care le oferă pentru gestionarea şi analiza datelor\, modul prietenos şi intuitiv de operare. IBR oferă un curs interactiv\, cu  modele şi studii de caz aplicabile în activitatea curentă a unei organizaţii. Participanţii îşi vor însuşi tehnicile avansate de lucru cu formule\, funcţii\, baze de date\, tabele pivot\, analiza datelor şi utilizarea facilităţilor de colaborare oferite de mediul Excel. \n  \nGrup ţintă \nCursul se adresează persoanelor care utilizează aplicaţii specifice firmelor şi care doresc să folosească produsul Excel la un nivel profesional şi complex\, atât la nivel managerial\, cât si de execuţie. \n  \nCondiţii minime de acces \nParticiparea la acest curs presupune cunoştinţe de bază în operarea cu MS Excel. \n  \nCursul are ca obiective \n\nidentificarea problemelor din activitatea curentă care pot fi rezolvate cu ajutorul instrumentelor Excel;\n\n\nprezentarea tehnicilor de analiză şi sinteză a datelor în scopul realizării de rapoarte performante;\nutilizarea instrumentelor de audit pentru verificarea datelor şi formulelor din foile de calcul;\nutilizarea scenariilor pentru fundamentarea deciziilor;\nautomatizarea operaţiilor curente utilizând macrocomenzi;\nutilizarea programului Excel în medii multi-user.\n\n  \nTematica \n\nEditarea datelor: utilizarea referinţelor şi numelor de celule şi domenii\, formatări avansate ale datelor\, formatări condiţionate\, crearea şi actualizarea legăturilor între datele din foi de calcul\, crearea şi utilizarea şabloanelor;\nFuncţii Excel: funcţii pentru dată şi oră\, matematice\, statistice\, pentru text\, financiare\, de căutare şi referinţă\, logice\, de baze de date; funcţii imbricate;\nGestionarea datelor: sortare şi filtrare\, divizarea unei coloane în elemente componente\, eliminarea duplicatelor;\nValidarea şi auditul datelor;\nSinteza şi analiza datelor: subtotaluri simple şi imbricate\, consolidarea datelor\, tabele pivot şi diagrame pivot;\nAnaliza what-if: tabele de date\, scenarii\, rezolvarea unei probleme cu rezultat propus utilizând Goal Seek;\nReprezentări grafice: alegerea tipului potrivit de grafic\, reprezentarea datelor\, formatarea avansată a graficelor\, analiza datelor cu ajutorul reprezentărilor grafice;\nAutomatizarea operaţiilor curente utilizând macrocomenzi;\n\n\nLucrul colaborativ în mediul Excel: partajarea fişierelor\, compararea şi unirea fişierelor într-o singură copie\, urmărirea modificărilor\, protejarea datelor şi fişierelor Excel.\n\n  \nDurata şi perioadă \nCursul are o durată de 16 ore (4 ZILE) de instruire teoretică/practică şi se desfăşoară în perioada: 22 – 25 februarie 2021\, orele 16.00 – 20.00. \nÎnscrierea la curs se face prin completarea fişei de înscriere. \nIBR va organiza cursul online\, pe platforma ZOOM. \n  \n  \n  \n  \nLector \nLuciana Bercean – formator autorizat\, cu o experiență de peste 8 ani în livrarea de cursuri în domeniul IT\, specializată în programele din suita Microsoft Office: Word\, Excel\, Access\, PowerPoint și Outlook. Deține importante certificări în domeniu: Microsoft Certified Trainer (MCT)\, Microsoft Office Specialist Expert Excel 2016\, expert ECDL \n  \n  \n  \nAtestarea  \nLa finalul cursului\, participanţilor li se va înmâna un certificat\, emis de IBR (sub egida membrilor fondatori: BNR şi ARB)\, cu 16 credite de dezvoltare profesională continuă (CPDs). \nCursanţii care doresc să obţină şi o certificare internaţională pot opta la finalul cursului pentru susţinerea testării ECDL (European Computer Driving Licence)\, modulul Excel\, în cadrul Centrului de Testare Acreditat ECDL din IBR\, prin plata unei taxe suplimentare de 315 lei. \n  \nTARIFUL SPECIAL pentru membrii CCIB cu cotizaţia achitată la zi (redus cu 25% faţă de tariful standard): 805 lei/persoană (nu se aplică TVA)  \n  \nPlata se va face integral\, cu cel puţin patru zile înainte de începerea cursului\, în  contul Institutului Bancar Roman numărul RO93BTRLRONCRT0261315401\, deschis la Banca Transilvania\, Sucursala Lipscani (pe ordinul de plată va rugăm să specificaţi numele cursanţilor şi titlul cursului). \n  \nÎn cazul în care un participant anunţă retragerea sa de la curs cu 1-2 zile\, înainte de începerea cursului\, din taxa de participare se reţine un procent de 17 %. \n  \nÎn cazul în care un participant anunţă retragerea la data începerii cursului\, taxa de participare nu se mai restituie. În toate cazurile există posibilitatea înlocuirii participantului retras cu un alt participant\, caz în care nu se percepe nici o penalizare. \n  \n  \nRoxana Ivan \nAdministrator formare\, IBR \nemail: roxana.ivan@ibr-rbi.ro \ntel: 0748 886 839
URL:https://ccib.ro/eveniment/curs-excel-financiar-bancar-feb2021/
CATEGORIES:Cursuri,Eveniment
ORGANIZER;CN="CCIB":MAILTO:membri@ccib.ro;
END:VEVENT
BEGIN:VEVENT
DTSTART;VALUE=DATE:20210225
DTEND;VALUE=DATE:20210226
DTSTAMP:20260421T230930
CREATED:20210218T134443Z
LAST-MODIFIED:20210222T152939Z
UID:17719-1614211200-1614297599@ccib.ro
SUMMARY:Curs ADMINISTRAREA AFACERILOR ÎN MEDIUL ONLINE
DESCRIPTION:DESCRIERE: introducere în administrarea afacerilor online\, înţelegerea tehnicilor de administrare în mediul online la îndemâna antreprenorilor şi companiilor. \nGRUPUL ŢINTĂ: antreprenori\, angajaţi din instituţii publice\, angajaţi din companii private\, persoane care doresc să se familiarizeze sau să înfiinţeze o afacere online \nCONŢINUT: \n\nModele de afaceri pe internet\nAvantaje competitive\, inovaţii distruptive si oportunităţi în mediul online\nAplicaţii de e-business\nProduse şi servicii online\nManagementul resurselor umane în mediul online\nPolitica de preţ în mediul online\nInstrumente de comunicare în mediul online\nConfidenţialitatea\, încrederea şi protecţia datelor în mediul online\n\n  \n  \n\n\n\nLECTOR:  \nMihaela-Cornelia DAN – consultant marketing; conf. univ. dr. la ASE București\, Facultatea de Administrarea Afacerilor cu predare în limbi străine (FABIZ). Este membru în corpul profesoral al MBA-ului Romano-German și MBA în Energie\, programe dezvoltate în cadrul FABIZ. \nÎmbinând o experiență didactică și practică de peste 15 ani\, Mihaela și-a consolidat pregătirea printr-un doctorat în marketing. Pe parcursul carierei a acumulat experiență aplicată în marketing\, lucrând în acest domeniu\, la o companie românească. De asemenea\, a fost implicată într-o serie de proiecte naționale și internaționale cu focus pe marketing internațional\, dezvoltare regională\, mediul european de afaceri\, etc. \nÎn prezent\, Mihaela conduce un centru de sprijin pentru start-up-uri în cadrul ASE și este administratorul propriei afaceri. \nDe asemenea\, Mihaela este lector/expert asociat al IBR\, susţinând cu succes seminarii în domeniul marketing şi publicitate online. \n \n\n\n\nPERIOADA DE DESFĂŞURARE:  \n25 februarie 2021\, orele 9.00 – 17.00. \nCursul se va livra ONLINE\, pe platforma ZOOM  \nCursanţii vor avea nevoie de un laptop sau tabletă și conexiune la internet. \nMai precis: vom folosi platforma ZOOM\, care pentru cursanţi este o platformă gratuită şi care nu necesită crearea unui cont. \nCursanţii vor avea nevoie de un calculator (laptop)\, dotat cu sistem de operare MINIM WINDOWS 7\, placă de sunet integrat şi browserul Chrome. În cazul în care accesul la un calculator nu este posibil\, cursanţii pot accesa întâlnirea online şi de pe telefon cu condiţia de a-şi fi descărcat şi instalat înainte aplicaţia. Ideal ar fi totuşi un calculator pentru condiţii optime de vizualizare. \nInvitaţia este generată de către lector sub forma unui link\, care va fi transmis cursanţilor de către organizator\, cu o zi înainte de data de începere a cursului. \nCursanţii trebuie să acceseze linkul primit la data şi ora cursului. \nPentru siguranţă vom face împreună cu participanţii câteva teste\, înainte de începerea cursului. \nPentru a înţelege cât de uşor este de accesat platforma ZOOM\, puteţi urmări acest video: https://youtu.be/fVRReTFe5Lg \nÎnscrierea la curs se face prin completarea fişei de înscriere anexate. \nIBR va organiza cursul online pe platforma ZOOM. \nLa finalul cursului\, participanţilor li se va înmâna un certificat\, emis de IBR (sub egida membrilor fondatori: BNR şi ARB)\, cu 7 credite de dezvoltare profesională continuă (CPDs). \n  \nTARIFUL SPECIAL pentru membrii CCIB cu cotizatia achitata la zi (redus cu 255 faţă de tariful standard): 655 lei/persoană (nu se aplică TVA)  \n  \nPERSOANA DE CONTACT \nRoxana Ivan \nSpecialist formare \nTelefon mobil: 0748 886 839 \ne-mail: roxana.ivan@ibr-rbi.ro \n  \n[1] Plata se va face integral\, cu cel puţin patru zile înainte de începerea cursului\, în contul Institutului Bancar Român numărul RO93BTRLRONCRT0261315401\, deschis la Banca Transilvania\, Sucursala Lipscani (pe ordinul de plată va rugăm să specificaţi numele cursanţilor şi titlul cursului). În cazul în care un participant anunţă retragerea sa de la curs cu 1-2 zile înainte de începerea cursului\, din taxa de participare se reţine un procent de 17 %. În cazul în care un participant anunţă retragerea la data începerii cursului\, taxa de participare nu se mai restituie. În toate cazurile\, există posibilitatea înlocuirii participantului retras cu un alt participant\, caz în care nu se percepe nici o penalizare. \nDescarca Formular inscriere \n 
URL:https://ccib.ro/eveniment/cursul-radministrarea-afacerilor-online-ibrfeb2021/
CATEGORIES:Cursuri,Eveniment
ATTACH;FMTTYPE=image/png:https://ccib.ro/wp-content/uploads/2021/02/administrarea-afacerilor-online.png
ORGANIZER;CN="CCIB":MAILTO:membri@ccib.ro;
END:VEVENT
END:VCALENDAR