BEGIN:VCALENDAR
VERSION:2.0
PRODID:-//Camera de Comerţ şi Industrie a Municipiului Bucureşti - ECPv6.15.14//NONSGML v1.0//EN
CALSCALE:GREGORIAN
METHOD:PUBLISH
X-WR-CALNAME:Camera de Comerţ şi Industrie a Municipiului Bucureşti
X-ORIGINAL-URL:https://ccib.ro
X-WR-CALDESC:Evenimente pentru Camera de Comerţ şi Industrie a Municipiului Bucureşti
REFRESH-INTERVAL;VALUE=DURATION:PT1H
X-Robots-Tag:noindex
X-PUBLISHED-TTL:PT1H
BEGIN:VTIMEZONE
TZID:Europe/Moscow
BEGIN:STANDARD
TZOFFSETFROM:+0300
TZOFFSETTO:+0300
TZNAME:MSK
DTSTART:20200101T000000
END:STANDARD
END:VTIMEZONE
BEGIN:VEVENT
DTSTART;VALUE=DATE:20211125
DTEND;VALUE=DATE:20211126
DTSTAMP:20260418T180639
CREATED:20211102T144436Z
LAST-MODIFIED:20211103T144457Z
UID:18912-1637798400-1637884799@ccib.ro
SUMMARY:SEMINAR APLICAT PRIVIND TRADE FINANCE
DESCRIPTION:SEMINAR APLICAT PRIVIND TRADE FINANCE\n  \nOBIECTIVUL CURSULUI \n\nInițiere în structura principalelor produse bancare privind Finanțarea comerțului și rolul lor în tranzacțiile internaționale\ncaracteristici esențiale care diferențiază un produs de altul (ex. acreditiv vs. cont escrow vs. incaso) și prezentarea avantajelor și dezavantajelor raportate la o anume tranzacție\nimportanța acestora pentru vânzătorul-exportator care nu deține informații cu privire la soliditatea financiară și reputatională a unui cumpărător cu care a încheiat un contract\nacoperirea riscurilor transfrontaliere din perspectiva jurisdicției\, plăților\, rolul primar al băncii emitente din perspectiva obligației de plată care\, spre exemplu\, acoperă riscul de neplată sau chiar de insolvență al cumpărătorului\nmodalități de a obținere a controlulului asupra mărfurilor (documente de proprietate solicitate în cadrul instrumentelor trade)\navantaje conexe pentru vânzător (scontare\, prefinanțare export de banca negociatoare\, prefinanțare export de către banca emitentă prin RED CLAUSE a acreditivului\, utilizarea acreditivului Back-to Back)\n\n  \nGRUP ŢINTĂ \nPersonalul bancar din departamentele de finanțarea comerțului; juridic\, responsabili clientela IMM şi corporaţii. De asemenea\, seminarul este util personalului din companii care activează în departamentele operaţionale de export\, import\, vânzare\, desfacere\, marketing\, financiar-contabil\, juridic\, precum şi firmelor de transport şi logistică\, asigurătorilor\, declaranţilor vamali\, etc. \n  \nCONŢINUT \n\nContractul comercial\nIncoterms 2020: negocierea termenului de livrare adecvat tranzacției comerciale\nIncasso-ul: definitie\, caracteristici\, tipuri\, flux\, avantaje/riscuri\nAcreditivul documentar: definiție\, caracteristici\, tipuri\, flux\, avantaje/riscuri\nContractul escrow: definiție\, caracteristici\, derulare\n\nConceptele teoretice vor fi exemplificate prin analizarea unor studii de caz. \nNumărul maxim de participanți/serie este de 15. \n  \n  \n  \n  \nLECTOR  \nStancu MAVRODINEANU are o experiență bancară (BRCE\, BCR\, Raiffeisen Bank) de peste 30 de ani\, din care 25 în activitatea de finanțarea comerțului internațional. De-a lungul carierei\, a fost un participant activ în implementarea sistemului SWIFT în România\, pentru categoriile de mesaje aferente finanțării comerțului internațional\, în derularea și finanțarea proiectelor comerciale de anvergură\, implicând produse și structuri complexe. \nCu participări la cursuri și seminarii interne și internaționale\, cu responsabilități în formarea noilor angajați privind produsele fezabile activității privind finanțarea comerțului\, lectorul vă va împărtăși know–how-ul necesar înțelegerii și asimilarii mecanismului complex al garanției bancare\, a utilizării acesteia transparent și echidistant față de clienți. \nPERIOADA DE DESFĂŞURARE:  25 noiembrie 2021\, orele 13.00 – 17.00 \nÎnscrierea la curs se face prin completarea fişei de înscriere. \nLa finalul cursului\, participanţilor li se va înmâna un certificat\, emis de IBR (sub egida membrilor fondatori: BNR şi ARB)\, cu 4 credite de dezvoltare profesională continuă (CPDs). \nTARIFUL SPECIAL pentru membrii CCIB cu cotizaţia achitată la zi (redus cu 25% faţă de tariful standard): 480 lei/persoană (nu se aplică TVA)  \nCursul se va livra ONLINE\, pe platforma ZOOM  \nCursanţii vor avea nevoie de un laptop sau tabletă și conexiune la internet. \nMai precis: vom folosi platforma ZOOM\, care pentru cursanţi este o platformă gratuită şi care nu necesită crearea unui cont. Cursanţii vor avea nevoie de un calculator (laptop)\, dotat cu sistem de operare MINIM WINDOWS 7\, placă de sunet integrat şi browserul Chrome. În cazul în care accesul la un calculator nu este posibil\, cursanţii pot accesa întâlnirea online şi de pe telefon cu condiţia de a-şi fi descărcat şi instalat înainte aplicaţia. Ideal ar fi totuşi un calculator pentru condiţii optime de vizualizare. Invitaţia este generată de către lector sub forma unui link\, care va fi transmis cursanţilor de către organizator\, cu o zi înainte de data de începere a cursului. Cursanţii trebuie să acceseze linkul primit la data şi ora cursului. Pentru siguranţă vom face împreună cu participanţii câteva teste\, înainte de începerea cursului. Pentru a înţelege cât de uşor este de accesat platforma ZOOM\, puteţi urmări acest video: https://youtu.be/fVRReTFe5Lg \nPERSOANĂ DE CONTACT: Anca Străchinescu\, Specialist formare \nTel.: 0748886818\, e-mail: anca.strachinescu@ibr-rbi.ro \nDescarca Formular inscriere \n 
URL:https://ccib.ro/eveniment/seminar-aplicat-privind-trade-finance/
CATEGORIES:Cursuri,Eveniment
ATTACH;FMTTYPE=image/jpeg:https://ccib.ro/wp-content/uploads/2021/11/banner-curs-trade-finance.jpg
ORGANIZER;CN="CCIB":MAILTO:membri@ccib.ro;
END:VEVENT
END:VCALENDAR