BEGIN:VCALENDAR
VERSION:2.0
PRODID:-//Camera de Comerţ şi Industrie a Municipiului Bucureşti - ECPv6.15.14//NONSGML v1.0//EN
CALSCALE:GREGORIAN
METHOD:PUBLISH
X-ORIGINAL-URL:https://ccib.ro
X-WR-CALDESC:Evenimente pentru Camera de Comerţ şi Industrie a Municipiului Bucureşti
REFRESH-INTERVAL;VALUE=DURATION:PT1H
X-Robots-Tag:noindex
X-PUBLISHED-TTL:PT1H
BEGIN:VTIMEZONE
TZID:Europe/Moscow
BEGIN:STANDARD
TZOFFSETFROM:+0300
TZOFFSETTO:+0300
TZNAME:MSK
DTSTART:20210101T000000
END:STANDARD
END:VTIMEZONE
BEGIN:VEVENT
DTSTART;TZID=Europe/Moscow:20220701T090000
DTEND;TZID=Europe/Moscow:20220701T123000
DTSTAMP:20260418T175850
CREATED:20220627T162136Z
LAST-MODIFIED:20220627T162327Z
UID:19666-1656666000-1656678600@ccib.ro
SUMMARY:Intâlniri de lucru cu reprezentanții MAT din cadrul BPCE din Misiunile diplomatice ale României în străinătate\, 29.06-01.07.2022\, la Palatul CCIB
DESCRIPTION:Stimata doamna/Stimate domn\nPresedinte/Director general/Administrator\, \nAvem placerea sa va informam că urmare preocuparii constante de a sprijini internaționalizarea afacerilor firmelor și companiilor romanesti\, Ministerul Antreprenoriatului și Turismului (MAT) în colaborare cu Camera de Comerț și Industrie a Municipiului București (CCIB) vor organiza în perioada 29 iunie – 1 iulie 2022\, între orele 9:00 și 13:00\, la Palatul CCIB\, strada Ion Ghica nr. 4\, sector 3\, întâlniri de lucru pentru firmele și companiile interesate cu reprezentanții MAT din cadrul Birourilor de Promovare Comercial Economică (BPCE) din Misiunile diplomatice ale României în străinătate cu prilejul efectuării pregătirii anuale în țară a acestora. \nEste o ocazie unică pentru firmele si companiile românești de a promova pe pietele externe produsele și serviciile\, de a identifica noi oportunități de cooperare internațională\, inclusiv de atragere de investiții străine și turisti în țara noastra\, intrand in contact direct cu reprezentanții economici ai României în strainatate\, precum și cu cei ai Departamentului de Comerț Exterior (DCE) din MAT (timpul va fi alocat exclusiv convorbirilor directe cu reprezentanții BPCE-urilor\, precum și cu cei din DCE pentru situațiile în care interesul se refera la țări în care nu există BPCE). \nPrin efortul CCIB\, participarea la intalnire este gratuita fiind necesara doar inregistrarea. Pentru eventuale informatii suplimentare poate fi contactat dl. Mircea Toader\, Coordonator Relatii Internationale CCIB \, la tel. 0725 167 894 sau 0723 144 663. \nIn dorința de a veni in intampinarea posibilitatilor firmelor si companiilor interesate\, dar si pentru evitarea aglomerării\, exista rugamintea de a se avea în vedere folosirea tuturor celor 3 zile alocate intalnirilor cu reprezentantii din reteaua externa de promovare comercial economica ai MAT indicand ”ziua preferata”. \nVa multumim pentru colaborare\, va dorim mult succes in activitatea Dumneavoastra si asteptam cu drag reprezentantii mediului de afaceri din judetul Dvs. la intalnirile cu diplomatii din Birourile de Promovare Comercial Economică din cadrul misiunilor diplomatice ale României în străinătate\, precum și cu specialiștii din Departamentul de Comerț Exterior. \nIuliu STOCKLOSA\nPreședinte CCIB
URL:https://ccib.ro/eveniment/intalniri-de-lucru-cu-reprezentantii-mat-din-cadrul-bpce-din-misiunile-diplomatice-ale-romaniei-in-strainatate-29-06-01-07-2022-la-palatul-ccib-1iulie/
LOCATION:Birou  reprezentare CCIB – Londra\, 1 Belgrave Square\, London\, London\, SW1X 8PH\, United Kingdom
CATEGORIES:Eveniment
ATTACH;FMTTYPE=image/jpeg:https://ccib.ro/wp-content/uploads/2022/06/diplomatie.jpg
ORGANIZER;CN="CCIB":MAILTO:membri@ccib.ro;
END:VEVENT
END:VCALENDAR