BEGIN:VCALENDAR
VERSION:2.0
PRODID:-//Camera de Comerţ şi Industrie a Municipiului Bucureşti - ECPv6.15.14//NONSGML v1.0//EN
CALSCALE:GREGORIAN
METHOD:PUBLISH
X-ORIGINAL-URL:https://ccib.ro
X-WR-CALDESC:Evenimente pentru Camera de Comerţ şi Industrie a Municipiului Bucureşti
REFRESH-INTERVAL;VALUE=DURATION:PT1H
X-Robots-Tag:noindex
X-PUBLISHED-TTL:PT1H
BEGIN:VTIMEZONE
TZID:Europe/Moscow
BEGIN:STANDARD
TZOFFSETFROM:+0300
TZOFFSETTO:+0300
TZNAME:MSK
DTSTART:20250101T000000
END:STANDARD
END:VTIMEZONE
BEGIN:VEVENT
DTSTART;TZID=Europe/Moscow:20260504T100000
DTEND;TZID=Europe/Moscow:20260504T120000
DTSTAMP:20260424T145654
CREATED:20260423T132753Z
LAST-MODIFIED:20260423T154506Z
UID:28393-1777888800-1777896000@ccib.ro
SUMMARY:ROMANIA–INDIA STRATEGIC BUSINESS DIALOGUE
DESCRIPTION:                                                                                   \nCamera de Comerţ şi Industrie a Municipiului Bucureşti (CCIB) \nvă adresează INVITAȚIA de a participa luni\, 4 mai 2026 la \n  \nROMANIA–INDIA STRATEGIC BUSINESS DIALOGUE \ncu începere de la ora 10:00\, înregistrarea de la 09:30\,  în Sala de Bal \na Palatului CCIB\, Strada Ion Ghica 4\, sector 3\, etaj 3.  \n  \nEvenimentul este prilejuit de vizita în România a domnului Sibi George\, Secretar de Stat în cadrul Ministerul Afacerilor Externe al Indiei. \nAceastă întâlnire reprezintă o oportunitate valoroasă pentru companiile românești interesate de internaționalizare\, oferind acces direct la informații privind mediul de afaceri din India și direcțiile actuale de dezvoltare economică. \nParticiparea la eveniment vă permite: \n\nSă explorați oportunități concrete de acces pe una dintre cele mai dinamice piețe globale\,\nSă dialogați cu oficiali de rang înalt și reprezentanți instituționali\nSă stabiliți contacte relevante pentru viitoare parteneriate comerciale și investiționale\n\n  \nLa forum vor participa Excelența Sa Dr. Manoj Kumar Mohapatra\, Ambasador al Republicii India în România\, împreună cu reprezentanții Ambasadei\, reprezentați ai Ministerului Afacerilor Externe (MAE)\, ai Agenția Române pentru Investiții și Comerț Exterior (ARICE)\, precum și ai altor instituții și organizații relevante. \nAgenda va include o sesiune dedicată interacțiunii directe cu companiile indiene\, care vor participa în format online\, oferind participanților români oportunitatea de a identifica potențiali parteneri într-un cadru dinamic și accesibil\, precum și o sesiune de Q&A. \nEvenimentul va cuprinde sesiuni interactive de dialog\, întâlniri de tip B2B și oportunități de prezentare a companiilor participante\, facilitând un schimb real de idei și inițierea unor colaborări concrete. Pentru înscriere\, vă rugăm să accesați link-ul formularului de înscriere de mai jos până la data de 28.04.2026. \n  \nPentru detalii suplimentare\, vă puteți adresa Departamentului Relații Internaționale:  Dna. Adriana Crișan\,  Șef al Departamentul Relații Internaționale\, tel. 0729 743 032 sau e-mail adriana.crisan@ccib.ro și Dra. Nadjet Ranete\, Consilier\, tel. 0735 565 121\, e-mail nadjet.ranete@ccib.ro \n  \nFormular de înscriere: https://forms.gle/rWMM6dm1ApMxSzDEA  \n  \nVă așteptăm cu drag! \n 
URL:https://ccib.ro/eveniment/romania-india-strategic-business-dialogue-2026/
LOCATION:Sala de Bal\, Palatul CCIB\, Str. Ion Ghica\, nr. 4\, Bucuresti\, Bucuresti\, Romania
CATEGORIES:Business Breakfast,Eveniment
ATTACH;FMTTYPE=image/png:https://ccib.ro/wp-content/uploads/2026/04/1920x1080.png
ORGANIZER;CN="CCIB":MAILTO:office@ccib.ro;
END:VEVENT
END:VCALENDAR