BEGIN:VCALENDAR
VERSION:2.0
PRODID:-//Camera de Comerţ şi Industrie a Municipiului Bucureşti - ECPv6.15.14//NONSGML v1.0//EN
CALSCALE:GREGORIAN
METHOD:PUBLISH
X-ORIGINAL-URL:https://ccib.ro
X-WR-CALDESC:Evenimente pentru Camera de Comerţ şi Industrie a Municipiului Bucureşti
REFRESH-INTERVAL;VALUE=DURATION:PT1H
X-Robots-Tag:noindex
X-PUBLISHED-TTL:PT1H
BEGIN:VTIMEZONE
TZID:Europe/Moscow
BEGIN:STANDARD
TZOFFSETFROM:+0300
TZOFFSETTO:+0300
TZNAME:MSK
DTSTART:20170101T000000
END:STANDARD
END:VTIMEZONE
BEGIN:VEVENT
DTSTART;TZID=Europe/Moscow:20180315T084500
DTEND;TZID=Europe/Moscow:20180315T150000
DTSTAMP:20260424T052911
CREATED:20180302T112741Z
LAST-MODIFIED:20180315T080058Z
UID:11841-1521103500-1521126000@ccib.ro
SUMMARY:Soluții pentru recuperarea bunurilor și a creanțelor
DESCRIPTION:Legal Magazin și Camera de Comerț și Industrie București organizează \nSoluții pentru recuperarea bunurilor și a creanțelor \nEdiția a II-a\, 15.03.2018 \nAula Carol I \nPalatul Camerei de Comerț și Industrie București \nStr. Ion Ghica\, Nr. 4\, Sector 3\, București \n  \nPrezentare: \nMediul de afaceri este profund afectat de ritmul lent în care se recuperează creanțele celor care-și nu-și onorează contractele. Ingeniozitatea de care dau dovadă debitorii pentru a nu plăti creanțele este uriașă. Există o mulțime  de cazuri în care datornici ai băncilor sau societăților de leasing ascund bunurile sau le înstrăinează cu rea-credință pentru a nu putea fi recuperate. \nTimpul de soluţionare a unui litigiu în instanță este foarte lung\, chiar şi în cauzele cu nivel minim de dificultate\, fiind nevoie de cel puţin 6 luni pentru finalizare. Mai mult\, nu există practici unitare ale instanțelor. \nOrganizatorii își propun ca la evenimentul din 15 martie să se identifice soluții eficiente la problemele juridice ivite în procesul de recuperare a creanțelor. Totodată\, vor fi făcute o serie de propuneri de îmbunătățire / actualizare a legislației în domeniu. \n  \nTeme de discuție: \nJurisprudență – Dosare de litigii pentru recupererea bunurilor și a creanțelor \nAspecte în legislația actuală care permit debitorilor să scape \nDificultăți în procedura de executare silită \nImplementarea unor mijloace de comunicare eficiente între creditor și debitor \nDeschiderea creditorilor către identificarea soluțiilor de plată \nConcursul eficient al organelor statului în activitatea de recuperare a creanțelor \nCompensarea creanțelor \n  \nVorbitori: \n–  Sorin Dimitriu\, Presedinte\, Camera de Comert si Industrie Bucuresti \n–  Nicoleta Mirela Năstasie\, Judecător\, Secția a VII-a Civilă\, Tribunalul București \n–  Cristina Cornaci\, Director General\, Avestis International \n–  Adrian Morjan\, Manager Operațional\, AS Credit Recover Consulting \n–  Iancu Guda\, Services Director\, Coface Romania \n–  Corina Soare\, Corporate Enforcement Department Manager\, Remedial Management Division\, Banca Românească \n–  Radu-Cătălin Pavel\, Managing Partner\, Pavel\, Mărgărit & Associates \n–  Florian Mateiță\, Partner\, RomInsolv \n–  Adrian Dragomir\, Director General\, Termene.ro \n  \nAgendă: \n08:45 – 09:30: Înregistrarea participanților și welcome coffee \n09:30 – 11:30: SESIUNEA I \n11:30 – 12:00: Business networking coffee break \n12:00 – 14:00: SESIUNEA II \n14:00 – 15:00: Business lunch &  networking \n  \nParteneri: Avestis\, AS Recover\, DCA\, Coface Romania\, Editura Publica\, Elva Group\, AMCC\, ELSA Bucuresti. \nTaxa de participare este de 350 lei pentru un participant si se va plati conform formularului de participare atasat sau in numerar direct la eveniment. \nParticipantii vor primi cartea ”De ce eșuează companiile? 10 greșeli și 100 de soluții”\, scrisa de Iancu Guda\, Services Director\, Coface România. \nFormular de înregistrare – click pentru download \n  \nContact: \nMircea Fica\, Senior Editor\, Legal Magazin: 0732 903 216\, mircea.fica@legalmagazin.ro \nRoxana Biga\, Sales Manager\, Legal Magazin; 0736.366.192\, office@legalmagazin.ro \n 
URL:https://ccib.ro/eveniment/solutii-pentru-recuperarea-bunurilor-si-creantelor/
LOCATION:Birou  reprezentare CCIB – Londra\, 1 Belgrave Square\, London\, London\, SW1X 8PH\, United Kingdom
CATEGORIES:Eveniment
ATTACH;FMTTYPE=image/jpeg:https://ccib.ro/wp-content/uploads/2018/03/e-banner-RECUPERAREA-CREANTELOR-1920-px-x-1080-px-02.jpg
ORGANIZER;CN="CCIB":MAILTO:office@ccib.ro
END:VEVENT
END:VCALENDAR