BEGIN:VCALENDAR
VERSION:2.0
PRODID:-//Camera de Comerţ şi Industrie a Municipiului Bucureşti - ECPv6.15.14//NONSGML v1.0//EN
CALSCALE:GREGORIAN
METHOD:PUBLISH
X-ORIGINAL-URL:https://ccib.ro
X-WR-CALDESC:Evenimente pentru Camera de Comerţ şi Industrie a Municipiului Bucureşti
REFRESH-INTERVAL;VALUE=DURATION:PT1H
X-Robots-Tag:noindex
X-PUBLISHED-TTL:PT1H
BEGIN:VTIMEZONE
TZID:Europe/Moscow
BEGIN:STANDARD
TZOFFSETFROM:+0300
TZOFFSETTO:+0300
TZNAME:MSK
DTSTART:20170101T000000
END:STANDARD
END:VTIMEZONE
BEGIN:VEVENT
DTSTART;TZID=Europe/Moscow:20180327T090000
DTEND;TZID=Europe/Moscow:20180327T130000
DTSTAMP:20260424T040845
CREATED:20180320T232945Z
LAST-MODIFIED:20180320T233110Z
UID:12081-1522141200-1522155600@ccib.ro
SUMMARY:Ziua Oportunităţilor de Afaceri - Republica Cipru - 27.03.2018
DESCRIPTION:Camera de Comerț și Industrie a Muncipiului București (CCIB)\, în parteneriat cu Camera de Comert si Industrie Romania – Cipru\, Baker Tilly Romania si EximBank organizează marți\, 27 martie 2018\, între orele 10\,00 – 13\,00 (înregistrarea de la ora 9\,30)\, la Palatul CCIB din str. Ion Ghica nr. 4 (vis-a-vis de sediul BNR) la evenimentul: \nZIUA OPORTUNITĂȚILOR DE AFACERI \ndedicat promovării schimburilor comerciale și cooperării româno-cipriote. Invitații speciali ai acestei ediții sunt Excelența Sa domnul Ștefan-Radu OPREA\, ministrul pentru mediul de afaceri\, comerț și antreprenoriat\, Excelența Sa domnul Dimitris HATZIARGYROU\, ambasadorul Republicii Cipru în România și Dl Marios Klitou\, consul onorific al Romaniei la Limasol. La eveniment au fost invitaţi și alți reprezentanţi ai Ministerului pentru Mediul de Afaceri\, Comerț și Antreprenoriat\, precum și MAE. \nLa eveniment vor mai participa cu scurte prezentări reprezentanții ai unor firme implicate în colaborarea comercial-economică dintre cele două țări. Proiectul de program al evenimentului se anexează. \nVor fi prezentate cadrul relațiilor comerciale și economice dintre cele două țări\, mediul de afaceri din Republica Cipru\, posibilitățile de a sprijini internaționalizarea afacerilor firmelor din cele două țări\, precum și oportunitățile de afaceri\, inclusiv cele referitoare la domeniile și proiectele de investiții din R. Cipru.\nFiecare participant la întâlnire poate dialoga cu invitații și să-și prezinte obiectivele: căutarea de clienți\, de furnizori sau parteneri de afaceri\, cunoașterea condițiilor și posibilităților investiționale. Totodată\, în cadrul evenimentului vor putea participa la sesiunea de networking. \nPentru confirmări participare și detalii suplimentare persoane de contact: Mircea Toader\, consilier al președintelui pentru relații internaționale\, telefon 0723.144.663/0725167894\, mircea.toader@ccib.ro\, Sandra Lăsculescu\, consilier relații internaționale\, sandra.lasculescu@ccib.ro si Mona Neagu\, sef birou administrativ al Baker Tilly Romania\, m.neagu@bakertilly.ro . \nPROGRAM „ZIUA OPORTUNITĂŢILOR DE AFACERI – Republica Cipru”\nMarți\, 27 martie 2018\nAula Carol I\, etaj 2\n9:30 – 13:00 \n\n\n\n09:30-10:00\nÎnregistrarea participanţilor şi networking\n\n\n10:00-10:10\nCuvântul de deschidere al dl. Prof. Univ. Dr. Sorin DIMITRIU\, Preşedinte al Camerei de Comerţ şi Industrie a Municipiului Bucureşti\n\n\n10:10-10:30\nAlocuțiunea E.S dl. Ștefan-Radu OPREA\, ministrul pentru mediul de afaceri\, comerț și antreprenoriat\, privind preocupările guvernului și ministerului pentru promovarea cooperării economice și schimburilor comerciale internaționale\, precum și a atragerii investițiilor străine cu referiri punctuale privind relațiile cu Republica Cipru.\n\n\n10:30-10:40\nAlocuţiunea E.S dl. Dimitris Hatziargyrou\, ambasador al RepubliciiCipru în România\n\n\n10:40-11:10\nEvoluții curente și oportunități de investiții în Cipru\, prezintă Dl.Marios Klitou – Consul Onorific al Romaniei in Limasol\n\n\n11:10–11:40\nStructurarea investițiilor tinand cont de schimbările fiscale internaționale\, prezentare sustinuta de Dl. Neofytos Neofytou – Directorul Departamentului de Fiscaliatate in cadrul Baker Tilly in Sud Estul Europei\n\n\n11:40-12:00\nPosibilități de susținere a exportatorilor români prin programele EXIMBANK\, sponsor al evenimentului\, expuse de dna. Corina VULPEŞ\, directorul Direcţiei Marketing şi Comercial\, Divizia Finanţări\, Garanţii\, Asigurări Nume şi Cont Stat (DFGANCS) din cadrul EximBank\n\n\n12:00-12:15\nPrezentarea companiei Baker Tilly in Romania de catre Dna CameliaHorlaci – Director General al Baker Tilly RO & MD\n\n\n12:15-12:30\nSesiune de întrebări şi răspunsuri\n\n\n12:30-13:00\nNetworking si tratatie
URL:https://ccib.ro/eveniment/ziua-oportunitatilor-de-afaceri-republica-cipru-27-03-2018/
LOCATION:Birou  reprezentare CCIB – Londra\, 1 Belgrave Square\, London\, London\, SW1X 8PH\, United Kingdom
CATEGORIES:Eveniment
ATTACH;FMTTYPE=image/jpeg:https://ccib.ro/wp-content/uploads/2018/03/banner-site-ccib-zoa-cipru-martie-2018.jpg
ORGANIZER;CN="CCIB":MAILTO:office@ccib.ro
END:VEVENT
END:VCALENDAR