BEGIN:VCALENDAR
VERSION:2.0
PRODID:-//Camera de Comerţ şi Industrie a Municipiului Bucureşti - ECPv6.15.14//NONSGML v1.0//EN
CALSCALE:GREGORIAN
METHOD:PUBLISH
X-ORIGINAL-URL:https://ccib.ro
X-WR-CALDESC:Evenimente pentru Camera de Comerţ şi Industrie a Municipiului Bucureşti
REFRESH-INTERVAL;VALUE=DURATION:PT1H
X-Robots-Tag:noindex
X-PUBLISHED-TTL:PT1H
BEGIN:VTIMEZONE
TZID:Europe/Moscow
BEGIN:STANDARD
TZOFFSETFROM:+0300
TZOFFSETTO:+0300
TZNAME:MSK
DTSTART:20170101T000000
END:STANDARD
END:VTIMEZONE
BEGIN:VEVENT
DTSTART;VALUE=DATE:20180514
DTEND;VALUE=DATE:20180516
DTSTAMP:20260424T024453
CREATED:20180427T193001Z
LAST-MODIFIED:20180427T193212Z
UID:12848-1526256000-1526428799@ccib.ro
SUMMARY:Curs Cerinte pentru sisteme de management anticoruptie conform standardului ISO 37001:2016
DESCRIPTION:Camera de Comert si Industrie a Municipiului Bucuresti in colaborare cu CERTIND SA organizeaza cursul Cerinte pentru sisteme de management anticoruptie conform standardului ISO 37001:2016\, in perioada 14-15.05.2018\, orele 9.30 -17.30\, la sediul CCIB din  str. Ion Ghica nr.4\, etaj 2\, sala Stefan Cerkez sector 3\, Bucuresti. \nCursul se adreseaza: angajatilor din organizatiilor mici\, mijlocii si mari din toate sectoarele\, inclusiv din sectoarele public\, privat si făra scop lucrativ. \nTemele abordate in cadrul cursului: \n14 mai 2018  \n– Relatia dintre ISO 37001 si alte standarde ISO\n– Contextul organizatei\n– Conducere si angajament\n– Politici\n– Roluri\, responsabilitati si autoritati\n– Riscuri si oportunitati\n– Obiective si planificare pentru atingerea lor\n– Informatii documentate\n– Planificare si control operationale\n– Investigare preventivă rezonabila\n– Controale financiare si nefinanciare\n– Implementarea controalelor anticoruptie de către organizatii controlate si de către parteneri de afaceri\n \n15 mai 2018 \n– Angajamente anticoruptie\n– Cadouri\, ospitalitate\, donatii şi beneficii similare\n– Gestionarea inadecvării controalelor anticoruptie\n– Semnalarea preocupărilor\n– Audit intern\n– Analiza efectuata de management\n– Analiza efectuată de functia de conformare anticoruptie\n– Neconformitati si actiuni corective\n– Imbunatatire continua\n– Test final de evaluare a cunostintelor\n \nCursul va beneficia de expertiza dnei. Virginica PEAGU– Director tehnic\, CERTIND SA\, expert/auditor RENAR cu experienta de peste 10 ani. \nLa finalul cursurilor se vor elibera certificatele de absolvire emise de CERTIND SA si Camera de Comert si Industrie a Municipiului Bucuresti. \nTaxa de participare este de 800 lei/participant la care se adauga TVA. \nFirmele membre ale CCIB cu cotizatia achitata la zi beneficiaza de o reducere de 30% din taxa. \nPretul cursului include: suportul de curs si eliberarea certificatului de absolvire. \nInscrierile se fac pe baza de formularului de inscriere. Plata se face prin ordin de plata a contravalorii facturii proforme emise de CERTIND SA. \nPentru detalii si inscrieri\, va rugam sa contactati pe dna. Ana Dulgheru (tel: 021.311.44.99\, 0730.990.756\, e-mail ana.dulgheru@ccib.ro) din partea CCIB. \nIn speranta ca acest curs prezinta interes pentru dumneavoastra\, asteptam confirmarea participarii pana la data de 11.05.2018. \nDescarca Formular inscriere curs
URL:https://ccib.ro/eveniment/curs-cerinte-pentru-sisteme-de-management-anticoruptie-conform-standardului-iso-370012016/
LOCATION:Birou  reprezentare CCIB – Londra\, 1 Belgrave Square\, London\, London\, SW1X 8PH\, United Kingdom
CATEGORIES:Cursuri,Eveniment
ATTACH;FMTTYPE=image/jpeg:https://ccib.ro/wp-content/uploads/2018/04/banner-site-ccib-management-anticoruptie-mai-2018.jpg
ORGANIZER;CN="CCIB":MAILTO:ana.dulgheru@ccib.ro
END:VEVENT
END:VCALENDAR