BEGIN:VCALENDAR
VERSION:2.0
PRODID:-//Camera de Comerţ şi Industrie a Municipiului Bucureşti - ECPv6.15.14//NONSGML v1.0//EN
CALSCALE:GREGORIAN
METHOD:PUBLISH
X-ORIGINAL-URL:https://ccib.ro
X-WR-CALDESC:Evenimente pentru Camera de Comerţ şi Industrie a Municipiului Bucureşti
REFRESH-INTERVAL;VALUE=DURATION:PT1H
X-Robots-Tag:noindex
X-PUBLISHED-TTL:PT1H
BEGIN:VTIMEZONE
TZID:Europe/Moscow
BEGIN:STANDARD
TZOFFSETFROM:+0300
TZOFFSETTO:+0300
TZNAME:MSK
DTSTART:20170101T000000
END:STANDARD
END:VTIMEZONE
BEGIN:VEVENT
DTSTART;VALUE=DATE:20180523
DTEND;VALUE=DATE:20180525
DTSTAMP:20260424T023638
CREATED:20180427T195125Z
LAST-MODIFIED:20180427T195125Z
UID:12855-1527033600-1527206399@ccib.ro
SUMMARY:Curs Trecerea de la OHSAS 18001:2007 la ISO 45001:2018
DESCRIPTION:Camera de Comert si Industrie a Municipiului Bucuresti in colaborare cu  SC CERTIND SA organizeaza cursul Trecerea de la OHSAS 18001:2007 la ISO 45001:2018\, in perioada 23-24 mai 2018\, orele 9.30 -17.30\, la sediul CCIB din  str. Ion Ghica nr.4\, etaj 2\, sala Stefan Cerkez sector 3\, Bucuresti.\nCursul se adreseaza: angajatilor din organizatiilor mici\, mijlocii si mari din toate sectoarele\, inclusiv din sectoarele public\, privat si fara scop lucrativ. \nTemele abordate in cadrul cursului: \n23 mai 2018 \n– Prezentarea anexei SL – High Level Structure\n– Modificari la nivel de structura in ISO 45001:2018 fata de OHSAS 18001:2007\n– Abordarea pe baza de proces\n– Conceptul de gândire pe baza de risc\n– Contextului organizatiei\n– Identificarea partilor interesate si a necesitatilor acestora\n– Determinarea domeniului de aplicarea al sistemului de management\, a proceselor si a succesiunii acestora\n– Leadership si implicarea angajatilor\n– Identificarea pericolelor si tratarea riscurilor si oportunitatilor\n– Stabilirea si planificarea obiectivelor\n– Planificarea schimbarilor\n– Resurse; Competenta; Constientizare\n– Comunicare\n– Informatii documentate \n24 mai 2018 \n– Planificare si control operational\n– Eliminarea pericolelor si diminuarea riscurilor\n– Managementul schimbarii\n– Pregatire pentru situatii de urgenta si capacitate de raspuns\n– Monitorizare\, masurare\, analiza si evaluare\n– Monitorizarea satisfactiei clientului\n– Auditul intern\n– Raportarea si analiza efectuata de management\n– Metode si tehnici de imbunatatire\n– Test final de evaluare a cunostintelor. \nCursul va beneficia de expertiza dl. Dr. ing. Traian TEODORU expert/auditor/consultant cu o vechime de peste 20 de ani in domeniul sistemelor de management. \nLa finalul cursurilor se vor elibera certificatele de absolvire emise de CERTIND SA si Camera de Comert si Industrie a Municipiului Bucuresti. \nTaxa de participare este de 650 lei/participant la care se adauga TVA. \nFirmele membre ale CCIB cu cotizatia achitata la zi beneficiaza de o reducere de 30% din taxa. \nPretul cursului include: suportul de curs si eliberarea certificatului de absolvire. \nInscrierile se fac pe baza de formularului de inscriere. Plata se face prin ordin de plata a contravalorii facturii proforme emise de CERTIND SA. \nPentru detalii si inscrieri\, va rugam sa contactati pe dna. Ana Dulgheru (tel: 021.311.44.99\, 0730.990.756\, e-mail ana.dulgheru@ccib.ro) din partea CCIB. \nIn speranta ca acest curs prezinta interes pentru dumneavoastra\, asteptam confirmarea participarii pana la data de 21.05.2018. \nDescarca Formular inscriere curs
URL:https://ccib.ro/eveniment/curs-trecerea-de-la-ohsas-180012007-la-iso-450012018/
LOCATION:Birou  reprezentare CCIB – Londra\, 1 Belgrave Square\, London\, London\, SW1X 8PH\, United Kingdom
CATEGORIES:Cursuri,Eveniment
ATTACH;FMTTYPE=image/jpeg:https://ccib.ro/wp-content/uploads/2018/04/banner-site-ccib-trecerea-de-la-ohsas-la-iso-mai-2018.jpg
ORGANIZER;CN="CCIB":MAILTO:ana.dulgheru@ccib.ro
END:VEVENT
BEGIN:VEVENT
DTSTART;VALUE=DATE:20180524
DTEND;VALUE=DATE:20180525
DTSTAMP:20260424T023638
CREATED:20180502T211512Z
LAST-MODIFIED:20180502T211512Z
UID:12903-1527120000-1527206399@ccib.ro
SUMMARY:Cursul Comunicare pentru eficienta in business
DESCRIPTION:Camera de Comert si Industrie a Municipiului Bucuresti (CCIB) in parteneriat cu SC Global Consulting & Training Center SRL organizeaza cursul COMUNICARE PENTRU EFICIENTA IN BUSINESS in data de 24 mai 2018\, orele 9.30-17.30 la sediul CCIB\, sala Curtea de Arbitraj\, etaj 2\, str. Ion Ghica nr. 4\, sector 3\, Bucuresti. \nObiectivele cursului: \n1.Transmiterea cunostintelor necesare eficientei individuale\, intaririi rezultatelor obtinute prin comunicare si stabilirea de relatii interindividuale eficiente. \n2. Operationalizarea la nivel individual si de grup a unor principii atitudinal – comportamentale competitive pentru succes profesional si personal. \n3. Cunoasterea\, exersarea si aplicarea unui set de instrumente si tehnici cu impact in transformarea atitudinala si persuasiune care se observa in cresterea succesului. \nStructura cursului \n1. Cunoscandu-te ii poti cunoaste pe ceilalti: o abordare neurostiintifica. \n2. Cunoscandu-te ii poti cunoaste pe ceilalti: o abordare psihologica practica. \n3. Diferente de personalitate: identificarea lor\, predictia si modul cel mai indicat de comportament cu fiecare tip de personalitate. \n4. Cunoscandu-te ii poti cunoaște pe ceilalti: o abordare comportamentala si experimentala. \n5. Ce pot si cat utilizez din potentialul meu? Cum sa imi pot folosi potentialul maxim? \n6. Cum ii fac pe cei din jur sa aibe un comportament ideal? \nContinutul modulelor de curs \nCursul este organizat in module interactive\, cu studii de caz\, exemple concrete\, simulari de situatii si exercitii practice\, cu urmatoarea structura: \n§ Cunoscandu-te ii poti cunoaște pe ceilalti: o abordare neuroștiintific \n– Familiarizeaza si faciliteaza intelegerea comportamentelor dobandite in prima parte a vietii. De ce facem lucruri pe care nu ar trebui sa le facem?. Abordeaza „citirea” interlocutorului din perspectiva presetting-ului personalitatii.\n– Cunoscandu-te ii poti cunoaste pe ceilalti: o abordare psihologica practica \n– Evidentiaza aspectele soft ale comportamentului si largeste unghiul din care este analizat competitorul dar si propriile reactii. Cum sa facem ca obisnuintele noastre sa ne ajute si nu sa ne saboteze? Abordeaza „citirea” interlocutorului din perspectiva adaptarii personalitatii.\na \n§ Diferente de personalitate: identificarea lor\, predictia si modul cel mai indicat de comportament pentru fiecare tip de comportament. \n– Surprinde si descrie elementele specifice personalitatilor dificile\, accentuate. Familiarizeaza intelegerea si ofera indici de depistare a personalitatilor dificile si furnizeaza elemente de predictie comportamentala .\na \n§ Cunoscandu-te ii poti cunoaste pe ceilalti: o abordare comportamentala si experimentala \n– Asigura cunoasterea si autocunoasterea din perspectiva indicatorilor comportamentali. De ce nu ma fac inteles si cum sa devin convingator?\na \n§ Managementul starilor subiective si decodificarea limbajului  \n– Strategii de „citire” a individului din perspectiva a microindicilor comportamentali si prin decodarea limbajului. Asigura stabilirea unor relatii calitative prin tehnici specifice derivate din intelegerea celuilalt.\n– Citirea interlocutorului pe baza indicatorilor non-verbali.\na \n\nParticipanti \nSesiunea este deschisa tuturor celor interesati sa isi dezvolte potentialul si sa se orienteze rapid catre succes aplicand tehnici eficiente de comunicare si relationare. \nFormator \nDomnul Dr. Marin Dramnescu este lector universitar doctor in cadrul Departamentului pentru Pregatirea personalului Didactic din cadrul Academiei de Studii Economice din Bucuresti. Este psiholog si are o experienta de opt ani in formarea adultilor\, fiind si Doctor in Stiinte ale Educatiei dar si Doctor in Stiinte Politice. Domnul Dr. Marin Dramnescu este recunoscut la nivel international pentru activitatea didactica si stiintifica pe care o desfasoara. \nBeneficii \nCursantii beneficiaza de metode de training moderne in urma carora vor dobandi competente de comunicare eficiente\, isi vor maximiza sansele de succes in comunicare in business\, persuasiune si cunoastere psihologica a propriei persoane si celor cu care interactioneaza. \nToti cursantii primesc suportul de curs precum si diploma de participare emisa de Camera de Comert si Industrie si SC Global Consulting & Training Center SRL. \nPretul cursului \n375 lei /participant ( scutit TVA). \nFirmele membre ale CCIB cu cotizatia achitata la zi beneficiaza de reducerea de 30% din taxa. \nPlata se face prin ordin de plata a contravalorii facturii proforme emise de SC Global Consulting & Training Center SRL. \nInscriere \nInscrierea la curs se face prin transmiterea formularului de participare la e-mail: \nana.dulgheru@ccib.ro\, persoana de contact Ana Dulgheru tel. 0730.990756\, tel: 021.311.44.99 Camera de Comert si Industrie a Municipiului Bucuresti \nIn speranta ca acest curs prezinta interes pentru dumneavoastra\,asteptam confirmarea participarii pana la data de 22 mai 2018. \nDescarca Formular inscriere curs
URL:https://ccib.ro/eveniment/cursul-comunicare-pentru-eficienta-business/
LOCATION:Birou  reprezentare CCIB – Londra\, 1 Belgrave Square\, London\, London\, SW1X 8PH\, United Kingdom
CATEGORIES:Cursuri,Eveniment
ATTACH;FMTTYPE=image/jpeg:https://ccib.ro/wp-content/uploads/2018/05/banner-site-ccib-comunicare-eficienta-in-bisiness-mai-2018.jpg
ORGANIZER;CN="CCIB":MAILTO:ana.dulgheru@ccib.ro
END:VEVENT
BEGIN:VEVENT
DTSTART;VALUE=DATE:20180524
DTEND;VALUE=DATE:20180525
DTSTAMP:20260424T023638
CREATED:20180514T154231Z
LAST-MODIFIED:20180514T162519Z
UID:13209-1527120000-1527206399@ccib.ro
SUMMARY:FORUM DE AFACERI ROMÂNO-ELEN\, 24 Mai 2018
DESCRIPTION:Camera de Comerţ şi Industrie a Municipiului Bucureşti\, în calitate de co-organizator\, are plăcerea ca împreună cu Biroul pentru Afaceri Economice şi Comerciale al Ambasadei Republicii Elene la Bucureşti\, Camera de Comerţ şi Industrie a Atenei (ACCI) şi Camera de Comerţ Bilaterală Româno-Elenă\, să vă invite la: \n\nFORUMUL DE AFACERI ROMÂNO-ELEN\n24 Mai 2018\norele 10:00 – 12:00 (înregistrarea de la 9:30)\norele 13:00 – 18:00 întâlniri B2B\nHotel Novotel\, Calea Victoriei nr. 37B\, Sala Paris\, Bucureşti \n\nScopul evenimentului este de a dezvolta relaţiile comerciale bilaterale şi de a stabili oportunităţi de afaceri cu 17 firme elene prezente la eveniment\, care activează în diferite domenii (producţie\, servicii\, comerţ). \nFirmele interesate sunt rugate să confirme participarea până la data de 18 mai 2018\, prezentând şi firmele elene pe care doresc să le contacteze la întâlnirile B2B\, la CCIB – persoane de contact sunt: dl. Mircea TOADER\, Tel.: 0725.167. 894 sau 0723.144.663; E-mail: mircea.toader@ccib.ro şi dra. Sandra LĂSCULESCU\, E-mail: sandra.lasculescu@ccib.ro \n\nLista firmelor care compun delegaţia elenă cu datele complete pentru fiecare firmă şi domeniul lor de activitate le gasiti dand click aici:  \n\nDescarca Lista firmelor participante
URL:https://ccib.ro/eveniment/forum-de-afaceri-romano-elen-24-mai-2018/
LOCATION:Birou  reprezentare CCIB – Londra\, 1 Belgrave Square\, London\, London\, SW1X 8PH\, United Kingdom
CATEGORIES:Eveniment
ATTACH;FMTTYPE=image/jpeg:https://ccib.ro/wp-content/uploads/2018/05/banner-site-ccib-forum-afaceri-romania-grecia-novotel-24-mai-2018.jpg
ORGANIZER;CN="CCIB":MAILTO:office@ccib.ro
END:VEVENT
END:VCALENDAR