BEGIN:VCALENDAR
VERSION:2.0
PRODID:-//Camera de Comerţ şi Industrie a Municipiului Bucureşti - ECPv6.15.14//NONSGML v1.0//EN
CALSCALE:GREGORIAN
METHOD:PUBLISH
X-ORIGINAL-URL:https://ccib.ro
X-WR-CALDESC:Evenimente pentru Camera de Comerţ şi Industrie a Municipiului Bucureşti
REFRESH-INTERVAL;VALUE=DURATION:PT1H
X-Robots-Tag:noindex
X-PUBLISHED-TTL:PT1H
BEGIN:VTIMEZONE
TZID:Europe/Moscow
BEGIN:STANDARD
TZOFFSETFROM:+0300
TZOFFSETTO:+0300
TZNAME:MSK
DTSTART:20170101T000000
END:STANDARD
END:VTIMEZONE
BEGIN:VEVENT
DTSTART;VALUE=DATE:20180903
DTEND;VALUE=DATE:20180904
DTSTAMP:20260423T210258
CREATED:20180812T225953Z
LAST-MODIFIED:20180812T225953Z
UID:14015-1535932800-1536019199@ccib.ro
SUMMARY:Curs de calificare "Electrician in constructii"
DESCRIPTION:Camera de Comerţ şi Industrie a Municipiului Bucureşti\, in parteneriat cu ATHENA – Centru de Calificare si perfectionare SRL va invita la cursul de calificare pentru ocupatia de Electrician in constructii COR 7137.2.1. \nCursul incepe in data de 3 septembrie 2018 si este acreditat de Autoritatea Nationala pentru Calificari (ANC). \nDurata cursului este 720 ore (20 saptamani)  din care 240 ore teorie si 480 ore practica . \nOrele de teorie se desfasoara la sediul ATHENA – Centru de Calificare si Perfectionare  SRL\, din Calea Victoriei 12A\, sector 3\, Bucuresti. \nPretul cursului este de 750 lei (scutit de TVA) /participant la care se adauga taxa de examinare de 50 lei (scutit TVA)/participant pentru cei interesati sa obtina certificatul de calificare ANC. \nCursul se adreseaza persoanelor care doresc sa lucreze ca electrician in domeniul constructiilor si/sau sa obtina un certificat de calificare ANC. \nCertificatul de Calificare ANC pentru ocupatia de Electrician in constructii  (COR7137.2.1.) este recunoscut de Ministerul Muncii si Justitiei Sociale\, Minsterul Educatiei Nationale si in UE. \nCertificatul de calificare ANC este insotit de suplimentul descriptiv in care sunt trecute competentele obtinute: \n\nLucrul in echipa\nComunicarea interactiva la locul de munca\nDezvoltarea profesionala\nOrganizarea locului de munca\nAplicarea prevederilor legale referitoare la SSM si in domeniul situaţiilor de urgenţă\nIntretinerea echipamentelor de lucru\nAsigurarea calitatii lucrarilor executate\nAplicarea normelor de protectie a mediului\nMontajul traseelor de cablu\nPozare cabluri si conductoare\nRealizarea conexiunilor cablurilor si conductoarelor de joasa si medie tensiune\nMontajul instalatiilor electrice aferente echipamentelor termice\, sanitare si HVAC\nMontarea tablourilor electrice de distributie\nRealizarea instalatiei de paratrasnet si a prizei de pamant\n\nConditii de inscriere \n\nVarsta implinita minim 16 ani\nStudii – invatamantul minim obligatoriu.\n\nActe necesare inscrierii \nDocumentele pentru inscriere se vor transmite la e-mail: ana.dulgheru@ccib.ro; Camera de Comert si Industrie a Municipiului Bucuresti; \n–          Copie dupa ultimul act de studii \n–          Copie dupa cartea de identitate \n–          Copie dupa certificatul de nastere \n–          Copie dupa certificatul de casatorie\, pentru cursantii ce si-au schimbat numele. \nModalitati de plata: in rate – avans in valoare de 200 lei la inscriere si restul in mai multe rate pana la finalizarea cursului  (in pretul cursului nu este inclus echipamentul de lucru sau de protectie solicitat in practica). \nInscrierile se fac in baza documentelor de inscriere si a platii avansului de 200 lei. \nPlata avansului se face in numai in baza facturii emise de Athena Centru de Calificare si Perfectionare SRL\, in numerar la sediul societatii din Calea Victoriei 12A\, de luni-vineri\, intre orele 09:00-18:00 sau prin ordin de plată a contravalorii avansului in contul bancar al Athena Centru de Calificare si Perfectionare SRL- RO48BTRLRONCRT033087200\, deschis la Banca Transilvania\, sucursala Lipscani. \nInscrierile trebuie confirmate prin transmiterea documentului de plata pana in data de 31.08.2018\, la adresa de e-mail ana.dulgheru@ccib.ro sioffice@centrul-athena.ro . Numarul maxim de participanti este de 28. \nInscrierile la curs si confirmarea inscrierii se fac in ordinea transmiterii documentului de plata. \nIn speranta ca acest curs prezinta interes pentru dumneavoastra va rugam sa ne contactati la tel. 0213190128; 0730990756\, e-mail ana.dulgheru@ccib.ro \, dna. Ana Dulgheru\, Camera de Comert si Industrie a Municipiului Bucuresti. \n\nDescarca Formular inscriere
URL:https://ccib.ro/eveniment/curs-de-calificare-electrician-constructii/
LOCATION:Birou  reprezentare CCIB – Londra\, 1 Belgrave Square\, London\, London\, SW1X 8PH\, United Kingdom
CATEGORIES:Cursuri,Eveniment
ATTACH;FMTTYPE=image/jpeg:https://ccib.ro/wp-content/uploads/2018/08/banner-site-ccib-electrician-in-constructii.jpg
ORGANIZER;CN="CCIB":MAILTO:office@ccib.ro
END:VEVENT
END:VCALENDAR