BEGIN:VCALENDAR
VERSION:2.0
PRODID:-//Camera de Comerţ şi Industrie a Municipiului Bucureşti - ECPv6.15.14//NONSGML v1.0//EN
CALSCALE:GREGORIAN
METHOD:PUBLISH
X-WR-CALNAME:Camera de Comerţ şi Industrie a Municipiului Bucureşti
X-ORIGINAL-URL:https://ccib.ro
X-WR-CALDESC:Evenimente pentru Camera de Comerţ şi Industrie a Municipiului Bucureşti
REFRESH-INTERVAL;VALUE=DURATION:PT1H
X-Robots-Tag:noindex
X-PUBLISHED-TTL:PT1H
BEGIN:VTIMEZONE
TZID:Europe/Moscow
BEGIN:STANDARD
TZOFFSETFROM:+0300
TZOFFSETTO:+0300
TZNAME:MSK
DTSTART:20170101T000000
END:STANDARD
END:VTIMEZONE
BEGIN:VEVENT
DTSTART;VALUE=DATE:20180927
DTEND;VALUE=DATE:20180928
DTSTAMP:20260423T205921
CREATED:20180731T191258Z
LAST-MODIFIED:20180731T191258Z
UID:13781-1538006400-1538092799@ccib.ro
SUMMARY:Seminarul POSIBILE CONTROVERSE JURIDICE ÎN APLICAREA G.D.P.R
DESCRIPTION:Camera de Comerț și Industrie București\nvă invită la seminarul\nPOSIBILE CONTROVERSE JURIDICE ÎN APLICAREA G.D.P.R \nsusținut de dl. prof. univ. dr. Augustin Fuerea\njoi\, 27 septembrie 2018\, 10:00 -14:00\, in Palatul CCIB\, etaj 2\, Aula Carol I \nÎn cadrul evenimentului\, dl prof.univ.dr. Augustin Fuerea\, expert recunoscut la nivel internațional în Dreptul Uniunii Europene\, va susține o prezentare a cerințelor și formalităților ce trebuie îndeplinite de operatorii economici din perspectiva Regulamentului european privind protecția datelor cu caracter personal (Regulamentul GDPR) care\, din data de 25 mai 2018\, se aplică în România și în toate statele membre ale UE.    \nDată fiind problematica extrem de importantă și actuală\, evenimentul se adresează: reprezentanților operatorilor de date cu caracter personal – manageri și nu numai\, consilieri juridici\, avocați\, economiști\, DPO\, șefi de departamente/servicii resurse umane\, tututor celor care sunt în situația de a aplica sau de a li se aplica prevederile Regulamentului. \n Agenda \n\n\n\n  9:30 – 10:00  \n Înregistrarea participanților și welcome coffee\n\n\n10:00 – 13:00\nExpunere\, dezbatere și studiu de caz privind Regulamentul GDPR \n\n– raportul dintre dreptul Uniunii Europene\, dreptul internațional și dreptul intern;\n– particularitățile aplicării Regulamentului (UE) 2016/679 și a legislației interne;\n– caracterul relativ/absolut al unor drepturi și obligații;\n– posibile controverse juridice (dreptul la ștergerea datelor; dreptul la portare; dreptul de opoziție);\n– drepturile și obligațiile operatorului de date și ale responsabilului cu protecția datelor (DPO);\n– relația dintre operatorul de date și responsabilul cu protecția datelor (fișa postului);\n– prioritizarea activităților pentru aplicarea Regulamentului;\n– excepții de la aplicarea Regulamentului;\n– jurisprudența relevantă și practica domeniului.\n\n\n\n\n13:00 –14:00\nÎntrebări și răspunsuri\n\n\n\nDl. Augustin FUEREA este profesor universitar\, licenţiat şi doctor în drept al Facultăţii de Drept\, Universitatea din Bucureşti; domenii de interes: dreptul internațional și dreptul Uniunii Europene; niveluri de predare: licență\, masterat\, doctorat\, postdoctorat; conducător de doctorat\, domeniul „Dreptul Uniunii Europene”; premii: premiul Academiei Române „Nicolae Titulescu”; premiul Uniunii Juriștilor din România „Victor Dan Zlătescu”; cercetător asociat al Institutului de Cercetări Juridice „Andrei Rădulescu” al Academiei Române; membru al mai multor colective ştiinţifice ale unor organisme profesionale\, precum şi ale unor reviste de specialitate; implicat în pregătirea categoriilor de profesii juridice şi a funcţionarilor publici; autor al mai multor cărţi şi articole de specialitate. \nAccesul la eveniment se face pe baza înregistrării prealabile prin transmiterea formularului de inregistrare atasat\, la adresa de e-mail: anca.apalaghiei@ccib.ro. Informații suplimentare se pot obține de la dna Anca Apalaghiei\, tel: 0730980807. \nTaxa de participare este de 200 lei/participant (la care se adauga TVA) şi se achita numerar in ziua evenimentului. \nMembrii CCIB beneficiaza de reducerea cu 30% a taxei de participare.    \nÎnregistrarea este deschisă până marti 25 septembrie 2018\, ora 13:00. \nDescarca Formular inscriere
URL:https://ccib.ro/eveniment/seminarul-posibile-controverse-juridice-aplicarea-g-d-p-r/
LOCATION:Birou  reprezentare CCIB – Londra\, 1 Belgrave Square\, London\, London\, SW1X 8PH\, United Kingdom
CATEGORIES:Eveniment
ATTACH;FMTTYPE=image/jpeg:https://ccib.ro/wp-content/uploads/2018/07/banner-site-ccib-gdpr-controverse-juridice.jpg
ORGANIZER;CN="CCIB":MAILTO:office@ccib.ro
END:VEVENT
BEGIN:VEVENT
DTSTART;VALUE=DATE:20180927
DTEND;VALUE=DATE:20180928
DTSTAMP:20260423T205921
CREATED:20180921T072844Z
LAST-MODIFIED:20180921T074802Z
UID:14111-1538006400-1538092799@ccib.ro
SUMMARY:VIITORUL ARBITRAJULUI COMERCIAL ÎN ROMÂNIA
DESCRIPTION:Camera de Comerț și Industrie București și Legal Magazin \nvă invită sa participați la cursul \nVIITORUL ARBITRAJULUI COMERCIAL ÎN ROMÂNIA \nsusținut de Alina Cobuz\, Managing Partner\, Cobuz & Asociații \n27 septembrie 2018 \nPalatul Camerei de Comerț și Industrie București \nSala Ștefan Cerchez \nStr. Ion Ghica\, nr. 4\, Sector 3\, București \nTema cursului – VIITORUL ARBITRAJULUI COMERCIAL ÎN ROMÂNIA își propune să prezinte o serie de aspecte practice ale Arbitrajului Comercial Internațional\, precum și avantajele acestei forme de soluționare a disputelor\, în contextul în care instanțele judecătorești sunt depășite în analiza și aprofundarea unor aspecte tehnice precum și a problemelor complexe derivate din implementarea unor proiecte de infrastructură. Evenimentul va crea un mediu deschis și interactiv de discuții\, cursul adresându-se companiilor care au avut sau vor avea dosare de arbitraj comercial internațional în baza Hotărârii Guvernului nr. 1/2018 pentru aprobarea condiţiilor generale și specifice pentru anumite categorii de contracte de achiziție aferente obiectivelor de investiții finanțate din fonduri publice. \n  \nTeme de discuţie:  \n\nNoul cadru legal aplicabil în România\, în materia contractelor naționale; diferențele dintre FIDIC (roșu și galben) și contractele naționale;\nAdministrarea și alocarea riscurilor contractuale – soluționarea revendicărilor și a disputelor;\nConsiderații privind noile reguli de Arbitraj Comercial Internațional;\nStudii de caz- raportat la revendicările beneficiarului\, riscurile economice și legale\nForța majoră în contracte\nAvantajele procedurii arbitrale;\nRolul arbitrajului în protejarea investițiilor\nTendințe moderne în Arbitrajul Comercial Internațional;\nCosturile Arbitrajului comparativ cu cele din instanța de drept comun\nConstituirea tribunalului arbitral\nTermenele procedurale în arbitrajul național și internațional\nParticularități în administrarea probelor în arbitraj\nAcțiunea în anulare a hotărârii arbitrale\nCare sunt tipurile de dispute comerciale cel mai des întâlnite în cazurile de arbitraj;\n\n  \nPublic ţintă:  \n\nConsilieri juridici și directori juridici din companii\nAvocați “in-house” din companii\nArbitrii comerciali\nAvocați din societați de avocatură\nReprezentanți ai mediului de afaceri și ai sistemului financiar -bancar\nDirectori juridici ai companiilor și instituțiilor de stat (ministere\, agenții de stat\, consilii județene\, primării etc.)\,\nReprezentanți ai curților de arbitraj de pe lângă camerele județene de comerț\nReprezentanți ai camerelor de comerț bilaterale\n\nAlina Cobuz este avocat în cadrul Baroului București din anul 1995\, membru\nal International Bar Association (IBA- Section of Business Law)\, Arbitru la Bursa de Valori București\, Arbitru la Curtea de Arbitraj de pe lângă Camera de Comerț și Industrie a României\, Arbitru la Baroul București\, trainer în programul organizat de BEI (Banca Europeană de Investiții)\, a fost profesor colaborator la ASE. \nA reprezentat Statul Român și companii multinaționale din țară și din străinătate în peste 90 de procese interne și internaționale de arbitraj la Paris\, Londra\, Viena\, Zurich\, Geneva etc.. \nEste Partener Fondator al SCPA Cobuz și Asociații\, din 1999. \nEste specializată în arbitraj intern și internațional\, specialist FIDIC și expert în revendicări și litigii. \nExperiența doamnei Alina Cobuz constă în reprezentarea și asistarea Statului Român și a societăților private în arbitraje interne și internaționale derulate sub regulament ICC\, CAB\, UNCITRAL\, FIDIC\, ICSID derivate din contracte de privatizare\, contracte de consultanță\, proiecte de infrastructură\, proiecte de investiții tehnologice. Este autor al cărții Arbitrajul Ad-Hoc derulat sub Regulamentul UNCITRAL\, publicată de Editura Universul Juridic. \n  \nProgram \n15\,30-16\,00: Înregistrarea participanţilor şi welcome coffee \n16\,00-18\,00: Sesiunea I (prezentare doamna Alina Cobuz) \n18\,00-18\,30: Pauză & gustare \n18\,30-20\,30: Sesiunea a II-a (Întrebări și răspunsuri) \n  \n  \nDescarca Formular inscriere
URL:https://ccib.ro/eveniment/viitorul-arbitrajului-comercial/
LOCATION:Birou  reprezentare CCIB – Londra\, 1 Belgrave Square\, London\, London\, SW1X 8PH\, United Kingdom
CATEGORIES:Cursuri,Eveniment
ATTACH;FMTTYPE=image/jpeg:https://ccib.ro/wp-content/uploads/2018/09/banner-site-ccib-curs-viitorul-arbitrajului.jpg
ORGANIZER;CN="CCIB":MAILTO:office@ccib.ro
END:VEVENT
END:VCALENDAR