BEGIN:VCALENDAR
VERSION:2.0
PRODID:-//Camera de Comerţ şi Industrie a Municipiului Bucureşti - ECPv6.15.14//NONSGML v1.0//EN
CALSCALE:GREGORIAN
METHOD:PUBLISH
X-ORIGINAL-URL:https://ccib.ro
X-WR-CALDESC:Evenimente pentru Camera de Comerţ şi Industrie a Municipiului Bucureşti
REFRESH-INTERVAL;VALUE=DURATION:PT1H
X-Robots-Tag:noindex
X-PUBLISHED-TTL:PT1H
BEGIN:VTIMEZONE
TZID:Europe/Moscow
BEGIN:STANDARD
TZOFFSETFROM:+0300
TZOFFSETTO:+0300
TZNAME:MSK
DTSTART:20170101T000000
END:STANDARD
END:VTIMEZONE
BEGIN:VEVENT
DTSTART;VALUE=DATE:20181119
DTEND;VALUE=DATE:20181124
DTSTAMP:20260423T175823
CREATED:20181022T083614Z
LAST-MODIFIED:20181022T083859Z
UID:14272-1542585600-1543017599@ccib.ro
SUMMARY:Curs Expert Achizitii Publice (COR 214946)
DESCRIPTION:Camera de Comert si Industrie a Municipiului Bucuresti\, in parteneriat cu SC Omicron Consulting  SRL  Bucuresti va invita la cursul de perfectionare\, autorizat de Autoritatea Nationala a Calificarilor pentru obtinerea certificatului de absolvire pentru ocupatia Expert Achizitii Publice (COR 214946)\, avand in vedere: \n– Modificarea legislatiei achizitiilor publice in Romania\, prin OUG 45/2018 si HG 419/2018; \n– Instructiunea nr. 3 din 2017 privind modificarile substantiale si nesubstantiale ale contractelor de achizitie publica; \n– Modelele de documentatii de atribuire publicate in ghidul online al ANP; \n– Pregatirea portofoliului si a  procesului de achizitie publica; \n– Elaborarea ofertelor de catre operatorii economici si ONG; \n– Speze din piata achizitiilor publice\, cu raspunsuri ale ANAP; \n– Evitarea corectiilor financiare conform OUG 66/2011\, cu completari si modificari\, pentru constatarea si sanctionarea neregulilor in obtinerea si utilizarea fondurilor europene sau a fondurilor publice nationale aferente acestora; \n– Ordinul 1284/2016 al Ministrului fondurilor europene\, privind aprobarea Procedurii competitive aplicabile solicitantilor/beneficiarilor privati pentru atribuirea contractelor de furnizare\, servicii sau lucrari\, finantate din fonduri europene. \n  \nCursul de specializare pentru ocupatia Expert Achizitii Publice (COR 214946)  se desfasoara in perioada 19-23.11.2018\,  la sediul Camerei de Comert si Industrie a Municipiului Bucuresti\, str.  Ion Ghica\, nr. 4\, etaj 2\, sala Stefan Cerkez\, sector 3\, Bucuresti. \nPretul cursului este 700 lei (scutit de TVA). \nFirmele membre ale CCIB cu cotizatia achitata la zi beneficiaza de o reducere de 30% din taxa. \n  \nObiectivele cursului: \n– Strategia de achizitii publice  in Romania; Obiect\, scop\, principii; Reinnoirea si recuperarea inregistrarii in SEAP (SICAP); Praguri\, reinnoirea pragurilor; Modul de estimare al valorii contractelor; Achizitii mixte; Situatii speciale in achizitii publice; Achizitii publice centralizate si ocazionale; Reguli de participare si desfasurarea procedurilor de atribuire; Proceduri de atribuire\, achizitia directa; Instrumente si tehnici specifice de atribuire a contractelor de achizitie publica; Etapele procesului de achizitie publica; Organizarea si desfasurarea procedurilor de atribuire; Consultarea pietei\, strategia de contractare si planul anual al achizitiilor publice; Impartirea pe loturi; Reguli de publicitate si transparenta; Elaborarea documentatiei de atribuire. Documentul European Unic de Achizitie (DEAU); Evaluarea ex-ante si ex-post; Garantia de participare si de buna executie;  Criterii de calificare si selectie. E-Certis; Criterii de atribuire; Cataloage electronice; Oferta si documentele insotitoare; Comisia de evaluare si modul de lucru a acesteia; Atribuirea contractelor; Finalizarea procedurii de atribuire; Dosarul achizitiei; Executarea contractului\, subcontractarea\, modificarea contractului/acordului cadru; Contractele pe termen lung; Finalizarea contractului de achizitie publica/acordului cadru; Remedii si cai de atac. CNSC si instante de judecata \n  \nCui se adreseaza cursul: \n\nSpecialistilor din birourile/serviciile de achizitii publice ale autoritatilor contractante/entitatilor contractante;\nSpecialistilor din echipele de management de proiect\, care implementeaza proiecte finantate din fonduri europene si SEE de la autoritati contractante/entitati contractante\, operatori economici si ONG-uri;\nSpecialistilor de la firmele de consultanta care doresc sa preia serviciile externalizate ale autoritatilor contractante / entitatilor contractante;\nSalariatilor care doresc sa  realizeze o cariera in domeniul achizitiilor publice.\n\n  \nDerularea cursului: \nLa fiecare capitol se vor rezolva aplicatii si studii de caz in cadrul unor ateliere de lucru. Intregul curs va fi insotit de studii de caz preluate din piata achizitiilor publice\, avand un mare grad de aplicabilitate practica si de invatare (de la anuntul de participare pana la solutionarea prin cai de atac a contestatiilor si plangerilor). \nPrezentarea cursului este in PowerPoint\, cursul este interactiv pe baza unei reguli a dialogul stabilite in prealabil. Aplicatiile si studiile de caz se vor prezenta pe flipchart si prin videproiector pe ecran. \nCursantii vor lucra in timpul cursului\, pe proiecte individuale (se pot grupa cate doi cursanti pe un proiect). Modelul de proiect se va regasi in mapa cursului si pe CD. Formatorii vor asigura coaching\, in perioada cuprinsa intre ziua finalizarii cursului si data examenului\, in vederea finalizarii proiectului. \nSuportul de curs\, aplicatiile\,  modelul de proiect\, formularele si legislatia relevanta se va gasi pe CD. \nExamenul va consta dintr-o proba teoretica (test grila) si una practica (proiectul individual) si se va sustine in fata comisiei de examen numita de ANC. Din comisie va face parte si unul din formatorii ce vor sustine cursul. \n  \nProgramul zilnic al cursului este: \n9\,00 – 11\,00 – curs \n11\,00 -11\,30 – pauza de cafea \n11\,30 – 13\,30 – curs \n13\,30 – 14\,30 – pauza de masa \n14\,30 – 16\,30  – curs \n  \nLegislatia aplicabila \n– Legea 98/2016 a achizitiilor publice; \n– Legea 99/2016 a achizitiilor publice sectoriale; \n– Hotararea Guvernului nr. 395/2016 pentru aprobarea Normelor metodologice de aplicare a prevederilor referitoare la atribuirea contractului de achizitie publica/acordului-cadru din Legea nr. 98/2016 privind achizitiile publice; \n– Hotararea Guvernului nr. 394/ 2016 pentru aprobarea Normelor metodologice de aplicare a prevederilor referitoare la atribuirea contractului sectorial/acordului-cadru din Legea nr. 99/2016 privind achizitiile sectoriale; \n– Ordinele Presedintelui ANRMAP; \n– Directivele 23\, 24 si 25 din 2014 ale  UE\,  in materia achizitiilor publice; \n– Ordinul 1284/2016 al Ministrului fondurilor europene\, privind aprobarea Procedurii competitive aplicabile solicitantilor/beneficiarilor privati pentru atribuirea contractelor de furnizare\, servicii sau lucrari\, finantate din fonduri europene.; \n– OUG 66/2011\, cu completari si modificari\, pentru constatarea si sanctionarea neregulilor in obtinerea si utilizarea fondurilor europene sau a fondurilor publice nationale aferente acestora\, precum si norme de aplicare aprobate prin HG 875/2011; \n  \nCostul cursului \nPretul cursului (scutit de TVA conform OUG 129/2000\, republicata si completata\, pentru cursantii care doresc obtinerea certificatului de absolvire recunoscut de ANC\, de Ministerul Muncii\, Familiei si Protectiei Sociale si de Ministerul Educatiei Nationale) acopera: \n-cheltuielile pentru chiria si logistica salii; \n-suportul de curs\, aplicatiile si studiile de caz (pe suport de hartie si electronic); \n– onorariul formatorilor; \n– coaching-ul cursantilor pentru finalizarea proiectelor individuale \n– plata examinatorilor si costul certificatelor de absolvire \n  \nCursantii ce doresc certificat de absolvire trebuie sa fie absolventi cu studii superioare. Pentru intocmirea dosarului necesar obtinerii de la ANC a certificatului de absolvire\, va trebui sa transmiteti la inscriere odata cu talonul de participare si dovada platii\, urmatoarele acte in copie: \n\nCopie dupa diploma de licenta\nCopie dupa cartea de identitate\nCopie dupa certificatul de nastere\nCopie dupa certificatul de casatorie\, pentru cursantii ce si-au schimbat numele\n\nCursantii care nu doresc certificat de absolvire (sau cei fara studii superioare)\, vor primi un certificat de participare. \n  \nProcedura de inscriere: \nSC Omicron Consulting  SRL  Bucuresti (furnizor de formare profesionala autorizat ANC\, operator prelucrare date cu caracter personal nr. 28756) \nInscrierile se fac pe baza de talon de inscriere si plata prin ordin de plata a contravalorii cursului in contul bancar al OMICRON CONSULTING SRL: \n-RO 80 RNCB 0076 0294 1249 0001 deschis la BCR sector 5\, agentia Alba Iulia\, Bucuresti\, sau \n-RO 48 TREZ 7035 069X XX00 8718 deschis la Trezoreria Statului Sector 3\, Bucuresti \nInscrierile trebuie confirmate prin transmiterea copiei ordinului de plata\, pana in data 8 noiembrie 2018\, la adresa de e-mail pavel.marculet@gmail.com sau la fax nr. 021.317.72.06. Facturile si chitantele se vor inmana cursantilor in prima zi de curs sau la cerere se pot transmite prin posta. \nNumarul maxim de participanti este de 28. Inscrierile la curs si confirmarea inscrierii se face in ordinea transmiterii documentului de plata. \n  \nLector este domnul Pavel Marculet\, consultant\, trainer\, (format in anul 2003 in cadrul programului PHARE RO 0006.05.01) si formator autorizat ANC\, de la firma OMICRON CONSULTING SRL Bucuresti\, cu experienta indelungata in asigurare de training si consultanta  pentru autoritati contractante si operatori economici\, vizand intocmirea documentatiilor de atribuire si a ofertelor. Este membru fondator si membru al Asociatiei Specialistilor in Achizitii Publice din Romania (ASAPRO) din anul 2005. A sustinut peste 75 de cursuri de instruire in domeniul achizitiilor publice la institutii publice\, autoritati contractante\, intreprinderi publice si operatori economici\,  dar si consultanta pentru autoritati contractante si operatori economici in domeniul achizitiilor publice. A implementat proiecte finantate din fonduri UE si este expert atras in cadrul acordului cadru al Ministerului Fondurilor Europene\, pentru verificarea cererilor de rambursare (achizitiile publice). \n  \nPentru detalii suplimentare va rugam sa ne contactati la adresele de e-mail sau telefoanele de mai jos. \nPersoana de contact  SC OMICRON CONSULTING SRL Bucuresti\, domnul Pavel Marculet\, telefon: 0744 332 415; e-mail: pavel.marculet@gmail.com; \nVa rugam sa transmiteti formularul de inscriere la Camera de Comert si Industrie a Municipiului Bucuresti\, dna.Ana  Dulgheru si/sau Anca Apalaghiei tel. 021.319.01.28; 0730.990.756\, 0730.980.807\,  e-mail: ana.dulgheru@ccib.ro; anca.apalaghiei@ccib.ro. \n  \n  \n\n  \nDescarca Formular inscriere
URL:https://ccib.ro/eveniment/curs-expert-achizitii-publice-nov2018/
LOCATION:Birou  reprezentare CCIB – Londra\, 1 Belgrave Square\, London\, London\, SW1X 8PH\, United Kingdom
CATEGORIES:Cursuri,Eveniment
ATTACH;FMTTYPE=image/jpeg:https://ccib.ro/wp-content/uploads/2018/10/banner-site-ccib-expert-achizitii-publice-noiembrie-2018-1.jpg
ORGANIZER;CN="CCIB":MAILTO:office@ccib.ro
END:VEVENT
BEGIN:VEVENT
DTSTART;VALUE=DATE:20181122
DTEND;VALUE=DATE:20181123
DTSTAMP:20260423T175823
CREATED:20181116T084620Z
LAST-MODIFIED:20181116T084620Z
UID:14703-1542844800-1542931199@ccib.ro
SUMMARY:Gala Lady Lawyer\, ediția a V-a
DESCRIPTION:Camera de Comerț și Industrie București și Editura Universul Juridic organizează joi\, 22 noiembrie 2018\, GALA LADY LAWYER\, eveniment anual\, ajuns la ediția a V-a. \nVor participa avocați din București și din marile orașe ale țării\, directori juridici din companii\, bănci și instituții publice\, precum și reprezentanți ai asociațiilor patronale și profesionale. \nClinica Eliade și CEC Bank sunt partenerii Galei Lady Lawyer\, care se va desfășura în Aula Carol I a Palatului Camerei de Comerț și Industrie București (Str. Ion Ghica\, Nr. 4\, Sector 3\, București). \nEvenimentul este organizat cu sprijinul companiilor Aur’a Mineral Water\, Beauty Fusion\, Budureasca\, Das Aesthetic Clinique\, Nedelya\, Premium Fruct și Romanian Folk Art Fashion. \nEditura Universul Juridic respectă\, prețuiește și susține valorile. Gala Lady Lawyer celebrează doamnele avocat care au reușit să se impună de-a lungul timpului în această profesie\, să evidențieze cariere de succes\, dar și să reliefeze faptul că femeile sunt o adevărată forță în avocatură. \nGala Lady Lawyer va premia tenacitatea\, pasiunea\, viziunea\, inovația\, rigoarea profesională și capacitatea doamnelor avocat de a stabili parteneriate durabile în interesul firmelor\, cabinetelor și a societăților în care activează. \nÎn cadrul Galei Lady Lawyer\, ediția a V-a\, se va lansa revista Lady Lawyer\, ediția noiembrie 2018. \nCriteriile după care s-au realizat nominalizările \nExperiența în piață; Opiniile și recomandările clienților și ale confraților; Rezultatele înregistrate în 2018; Brandul societății; Stilul de leadership; Activitatea academică; Complexitatea dosarelor  în care au fost implicate persoanele nominalizate; Apariția în presa de specialitate românească și în directoarele internaționale de profil. \n   \nAgenda  \n18:00 – 19:00: Primirea invitaților \n19:00 – 19:15: Moment artistic \n19:15 – 20:30: Ceremonia de premiere \n20:30 – 21:30: Cocktail & Degustare de vinuri \n  \nTaxa de participare la evenimentul GALA LADY LAWYER\, editia a V-a este în valoare de 200 de lei  +  TVA și include următoarele servicii: \n– participare la toate manifestările Galei (înregistrare\, moment artistic\, ceremonia de premiere\, cocktail și degustare de vinuri); \n– revista Lady Lawyer\, editia noiembrie 2018; \n– voucherele cu reduceri de la partenerii Galei. \nInregistrare
URL:https://ccib.ro/eveniment/gala-lady-lawyer-ed5/
LOCATION:Birou  reprezentare CCIB – Londra\, 1 Belgrave Square\, London\, London\, SW1X 8PH\, United Kingdom
CATEGORIES:Conferință,Eveniment
ATTACH;FMTTYPE=image/jpeg:https://ccib.ro/wp-content/uploads/2018/11/baner-gala-lady-lawyer.jpg
ORGANIZER;CN="CCIB":MAILTO:office@ccib.ro
END:VEVENT
END:VCALENDAR