BEGIN:VCALENDAR
VERSION:2.0
PRODID:-//Camera de Comerţ şi Industrie a Municipiului Bucureşti - ECPv6.15.14//NONSGML v1.0//EN
CALSCALE:GREGORIAN
METHOD:PUBLISH
X-ORIGINAL-URL:https://ccib.ro
X-WR-CALDESC:Evenimente pentru Camera de Comerţ şi Industrie a Municipiului Bucureşti
REFRESH-INTERVAL;VALUE=DURATION:PT1H
X-Robots-Tag:noindex
X-PUBLISHED-TTL:PT1H
BEGIN:VTIMEZONE
TZID:Europe/Moscow
BEGIN:STANDARD
TZOFFSETFROM:+0300
TZOFFSETTO:+0300
TZNAME:MSK
DTSTART:20180101T000000
END:STANDARD
END:VTIMEZONE
BEGIN:VEVENT
DTSTART;VALUE=DATE:20190118
DTEND;VALUE=DATE:20190119
DTSTAMP:20260423T144646
CREATED:20190111T092925Z
LAST-MODIFIED:20190111T130947Z
UID:14985-1547769600-1547855999@ccib.ro
SUMMARY:PARTENERIATUL DE AFACERI ROMÂNO-ELEN” - întâlniri B2B
DESCRIPTION:Camera de Comerţ şi Industrie a Municipiului Bucureşti\, Biroul pentru Afaceri Economice și Comerciale din cadrul Ambasadei Republicii Elene în România\, precum și Camera de Comerț Bilaterală Eleno-Română au plăcerea să vă invite la forumul de afaceri\, intitulat: \n  \n       “PARTENERIATUL DE AFACERI ROMÂNO-ELEN” – întâlniri B2B \n18 ianuarie 2019 \nOrele 10:00 – 18:00 (delegație firme din întreaga Grecie\, precum și din regiunea Serres) \nÎnregistrarea de la 9:30 \nPalatul CCIB\, Aula Carol I\, Strada Ion Ghica 4\, Sector 3\, Bucureşti \n  \nScopul evenimentului este de a dezvolta relaţiile comerciale bilaterale şi de a stabili oportunităţi de afaceri cu firme elene care activează în domeniile alimentelor\, băuturilor\, dar și cel turistic. \n  \nAnexat\, vă trimitem lista celor 15 firme din celelalte regiuni şi a celor 15 firme din regiunea Serres\, care compun delegaţia grecească cu datele complete pentru fiecare firmă şi domeniul lor de activitate. \n  \nFirmele interesate de acest eveniment\, sunt rugate să confirme participarea până la data de 15 ianuarie 2018\, prin transmiterea formularului de participare completat (anexat)\, la adresa de E-mail: ecocom-bucharest@mfa.gr\, fax 021-211 98 93). \n  \nPentru relaţii suplimentare şi confirmarea participării\, persoana de contact este dna. Vasiliki Creangă-Papastergiou  tel. 021-211 57 24 şi 021-210 07 48\, fax 021-211 98 93\, e-mail: ecocom-bucharest@mfa.gr \n  \nPersoane de contact la CCIB: dl. Mircea TOADER\, tel.: 0725.167.894 sau 0723.144.663; E-mail: mircea.toader@ccib.ro şi dra. Sandra LĂSCULESCU\, E-mail: sandra.lasculescu@ccib.ro \n  \nParticiparea este gratuită. \n  \n  \nDescarca lista delegatiei din Serres   Descarca lista delegatiei din intreaga Grecie  
URL:https://ccib.ro/eveniment/forum-de-afaceri-romano-elen-b2b-ian2019/
LOCATION:Birou  reprezentare CCIB – Londra\, 1 Belgrave Square\, London\, London\, SW1X 8PH\, United Kingdom
CATEGORIES:Eveniment
ATTACH;FMTTYPE=image/png:https://ccib.ro/wp-content/uploads/2019/01/Banner-Grecia.png
ORGANIZER;CN="CCIB":MAILTO:office@ccib.ro
END:VEVENT
END:VCALENDAR