BEGIN:VCALENDAR
VERSION:2.0
PRODID:-//Camera de Comerţ şi Industrie a Municipiului Bucureşti - ECPv6.15.14//NONSGML v1.0//EN
CALSCALE:GREGORIAN
METHOD:PUBLISH
X-ORIGINAL-URL:https://ccib.ro
X-WR-CALDESC:Evenimente pentru Camera de Comerţ şi Industrie a Municipiului Bucureşti
REFRESH-INTERVAL;VALUE=DURATION:PT1H
X-Robots-Tag:noindex
X-PUBLISHED-TTL:PT1H
BEGIN:VTIMEZONE
TZID:Europe/Moscow
BEGIN:STANDARD
TZOFFSETFROM:+0300
TZOFFSETTO:+0300
TZNAME:MSK
DTSTART:20180101T000000
END:STANDARD
END:VTIMEZONE
BEGIN:VEVENT
DTSTART;VALUE=DATE:20190307
DTEND;VALUE=DATE:20190309
DTSTAMP:20260423T111605
CREATED:20190220T084741Z
LAST-MODIFIED:20190220T084839Z
UID:15169-1551916800-1552089599@ccib.ro
SUMMARY:Forumul de Afaceri “ROMÂNIA-ITALIA\, REDĂM ÎNCREDEREA INVESTITORILOR ÎN ECONOMIA ROMÂNEASCĂ”
DESCRIPTION:  \nINVITAŢIE \n  \nCamera de Comerț și Industrie a Municipiului București (CCIB) în colaborare cu Camera de Comerţ şi Industrie a României în Italia (CCIRO Italia) și în parteneriat cu Academia Europeană pentru Relații Economice și Culturale din Roma (AEREC) și Coaliția Națională pentru Modernizarea României (CNMR)\, vă invită să participați la Forumul de Afaceri intitulat: \n  \n“ROMÂNIA-ITALIA\, REDĂM ÎNCREDEREA INVESTITORILOR ÎN ECONOMIA ROMÂNEASCĂ” – întâlniri B2B  \n7 martie 2019 – Orele 14:00-20:00 \n8 martie 2019 – Orele 9:30-12:00  \nla Palatul CCIB\, Aula Carol I\, Strada Ion Ghica 4\, Sector 3\, Bucureşti \n  \nLa eveniment vor participa academicieni AEREC\, oficialități\, autorități publice\, oameni de afaceri și operatori economici italieni din mai multe domenii de activitate (construcții\, transport\, agricultură\, managementul deșeurilor\, turism și operatori ai sistemului de sănătate din Italia)\,interesați în dezvoltarea unor investiții sau parteneriate de business în economia românească și nu în ultimul rând\, oameni de afaceri români din Italia interesați în relocarea propriilor afaceri. \nFirmele participante\,sunt rugate să trimită\,până luni – 25 februarie\, o mică descriere a activității companiei\, care la rândul ei va fi inclusă în revista “InfoCameraItalia”\, transformată cu această ocazie în format catalog de prezentare a evenimentului. \nParticiparea la lucrările forumului este gratuită\, cu condiția ca toți participanții să confirme până în data de 1 martie la adresele de E-mail CCIB: dl. Mircea TOADER – mircea.toader@ccib.ro şi dra. Sandra LĂSCULESCU – sandra.lasculescu@ccib.ro\, precum și la CCIRO Italia: info@cciro.it \n  \nCu stimă\, \nProf. Univ. Dr. Sorin DIMITRIU                                             Eugen TERTELEAC  \nPreședinte CCIB                                                                     Președinte CCIRO Italia \n  \n  \n  \n  \nPROGRAM – DRAFT \nFORUM DE AFACERI intitulat “ROMÂNIA-ITALIA\, REDĂM ÎNCREDEREA INVESTITORILOR ÎN ECONOMIA ROMÂNEASCĂ” – întâlniri B2B \norganizat de \nCamera de Comerţ şi Industrie a Municipiului Bucureşti (CCIB) în colaborare cu Camera de Comerţ şi Industrie a României în Italia (CCIRO Italia) și în parteneriat cu Academia Europeană pentru Relații Economice și Culturale din Roma (AEREC) și Coaliția Națională pentru Modernizarea României (CNMR) \n7 martie 2019 – la sediul istoric CCIB \n14.00 – 15.30 \n\nprezentarea politicilor statului român pentru sprijinirea și atragerea investițiilor străine de către organizatorii și reprezentanții Guvernului României;\nprezentarea sprijinului Guvernului pentru internaționalizarea mediului de afaceri autohton românesc\, cu precădere pe relația schimburilor economice România – Italia.\n\n15.30 – 18:00 \n\nreprezentanții mediului de afaceri român și italian vor prezenta propriul know-how în vederea identificării unor parteneriate și soluții de finanțare pentru dezvoltarea unor afaceri în România;\noameni de afaceri români din Italia vor iniția cu această ocazie procedurile de parteneriate și vor accesa noul program “Redăm încrederea oamenilor de afaceri români din străinătate în economia românească”;\nFondul Național de Garantare a Creditelor pentru Întreprinderile Mici și Mijlocii este invitat să prezinte în cadrul lucrărilor forumului extinderea programului\, în special către oamenii de afaceri români din străinătate.\n\n18.00 – 20.00 \n\ncină-buffet cu produse tradiționale romanești. Programul include nominalizarea titlului de “academician AEREC” unor personalități ale lumii românești\, oameni de afaceri prezenți la lucrările forumului economic – discuții B2B.\n\n  \n8 martie 2019 – la sediul istoric CCIB \n09:30 – 12:00 \n\nla sediul CCIB și la sediul unor companii din București vor avea loc întâlniri B2B în vederea semnării unor protocoale de colaborare între oameni de afaceri români\, italieni și reprezentanți instituționali\, participanți la lucrările forumului economic intitulat “Redăm încrederea oamenilor de afaceri români din străinătate în economia românească”.
URL:https://ccib.ro/eveniment/forum-romania-italia-2019/
LOCATION:Birou  reprezentare CCIB – Londra\, 1 Belgrave Square\, London\, London\, SW1X 8PH\, United Kingdom
CATEGORIES:Eveniment
ATTACH;FMTTYPE=image/jpeg:https://ccib.ro/wp-content/uploads/2019/02/banner-forum-romania-italia.jpg
ORGANIZER;CN="CCIB":MAILTO:office@ccib.ro
END:VEVENT
END:VCALENDAR