BEGIN:VCALENDAR
VERSION:2.0
PRODID:-//Camera de Comerţ şi Industrie a Municipiului Bucureşti - ECPv6.15.14//NONSGML v1.0//EN
CALSCALE:GREGORIAN
METHOD:PUBLISH
X-ORIGINAL-URL:https://ccib.ro
X-WR-CALDESC:Evenimente pentru Camera de Comerţ şi Industrie a Municipiului Bucureşti
REFRESH-INTERVAL;VALUE=DURATION:PT1H
X-Robots-Tag:noindex
X-PUBLISHED-TTL:PT1H
BEGIN:VTIMEZONE
TZID:Europe/Moscow
BEGIN:STANDARD
TZOFFSETFROM:+0300
TZOFFSETTO:+0300
TZNAME:MSK
DTSTART:20180101T000000
END:STANDARD
END:VTIMEZONE
BEGIN:VEVENT
DTSTART;VALUE=DATE:20190318
DTEND;VALUE=DATE:20190319
DTSTAMP:20260423T111631
CREATED:20190314T095800Z
LAST-MODIFIED:20190315T092827Z
UID:15262-1552867200-1552953599@ccib.ro
SUMMARY:Gala drepturilor de autor şi a drepturilor conexe
DESCRIPTION:GALA DREPTURILOR DE AUTOR ȘI A DREPTURILOR CONEXE \nData 18 martie 2019\nLocația Palatul Camerei de Comerț și Industrie București\, din str. Ion Ghica\, Nr. 4\, Sector 3 \nDirector general al ORDA\, Doru Adrian Păunescu\, participă la GALA DREPTURILOR DE AUTOR ȘI A DREPTURILOR CONEXE \nGrupul Universul Juridic va organiza în data de 18 martie 2019 a doua ediție a GALEI DREPTURILOR DE AUTOR ȘI A DREPTURILOR CONEXE. Evenimentul se va desfășura la Palatul Camerei de Comerț și Industrie București\, din str. Ion Ghica\, Nr. 4\, Sector 3\, (alături de Palatul Băncii Naționale a României). \nEste o inițiativă binevenită și primită cu interes de cei implicați în acest domeniu. Drepturile de autor și drepturile conexe influențează viața de zi cu zi\, inclusiv activitatea companiilor\, pornind de la muzica ascultată și filmele vizionate\, continuând cu licențele pentru programele de calculator și prevederile din contractele angajaților și terminând cu muzica și imaginile folosite pe rețelele de socializare sau pentru producție și publicitate. \n  \nÎn cadrul GALEI DREPTURILOR DE AUTOR ȘI A DREPTURILOR CONEXE vor fi premiate persoanele\, companiile și instituțiile care au contribuit substanțial la respectarea drepturilor de autor. \nCriteriile după care s-au realizat nominalizările sunt: experiența în piață; opiniile și recomandările publicului larg; rezultatele înregistrate în 2018; audiența/notorietatea creației. \nAudiența este compusă din muzicieni\, actori\, regizori\, scriitori\, companii din IT&C și din industria publicității\, reprezentanți ai ORDA\, judecători\, avocați experți în protejarea drepturilor de autor\, juriști și directori juridici din companii de profil\, reprezentanți OGC-uri\, impresari\, reprezentanți ai teatrelor\, companiilor de cablu\, radiouri și televiziuni\, uniuni de creație. \nÎn cadrul dezbaterii vor fi prezenți reprezentanți din top managementul principalelor organisme de gestiune colectivă și ai ORDA. \nAgenda evenimentului:  \n18.30-19.00: Înregistrarea participanților\, welcome champagne  \n19.00-19.30: Reflecții pe tema importanței respectării drepturilor de autor și a drepturilor conexe \n– Doru Adrian Păunescu\, directorul general al ORDA \n– Ștefan Gheorghiu\, directorul general al CREDIDAM \n– Adina Scrioșteanu\, directorul executiv al UPFR (Uniunea Producătorilor de Fonograme din România) \n– Marius Pantea\, prof. univ. dr. la Academia de Poliție „Alexandru Ioan Cuza”. \n19.30-20.20: Ceremonia de premiere \n20.20-21.30: Cină și degustare de vinuri AVINCIS \n  \nEvenimentul este promovat pe paginile online ale Grupului Universul Juridic\, www.universuljuridic.ro\, www.ujmag.ro\, www.legalmagazin.ro și pe paginile de pe Facebook aferente\, iar concluziile vor fi publicate într-un material amplu\, ilustrat\, în paginile ediției tipărite a revistei Legal Magazin. \n  \nTaxa de participare este de 300 lei (TVA inclus) și include: \n– Participarea la toate sesiunile evenimentului \n– Participarea la pauzele de cafea și la cină \n– Documentația oficială a evenimentului \n  \n  \n  \n  \n  \nFormular inscriere
URL:https://ccib.ro/eveniment/gala-drepturi-autor-2019/
LOCATION:Birou  reprezentare CCIB – Londra\, 1 Belgrave Square\, London\, London\, SW1X 8PH\, United Kingdom
CATEGORIES:Eveniment
ATTACH;FMTTYPE=image/jpeg:https://ccib.ro/wp-content/uploads/2019/03/Banner-1080-Gala-Drepturilor-de-Autor-si-a-Drepturilor-Conexe2019.jpg
ORGANIZER;CN="CCIB":MAILTO:membri@ccib.ro;
END:VEVENT
END:VCALENDAR