BEGIN:VCALENDAR
VERSION:2.0
PRODID:-//Camera de Comerţ şi Industrie a Municipiului Bucureşti - ECPv6.15.14//NONSGML v1.0//EN
CALSCALE:GREGORIAN
METHOD:PUBLISH
X-ORIGINAL-URL:https://ccib.ro
X-WR-CALDESC:Evenimente pentru Camera de Comerţ şi Industrie a Municipiului Bucureşti
REFRESH-INTERVAL;VALUE=DURATION:PT1H
X-Robots-Tag:noindex
X-PUBLISHED-TTL:PT1H
BEGIN:VTIMEZONE
TZID:Europe/Moscow
BEGIN:STANDARD
TZOFFSETFROM:+0300
TZOFFSETTO:+0300
TZNAME:MSK
DTSTART:20180101T000000
END:STANDARD
END:VTIMEZONE
BEGIN:VEVENT
DTSTART;VALUE=DATE:20190404
DTEND;VALUE=DATE:20190405
DTSTAMP:20260423T094921
CREATED:20190327T092625Z
LAST-MODIFIED:20190327T092625Z
UID:15293-1554336000-1554422399@ccib.ro
SUMMARY:Oportunități de finanțare pentru Private Equity în România
DESCRIPTION:Oportunități de finanțare pentru Private Equity în România \n\nData 04 aprilie 2019\nLocația Aula Carol I\, Etaj 2\, Palatul Camerei de Comerț și Industrie București\, Str. Ion Ghica\, Nr. 4\, Sector 3\, București \n  \nPaula PÎRVĂNESCU\, Secretar de Stat în Ministerul pentru Mediul de Afaceri\, Comerț și Antreprenoriat\, deschide evenimentul „Oportunități de finanțare pentru Private Equity în România” \nCamera de Comerț și Industrie București și Editura Universul Juridic organizează conferința Oportunități de finanțare pentru Private Equity în România\,Ediția I\, 4 aprilie 2019. \nConferința are loc în Aula Carol I\, Etaj 2\, Palatul Camerei de Comerț și Industrie București\, Str. Ion Ghica\, Nr. 4\, Sector 3\, București. \nParteneri: \nCMF Consulting \nPrezentare: \nFinanțarea de tip private equity este o formă alternativă de finanțare a companiilor\, pe lângă metodele clasice de finanțare (împrumut bancar sau obligatar)\, care se face contra unei părți din capitalul social al companiei. Această finanțare este realizată de investitori ce au interes în companie. Câștigul realizat de acești investitori este reprezentat de dividendele pe care le încasează și sumele de bani ce le revin prin vânzarea pachetelor deținute la prețuri mai mari decât prețul de achiziție. Acest ecart între cele două valori (prețul de achiziție și prețul de vânzare) se datorează implicării active a investitorilor în activitatea firmei\, ducând la sporirea valorii acesteia și implicit a prețului acțiunilor. \nÎn decursul unui an\, o firmă de investiții primește mii de planuri de afaceri. Mai puțin de 10% dintre acestea trec de etapa preliminară de analiză și li se face procesul de due diligence. Dintre acestea\, mai puțin de 10% primesc finanțare. \n Există preocupări constante față de astfel de oportunități de finanțare și în România. \nÎn ultimul an și jumătate\, o treime din tranzacțiile realizate în țara noastră  au avut drept actor un fond de investiții. Acesta este un bun indicator al atractivității României și a poziției sale bune pe această piață. \nCu o serie de tranzacții majore implicând fonduri de investiții în ultimele 18 luni\, este de așteptat ca România să continue să fie un teritoriu interesant pentru investitorii financiari. \nConferința cu tema Oportunități de finanțare pentru Private Equity în România își propune să promoveze în rândul companiilor cu capital românesc avantajele pe care le oferă fondurile de private equity. Vom afla de la cei avizați care sunt cele mai active fonduri de private equity\, ce capital au acestea pentru achiziții locale în perioada următoare și care sunt cele mai atractive sectoare economice pentru tranzacții. \nTotodată\, vom prezenta studii de caz\, povești de succes\, dar vom vorbi descoperi și care sunt obstacolele birocratice și legislative pentru fondurile de private equity. \nVorbitori propuși \nPaula Pîrvănescu\, Secretar de Stat în Ministerul pentru Mediul de Afaceri\, Comerț și Antreprenoriat \nElena Apostolescu\, Director General\, CMF Consulting \nMircea Căpățînă\, Cofondator\, Smart Bill \nDaniel Nicolescu\, Director General\, Symphopay \nReprezentant fond de private equity \nReprezentant companie de consultanță \n  \nTeme de discuție: \nPiața de private equity în România \n„Povești de succes” generate de operațiunile de private equity \nEvaluarea în tranzacții realizate de fondurile de private equity \nFactorii geopolitici care pot influența activitățile investiționale \nStrategiile de exit ale fondurilor de private equity \nObstacole birocratice și legislative pentru fondurile de private equity \n  \nAudiență: \nDirectori generali\, directori finaciari / economici\, directori de marketing din companii\, evaluatori\, avocați\, consultanți fiscali\, asociații patronale și asociații profesionale\, mass-media \n  \nAgenda: \n09.00-09.30: Înregistrarea participanților și welcome coffee \n09.30-12.30: Dezbateri \n12.30-13.30: Business lunch & networking \nContact: \nMircea Fica\, Editor\, Publicațiile Legal Magazin: 0732.903.216\, mircea.fica@universuljuridic.ro \nCristian Pavel\, director de dezvoltare\, Universul Juridic\, 0744656568\, cristian.pavel@universuljuridic.ro \nRoxana Biga\, Project Manager\, 0743.292.252\, roxana.biga@universuljuridic.ro \n  \nTaxa de participare este de 300 lei (TVA inclus) și include: \n– Participarea la toate sesiunile evenimentului; \n– Participarea la pauzele de cafea și la prânz; \n– Documentația oficială a evenimentului. \n 
URL:https://ccib.ro/eveniment/oportunitati-finantare-private-equity/
LOCATION:Birou  reprezentare CCIB – Londra\, 1 Belgrave Square\, London\, London\, SW1X 8PH\, United Kingdom
CATEGORIES:Eveniment
ATTACH;FMTTYPE=image/jpeg:https://ccib.ro/wp-content/uploads/2019/03/Oportunitati-de-finantare-pentru-Private-Equity-in-Romania-banner.jpg
ORGANIZER;CN="CCIB":MAILTO:membri@ccib.ro;
END:VEVENT
END:VCALENDAR