BEGIN:VCALENDAR
VERSION:2.0
PRODID:-//Camera de Comerţ şi Industrie a Municipiului Bucureşti - ECPv6.15.14//NONSGML v1.0//EN
CALSCALE:GREGORIAN
METHOD:PUBLISH
X-WR-CALNAME:Camera de Comerţ şi Industrie a Municipiului Bucureşti
X-ORIGINAL-URL:https://ccib.ro
X-WR-CALDESC:Evenimente pentru Camera de Comerţ şi Industrie a Municipiului Bucureşti
REFRESH-INTERVAL;VALUE=DURATION:PT1H
X-Robots-Tag:noindex
X-PUBLISHED-TTL:PT1H
BEGIN:VTIMEZONE
TZID:Europe/Moscow
BEGIN:STANDARD
TZOFFSETFROM:+0300
TZOFFSETTO:+0300
TZNAME:MSK
DTSTART:20180101T000000
END:STANDARD
END:VTIMEZONE
BEGIN:VEVENT
DTSTART;VALUE=DATE:20190903
DTEND;VALUE=DATE:20190906
DTSTAMP:20260423T015930
CREATED:20190827T082905Z
LAST-MODIFIED:20190827T084314Z
UID:15825-1567468800-1567727999@ccib.ro
SUMMARY:INVITATIE „PRIMA EXPOZIȚIE INDUSTRIALĂ COREEA - ROMÂNIA” si „FORUMUL DE AFACERI ROMÂNO-COREEANˮ\, 3-5 septembrie 2019
DESCRIPTION:Camera de Comerț și Industrie a Municipiului București (CCIB) vă invită să vizitați: \n„PRIMA EXPOZIȚIE INDUSTRIALĂ COREEA – ROMÂNIA” \n3-5 septembrie 2019 \n  \norganizată de: Korea-Romania Exchange Association\, Uniunea Oamenilor de Afaceri Coreeni în România\, Administrația Provinciei Gyeongsanbuk-Do și EU&OSUNG S.R.L.\, având coorganizatori Primăria sectorului 4 București și CCIB. Expoziția va fi amplasată în cortul amenajat pe platforma din fața Sălii Polivalente\, București. \nProgram: de marți 3 până joi 5 septembrie a.c. între orele 10 -17:00. Festivitatea de deschidere  marți 3.09.2019 la ora 11:00. \nÎn vederea asigurării accesului gratuit\, firmele românești interesate să viziteze expoziția și să contacteze potențiali parteneri din Republica Coreeasunt rugate să confirme\, până la 30.08.2019\, participarea la adresele de E-mail disponibile mai jos\, menționând data\, firmele coreene pe care doresc să le întâlnească și intervalul orar preferat. \nÎn marja evenimentului\, se organizează: \n  \n„FORUMUL DE AFACERI ROMÂNO-COREEAN„\,  \nCamera de Comerț și Industrie a Municipiului București\, str. Ion Ghica 4\, sector 3\,  \nEt. 2 Aula Carol I \n3 septembrie a.c.\, 18:00 – 20:00\, (cu înregistrare de la 17:30). \nScopul evenimentului este de a dezvolta relaţiile comerciale bilaterale şi de a stabili oportunităţi de afaceri cu firme coreene prezente la eveniment\, care activează în diferite domenii (farmaceutică\, cosmetice\, echipamente medicale\, produse și suplimente alimentare\, industria ușoară\,industria chimică\, industria energetică\, construcții și materiale de construcții\, echipamente pentru agricultură\, purificarea apei și aerului). \nLa eveniment au fost invitați E.S. domnul KIM Yong- Ho\, Ambasador Extraordinar şi Plenipotenţiar al Republicii Coreea în România și domnul Hur\, director general al reprezentanței din România a agenției sud –coreene de promovare schimburilor comerciale KOTRA. \nParticiparea la Forumul de Afaceri este gratuită cu condiția confirmării prezenței la eveniment până în data de 2 septembrie a.c. la adresele de mail de mai jos. \n  \nAșteptăm cu interes confirmarea participării dumneavoastră la acest eveniment\, la adresele de E-mail CCIB: dl. Mircea TOADER – mircea.toader@ccib.ro\,tel. 0725 167 894\,dra. Sandra LĂSCULESCU – sandra.lasculescu@ccib.ro și dl. Adrian Pleșa – adrian.plesa@ccib.ro. Persoanele de contact vă stau la dispoziție pentru eventuale clarificări suplimentare.     \nLista firmelor coreene
URL:https://ccib.ro/eveniment/nvitatie-prima-expozitie-industriala-coreea-romania-si-forumul-de-afaceri-romano-coreean%cb%ae-3-5-septembrie-2019/
LOCATION:Birou  reprezentare CCIB – Londra\, 1 Belgrave Square\, London\, London\, SW1X 8PH\, United Kingdom
CATEGORIES:Eveniment
ATTACH;FMTTYPE=image/jpeg:https://ccib.ro/wp-content/uploads/2019/08/Coreea-sept.jpg
END:VEVENT
END:VCALENDAR