BEGIN:VCALENDAR
VERSION:2.0
PRODID:-//Camera de Comerţ şi Industrie a Municipiului Bucureşti - ECPv6.15.14//NONSGML v1.0//EN
CALSCALE:GREGORIAN
METHOD:PUBLISH
X-WR-CALNAME:Camera de Comerţ şi Industrie a Municipiului Bucureşti
X-ORIGINAL-URL:https://ccib.ro
X-WR-CALDESC:Evenimente pentru Camera de Comerţ şi Industrie a Municipiului Bucureşti
REFRESH-INTERVAL;VALUE=DURATION:PT1H
X-Robots-Tag:noindex
X-PUBLISHED-TTL:PT1H
BEGIN:VTIMEZONE
TZID:Europe/Moscow
BEGIN:STANDARD
TZOFFSETFROM:+0300
TZOFFSETTO:+0300
TZNAME:MSK
DTSTART:20180101T000000
END:STANDARD
END:VTIMEZONE
BEGIN:VEVENT
DTSTART;VALUE=DATE:20190909
DTEND;VALUE=DATE:20190913
DTSTAMP:20260423T015929
CREATED:20190723T072743Z
LAST-MODIFIED:20190723T072743Z
UID:15788-1567987200-1568332799@ccib.ro
SUMMARY:„Conflicte organizationale: instrumente moderne de rezolvare”
DESCRIPTION:  \nCamera de Comerţ şi Industrie a Municipiului Bucureşti\, vă invită la cursul „Conflicte organizationale; instrumente moderne de rezolvare” \n  \nCursul se desfasoara în perioada 9 – 12.09.2019\, intre orele 10:00 – 14:00  la sediul Camerei de Comerţ şi Industrie a Municipiului Bucureşti\, str.  Ion Ghica\, nr. 4\, etaj 2\, sala Cerchez\, sector 3. \n  \nStructura propusa a cursului este urmatoarea: \n\n ANALIZA CONFLICTELOR\n\n– TIPOLOGIA CONFLICTELOR \n– DINAMICA CONFLICTELOR \n– FAZELE CONFLICTELOR \n– STRATEGIILE DE ABORDARE A CONFLICTELOR \n– SURSELE CONFLICTELOR \n– HARTA CONFLICTULUI \n– MASURAREA GRAVITATII CONFLICTULUI \n– NEGOCIEREA REZOLVARII CONFLICTELOR \n  \n\n CONFLICTELE INTERPERSONALE\n\n– SPECIFICUL CONFLICTELOR INTERPERSONALE; CONFLICTELE LA LOCUL DE \nMUNCA \n– COMUNICAREA IN CONFLICTELE INTER-PERSONALE \n– EMOTIILE; COMPORTAMENTUL UMAN IN CONFLICTE \n– BALANTA DE PUTERE SI ASIMETRIA CONFLICTELOR \n– FACILITAREA ADRESARII SI ASCULTARII \n– DEPASIREA BLOCAJELOR IN NEGOCIERE PRIN SCHIMBAREA CURSULUI \nDISCUTIEI \n– IDENTIFICAREA SOLUTIILOR SI ASIGURAREA VIITORULUI RELATIEI STABILIZATE \n– TIPURI DE PERSONALITATI IMPLICATE IN CONFLICTE \n  \n\n INTRODUCERE IN PRACTICA REZOLVARII CONFLICTELOR DE GRUP SI ORGANIZATIONALE\n\n– SERVICII DE ADMINISTRARE A CONFLICTELOR ORGANIZATIONALE \n– REZOLVAREA ALTERNATIVA A CONFLICTELOR \n– MODELE DE DIAGNOZA A CONFLICTELOR \n– STRATEGII DE INTERVENTIE PENTRU REZOLVAREA CONFLICTELOR \n– NOTIUNI PRELIMINARE DE CONFLICT INTELLIGENCE SI DE CONFLICT COACHING \n– ASISTENTA POST – CONFLICT \n  \nPentru contextul analizei si interventiilor in conflictele organizationale puteti accesa articolul autorului la adresa de internet https://legalmagazin.ro/organizatiile-si-conflictele-lor/. \n  \nLector este dl. Septimiu Stoica\, avocat\, doctor in economie\, arbitru\, mediator\, conciliator\, lector la numeroase cursuri privind rezolvarea alternativa a conflictelor (ADR)\, Presedinte BRM \nTaxa de participare este de 595 lei/pers (TVA inclus).si se poate achita conform formularului de participare anexat. Pretul include: suportul de curs (peste 450 de pagini incluzand o bogata gama de aplicatii specifice) si eliberarea certificatului de absolvire. \n Membrii CCIB cu cotizatia platita la zi vor achita 416.50 lei/pers (TVA inclus). \nPentru inscrieri va rugam sa transmiteti formularul de participare completat\, la adresa de e-mail: ruxandra.stoica@ccib.ro. Pentru alte detalii va rugam sa ne contactati la tel: 021.319.01.28\, 0740.249.775\,e-mail: ruxandra.stoica@ccib.ro\, persoana de contact Ruxandra Stoica. \nIn speranta ca acest eveniment prezinta interes pentru dumneavoastra\, asteptam confirmarea participarii pana la data de 06.09.2019. \n  \n\n  \nDescarca Formular inscriere
URL:https://ccib.ro/eveniment/conflicte-organizationale-instrumente-moderne-de-rezolvare-sept2019/
LOCATION:Birou  reprezentare CCIB – Londra\, 1 Belgrave Square\, London\, London\, SW1X 8PH\, United Kingdom
CATEGORIES:Cursuri,Eveniment
ATTACH;FMTTYPE=image/jpeg:https://ccib.ro/wp-content/uploads/2019/07/banner-site-ccib-conflicte-in-org-sept-2019jpg.jpg
ORGANIZER;CN="CCIB":MAILTO:membri@ccib.ro;
END:VEVENT
END:VCALENDAR