BEGIN:VCALENDAR
VERSION:2.0
PRODID:-//Camera de Comerţ şi Industrie a Municipiului Bucureşti - ECPv6.15.14//NONSGML v1.0//EN
CALSCALE:GREGORIAN
METHOD:PUBLISH
X-ORIGINAL-URL:https://ccib.ro
X-WR-CALDESC:Evenimente pentru Camera de Comerţ şi Industrie a Municipiului Bucureşti
REFRESH-INTERVAL;VALUE=DURATION:PT1H
X-Robots-Tag:noindex
X-PUBLISHED-TTL:PT1H
BEGIN:VTIMEZONE
TZID:Europe/Moscow
BEGIN:STANDARD
TZOFFSETFROM:+0300
TZOFFSETTO:+0300
TZNAME:MSK
DTSTART:20180101T000000
END:STANDARD
END:VTIMEZONE
BEGIN:VEVENT
DTSTART;VALUE=DATE:20190917
DTEND;VALUE=DATE:20190918
DTSTAMP:20260423T020058
CREATED:20190909T112547Z
LAST-MODIFIED:20190909T115206Z
UID:15850-1568678400-1568764799@ccib.ro
SUMMARY:FORUM DE AFACERI ROMÂNIA – REGATUL THAILANDEI
DESCRIPTION:În continuarea programului destinat sprijinirii membrilor săi și în general a mediului de afaceri românesc pentru internaționalizarea afacerilor\, Camera de Comerţ şi Industrie a Municipiului Bucureşti (CCIB)\, organizează marți\, 17 septembrie 2019\, între orele 10:00 – 12:00 (înregistrarea de la 09:30)\, la Palatul CCIB din str. Ion Ghica nr. 4 (vis-a-vis de sediul BNR): \n  \nFORUM DE AFACERI ROMÂNIA – REGATUL THAILANDEI \n  \ndedicat promovării schimburilor comerciale și cooperării economice româno-thailandeze. \nEvenimentul se desfăşoară în marja misiunii economice\, organizată de Asociația Producătorilor și Exportatorilor Thailandezi (TEMA)\, \, care se va afla în București în perioada 16 – 18 septembrie a.c. Invitat special la acest eveniment va fi E.S. Dl. Sarayoot Kalayanamit\, ambasadorul extraordinar și plenipotențiar al Regatului Thailnadei în România. \n  \nReprezentanții companiilor thailandeze vor face scurte prezentări ale activității lor și a oportunităților de cooperare cu firmele românești. Lista participanților thailandezi  la  misiunea economică\, precum și proiectul programului acestui eveniment\, se anexează. \nScopul evenimentului este stabilirea contactelor între repezentanții mediului de afaceri român și membrii misiunii economice din Regatul Thailandei. Fiecare participant la întâlnire\, poate dialoga cu reprezentanții misiunii economice străine şi îşi poate prezenta obiectivele: căutarea de clienţi\, de furnizori sau parteneri de afaceri\, cunoaşterea condiţiilor şi posibilităţilor investiţionale. \n  \nÎn aceeași zi\, între orele 16:30-18:30\, la sediul CCIB va avea loc „Festivalul Fructelor Thailandezeˮ\, eveniment moderat de Prof. Univ. Dr. Sorin Dimitriu\, președintele CCIB și de E.S. Dl. Sarayoot Kalayanamit\, Ambasador Extraordinar și Plenipotențiar al Regatului Thailandei în României în cadrul căruia acestea vor fi prezentate\, precum și modul tradițional în care acestea se consumă\, iar participanții vor fi invitați la degustare. \n  \nParticiparea este gratuită\, fiind însă necesară înregistrarea participării le eveniment\, prin E-mail la adresele: mircea.toader@ccib.ro sau adrian.plesa@ccib.ro . \n  \nPentru informații suplimentare\, vă puteţi adresa persoanelor de contact: Mircea Toader\, Consilier al preşedintelui pentru relaţii internaţionale\, telefon 021.319.01.06 sau Mobil 0725.167.894 și Adrian Pleșa\, consilier relaţii internaţionale\, la adresa de E-mail: adrian.plesa@ccib.ro. \n  \nVă așteptăm la cele două evenimente organizate în ziua de 17 septembrie 2019 la Palatul CCIB. \nProgram Forum\n  \nComponenta Delegatiei
URL:https://ccib.ro/eveniment/forum-de-afaceri-romania-thailanda/
LOCATION:Birou  reprezentare CCIB – Londra\, 1 Belgrave Square\, London\, London\, SW1X 8PH\, United Kingdom
CATEGORIES:Eveniment
ATTACH;FMTTYPE=image/jpeg:https://ccib.ro/wp-content/uploads/2019/09/banner-FORUM-DE-AFACERI-ROMÂNIA-TAILANDA-3.jpg
END:VEVENT
BEGIN:VEVENT
DTSTART;VALUE=DATE:20190917
DTEND;VALUE=DATE:20190918
DTSTAMP:20260423T020058
CREATED:20190909T120628Z
LAST-MODIFIED:20190909T120948Z
UID:15855-1568678400-1568764799@ccib.ro
SUMMARY:Festivalul Fructelor Thailandeze
DESCRIPTION:În continuarea programului destinat sprijinirii membrilor săi și în general a mediului de afaceri românesc pentru internaționalizarea afacerilor\, Camera de Comerţ şi Industrie a Municipiului Bucureşti (CCIB)\, organizează marți\, 17 septembrie 2019\, între orele16:30-18:30 (înregistrarea de la 16:00)\, la Palatul CCIB din str. Ion Ghica nr. 4 (vis-a-vis de sediul BNR): \n  \nFestivalul Fructelor Thailandeze \n  \ndedicat promovării schimburilor comerciale și cooperării economice româno-thailandeze. \nEvenimentul se desfăşoară în marja misiunii economice\, organizată de Asociația Producătorilor și Exportatorilor Thailandezi (TEMA)\, \, care se va afla în București în perioada 16 – 18 septembrie a.c. \n  \nEvenimentul va fi moderat de Prof. Univ. Dr. Sorin Dimitriu\, președintele CCIB și de E.S. Dl. Sarayoot Kalayanamit\, Ambasador Extraordinar și Plenipotențiar al Regatului Thailandei în României în cadrul căruia acestea vor fi prezentate\, precum și modul tradițional în care acestea se consumă\, iar participanții vor fi invitați la degustare. \n  \nParticiparea este gratuită\, fiind însă necesară înregistrarea participării le eveniment\, prin E-mail la adresele: mircea.toader@ccib.ro sau adrian.plesa@ccib.ro . \n  \nPentru informații suplimentare\, vă puteţi adresa persoanelor de contact: Mircea Toader\, Consilier al preşedintelui pentru relaţii internaţionale\, telefon 021.319.01.06 sau Mobil 0725.167.894 și Adrian Pleșa\, consilier relaţii internaţionale\, la adresa de E-mail: adrian.plesa@ccib.ro. \n  \nVă așteptăm la evenimentul organizat în ziua de 17 septembrie 2019 la Palatul CCIB. \nProgram festival\n 
URL:https://ccib.ro/eveniment/festivalul-fructelor-thailandeze/
LOCATION:Birou  reprezentare CCIB – Londra\, 1 Belgrave Square\, London\, London\, SW1X 8PH\, United Kingdom
CATEGORIES:Eveniment
ATTACH;FMTTYPE=image/jpeg:https://ccib.ro/wp-content/uploads/2019/09/festivalul-fructelor-thailandeze.jpg
END:VEVENT
END:VCALENDAR