BEGIN:VCALENDAR
VERSION:2.0
PRODID:-//Camera de Comerţ şi Industrie a Municipiului Bucureşti - ECPv6.15.14//NONSGML v1.0//EN
CALSCALE:GREGORIAN
METHOD:PUBLISH
X-ORIGINAL-URL:https://ccib.ro
X-WR-CALDESC:Evenimente pentru Camera de Comerţ şi Industrie a Municipiului Bucureşti
REFRESH-INTERVAL;VALUE=DURATION:PT1H
X-Robots-Tag:noindex
X-PUBLISHED-TTL:PT1H
BEGIN:VTIMEZONE
TZID:Europe/Moscow
BEGIN:STANDARD
TZOFFSETFROM:+0300
TZOFFSETTO:+0300
TZNAME:MSK
DTSTART:20180101T000000
END:STANDARD
END:VTIMEZONE
BEGIN:VEVENT
DTSTART;VALUE=DATE:20190924
DTEND;VALUE=DATE:20190925
DTSTAMP:20260423T020212
CREATED:20190916T085746Z
LAST-MODIFIED:20190916T085746Z
UID:15877-1569283200-1569369599@ccib.ro
SUMMARY:Conferinţa Națională de Lobby și Advocacy
DESCRIPTION:Camera de Comerț și Industrie București și Universul Juridic organizează marți 24 septembrie 2019\, începând cu ora 09\,00 Conferința Națională de Lobby și Advocacy. \nConferința va avea loc la Palatul Camerei de Comerț și Industrie București\, Aula Carol I\, etaj 2\, str. Ion Ghica\, Nr. 4\, Sector 3\, București. \n  \nAcreditare INPPA\nConferința este inclusă în programul de pregătire și perfecționare continuă a avocaților. Punctele de pregătire profesională se vor acorda după încheierea conferinței\, în baza criteriilor de evaluare INPPA. \n  \nPrezentare: \nExecutivul a anunțat că va reglementa activitatea de lobby\, acest lucru fiind trecut și în programul de guvernare. \nConferința Națională de Lobby și Advocacy își propune să analizeze stadiul actual al actelor legislative care vor reglementa activitatea de lobby în țara noastră și cum vor modifica acestea activitatea organizațiilor de profil\, a autorităților locale și centrale\, a companiilor și a cetățenilor. \nCreșterea transparenței decizionale și reglementarea activității de lobby sunt un instrument în combaterea corupției. \nLa data de 30 iulie 2019\, erau înscrise 11.865 de entități în Registrul de transparență al Uniunii Europene\, grupate în șase subsecțiuni: 1) Societăți de consultanță specializată/cabinete de avocatură/consultanți independenți; 2) Lobbyiști interni și asociații comerciale/de afaceri/profesionale; 3) Organizații neguvernamentale; 4) Grupuri de reflecție\, instituții academice și de cercetare; 5) Organizații care reprezintă biserici și comunități religioase; 6) Organizații reprezentând autorități locale\, regionale și municipale\, alte entități publice și mixte. \nRegistrul de transparență al Uniunii Europene a fost creat ca un sistem comun de către Parlamentul European și Comisia Europeană în 2011\, printr-un acord interinstituțional. El reprezintă unul dintre instrumentele-cheie pentru punerea în aplicare a angajamentului celor două instituții în materie de transparență. Registrul de transparență vizează toate grupurile de interese și consultanții independenți care se angajează în activități desfășurate cu scopul de a influența procesele de legiferare și de punere în aplicare a politicilor ale instituțiilor UE. \nEvidențiind interesele urmărite\, de către cine și cu ce resurse\, registrul de transparență permite un control public mai amplu\, oferind cetățenilor\, mass-mediei și părților interesate posibilitatea de a urmări activitățile și influența potențială ale reprezentanților de interese. Registrul de transparență cuprinde peste 11.000 de entități\, toate semnatare ale unui Cod de conduită comun. \nÎn România a fost creat în anul 2016 Registrul Unic al Transparenței Intereselor (vezi ruti.gov.ro)\, de către fostul minister al Consultării Publice și Dialogului Social. \nTotodată\, există Asociația Registrul Român de Lobby\, care reunește mai multe agenții de PR și companii de Public Affairs. \nLobby-istul este o completare necesară a instituțiilor statului sau Uniunii Europene\, este liantul între cetățeni\, ONG-uri\, mediul de afaceri și instituțiile statului. Lobby-istul nu este doar un comunicator\, trebuie să aibă abilități excelente de comunicare\, dar și ale unui negociator iar\, în plus\, pentru a avea succes\, trebuie să fie un bun cunoscător al problematicii pe care o reprezintă. \nConferința Națională de Lobby și Advocacy își propune să contribuie la promovarea acestor activități și la elaborarea unui ghid de bune practici în domeniu. \n  \nTeme de dezbatere: \n– Reglementarea activității de lobby în Parlamentul României \n– Situațiile unde se impun activitățile de lobby \n– Deosebirile dintre lobby și traficul de influență \n– Conflictul de interese \n– Profilul moral al lobbyistului \n– Reguli și ghiduri privind activitatea de lobby \n– Diplomația și lobby-ul \n– Rolul asociațiilor patronale și al asociațiilor profesionale în procesul de lobby \n– Provocările activității de advocacy în România \n  \nTeme de dezbatere: \nA. Lobby-ul – definiție și implicații  \n– Situațiile unde se impun activitățile de lobby \n– Conflictul de interese \n– Profilul moral al lobbyistului \n– Reguli și ghiduri privind activitatea de lobby \nB. Diplomația și lobby-ul  \nC. Relația legiuitor – lobby-ist / decident – lobby-ist \nD. Rolul asociațiilor patronale și al asociațiilor profesionale în procesul de lobby \n  \nAgendă: \n09\,00 – 09\,30: Înregistrarea participanților și welcome coffee \n09\,30 – 11\,30: Sesiunea I \nAdriana Ahciarliu Kyriakidis\, doctor în Științe Politice – Lobbyul  în decizia politică – paradigma teoretică și cadrul de reglementare la nivel european \nIulian Gropoșilă\, Vicepreședinte\, Consiliul Național al Întreprinderilor Private Mici și Mijlocii din România (CNIPMMR) \nVarujan Vosganian\, Deputat\, Comisia pentru Buget\, Finanțe și Bănci \nLaura Florea\, Managing Partner\, Point Public Affairs și Președinte\, Asociația Registrul Român de Lobby – „Reglementarea activității de Lobby în România” \nAdriana Ahciarliu Kyriakidis\, founder & administrator Diplomat Consult\, part of Invigors EMEA – Lobbyul și armonizarea legislativă în state membre ale Uniunii Europene – studiu de caz: »Directiva Creditului de Consum » \n11\,30 – 12\,00: Business networking coffee break \nSesiunea a II-a \nMihai Sebe\, Șef Serviciu\, Serviciul Studii Europene\, Institutul European din România – „Reflecții asupra procesului de lobby și advocacy. Advocacy în secolul XXI. Provocări și oportunități” \nRadu Nicosevici\, Președinte\, Academia de Advocacy – „Rolul asociațiilor patronale și asociațiilor profesionale în procesul de lobby” \nOctavian Rusu\, Președinte\, CLNR (Centrul pentru Legislație Nonprofit) – „Provocări și tendințe în activitatea de public affairs din România – Dinamica și dialogul politicilor publice” \nCristian Ducu\, Director General\, Centre for Advanced Research in Management and Applied Ethics – „Riscul politic dintr-o perspectivă de Public Affairs” \n12\,00 – 14\,00: Sesiunea a II-a \n14\,00 – 15\,00: Business lunch &  networking \n  \n  \nDetalii înregistrare\n 
URL:https://ccib.ro/eveniment/conferinta-nationala-lobby-advocacy/
LOCATION:Birou  reprezentare CCIB – Londra\, 1 Belgrave Square\, London\, London\, SW1X 8PH\, United Kingdom
CATEGORIES:Eveniment
ATTACH;FMTTYPE=image/jpeg:https://ccib.ro/wp-content/uploads/2019/09/1656_Conferinta_Nationala_de_Lobby_si_Advocacy.jpg
END:VEVENT
END:VCALENDAR