BEGIN:VCALENDAR
VERSION:2.0
PRODID:-//Camera de Comerţ şi Industrie a Municipiului Bucureşti - ECPv6.15.14//NONSGML v1.0//EN
CALSCALE:GREGORIAN
METHOD:PUBLISH
X-WR-CALNAME:Camera de Comerţ şi Industrie a Municipiului Bucureşti
X-ORIGINAL-URL:https://ccib.ro
X-WR-CALDESC:Evenimente pentru Camera de Comerţ şi Industrie a Municipiului Bucureşti
REFRESH-INTERVAL;VALUE=DURATION:PT1H
X-Robots-Tag:noindex
X-PUBLISHED-TTL:PT1H
BEGIN:VTIMEZONE
TZID:Europe/Moscow
BEGIN:STANDARD
TZOFFSETFROM:+0300
TZOFFSETTO:+0300
TZNAME:MSK
DTSTART:20190101T000000
END:STANDARD
END:VTIMEZONE
BEGIN:VEVENT
DTSTART;VALUE=DATE:20200218
DTEND;VALUE=DATE:20200219
DTSTAMP:20260422T183743
CREATED:20200110T100123Z
LAST-MODIFIED:20200110T100123Z
UID:16285-1581984000-1582070399@ccib.ro
SUMMARY:Cum ne protejăm de criminalitatea cibernetică? Ediția a III-a
DESCRIPTION:Camera de Comerț și Industrie București și Universul Juridic organizează conferința „Cum ne protejăm de criminalitatea cibernetică? Ediția a III-a”\, la data de 18 februarie 2020. \nEvenimentul va avea loc în sala Ștefan Cerchez\, Etaj 2\, Palatul Camerei de Comerț și Industrie București\, str. Ion Ghica\, nr. 4\, Sector 3\, București (vis-à-vis de Palatul BNR). \n  \nPrezentare: \nAtacurile cybercrime nu mai sunt de multă vreme doar statistici\, povești de spus la șemineu\, în colocvii și conferințe. Vulnerabilitățile sistemelor informatice\, perfecționarea atacatorilor din umbră\, tehnologiile tot mai performanțe\, creșterea interesului public pentru mediul online – toate laolaltă au dus la o escaladare fără precedent a tentativelor și loviturilor de forță ale infractorilor cibernetici. \nFenomenul ransomware\, atacurile DDoS\, phishing-ul\, spamul și alte tipuri de asalt informatic\, răvășesc la această oră statele lumii\, companiile\, persoanele private. \nEste o temă de actualitate\, ținând cont de faptul că în ultimii ani au fost afectate numeroase organizații – bănci\, companii\, instituții – de acest fenomen. \nOrganizatorii își propun să ofere o imagine up-to-date a situației globale\, continentale\, regionale și mai ales a României la acest capitol\, a pașilor parcurși\, a obiectivelor și țintelor publice de perspectivă\, dar mai ales a soluțiilor de ultimă generație care asigură prevenție\, securitate\, back-up\, monitorizare. \n  \nTeme de discuție: \nCum colaborează furnizorii de soluții antimalware cu instituțiile europene și locale (Europol\, Poliția Română\, CERT-RO) pentru combaterea criminalității informatice? \nTipuri de infracțiuni și soluții de combatere a acestora \nBeneficiile infractorilor cibernetici: atacurile DDoS și ransomware \nAtacuri fără nici un fișier (“fileless”) împotriva băncilor\, asupra POS-urilor \nUnde duce lipsa „igienei” digitale? Cât de bine sunt protejate terminalele mobile (smartphone-uri și tablete)? \nExistă polițe de asigurare impotriva riscurilor cibernetice? Unde\, cum\, în ce condiții? \nCare sunt soluțiile la zi de protecție antimalware din portofoliul furnizorilor? \n  \nPropuneri vorbitori: \nCătălin Aramă\, Director General\, Centrul Național de Răspuns la Incidente de Securitate Cibernetica (CERT–RO) \nReprezentant al Serviciului de Combatere a Criminalității Informatice din cadrul Brigăzii de Combatere a Criminalității Organizate București \nToma Cîmpeanu\, Director Executiv\, Asociația Națională pentru Securitatea Sistemelor Informatice (ANSSI) \nTheodor Carp\, Senior Manager\, Cybersecurity & Privacy\, PwC Romania \nReprezentant societate de avocatură \n  \nAgendă: \n09\,00 -09\,30: Înregistrarea participanților și welcome coffee \n09\,30-11\,30: Sesiunea I \n11\,30-12\,00: Business networking coffee break \n12\,00-14\,00: Sesiunea a II-a \n14\,00-15\,00: Business lunch &  networking \n  \nAudiența: \nVor fi alături de noi oficiali din administrația publică\, reprezentanți ai Poliției Române\, CERT-RO și STS\, ai Guvernului\, dar și distinși reprezentanți ai furnizorilor de soluții de specialitate din IT și securitate\, bănci\, firme de asigurări\, case de avocatură\, consultanți și analiști\, presă de profil. \nContact: \nMircea Fica\, Editor\, 0732. 903. 216\,   \nCristian Pavel\, Director Dezvoltare\, 0744.656.568\, cristian.pavel [at] universuljuridic.ro \nRoxana Biga\, Project Manager; 0733.674.555\,   \n  \nTaxa de participare este de 300 de lei + TVA și include: \n– Participarea la toate sesiunile evenimentului; \n– Participarea la pauzele de cafea și la prânz; \n– Documentația oficială a evenimentului și acces la prezentările speakerilor; \n– Acces la Abonamentul Premium Universul Juridic pe o perioadă de 3 luni. \n  \n  \nPentru înscrieri: https://www.universuljuridic.ro/cum-ne-protejam-de-criminalitatea-cibernetica-editia-a-iii-a/#formular \n  \n* Persoanele care au achitat taxa de participare\, dar care\, din motive obiective\, nu mai pot participa la conferință\, pot solicita returnarea banilor\, cu cel puțin două zile (48 de ore) înaintea evenimentului\, la adresa de e-mail: conferintele [at] universuljuridic.ro.\nSolicitările ulterioare nu vor fi luate în calcul\, având în vedere costurile logistice aferente manifestării. Mulțumim pentru înțelegere. \n\n* Având în vedere prevederile legale în materia protecției datelor cu caracter personal\, vă informăm că la evenimentul la care urmează să participați există posibilitatea să se realizeze filmări/fotografii. Totodată\, este posibil ca aceste materiale să fie transmise live și în reluare pe universuljuridic.ro\, precum și promovate pe site-urile și pe rețelele noastre de socializare – Facebook\, Twitter\, Google+ și Instagram. \nPrin completarea prezentului formular\, prin plata taxei de participare și prin participarea dumneavoastră la eveniment\, vă exprimați acordul față de filmarea/fotografierea și posibila apariție a imaginii dumneavoastră în materialele filmate/fotografice\, destinate diseminării pe canalele arătate. \n  \n  \n  \n 
URL:https://ccib.ro/eveniment/criminalitate-cibernetica-ed3/
LOCATION:Birou  reprezentare CCIB – Londra\, 1 Belgrave Square\, London\, London\, SW1X 8PH\, United Kingdom
CATEGORIES:Eveniment
ATTACH;FMTTYPE=image/jpeg:https://ccib.ro/wp-content/uploads/2020/01/ujmag16feb2020.jpg
END:VEVENT
END:VCALENDAR