BEGIN:VCALENDAR
VERSION:2.0
PRODID:-//Camera de Comerţ şi Industrie a Municipiului Bucureşti - ECPv6.15.14//NONSGML v1.0//EN
CALSCALE:GREGORIAN
METHOD:PUBLISH
X-WR-CALNAME:Camera de Comerţ şi Industrie a Municipiului Bucureşti
X-ORIGINAL-URL:https://ccib.ro
X-WR-CALDESC:Evenimente pentru Camera de Comerţ şi Industrie a Municipiului Bucureşti
REFRESH-INTERVAL;VALUE=DURATION:PT1H
X-Robots-Tag:noindex
X-PUBLISHED-TTL:PT1H
BEGIN:VTIMEZONE
TZID:Europe/Moscow
BEGIN:STANDARD
TZOFFSETFROM:+0300
TZOFFSETTO:+0300
TZNAME:MSK
DTSTART:20190101T000000
END:STANDARD
END:VTIMEZONE
BEGIN:VEVENT
DTSTART;VALUE=DATE:20200227
DTEND;VALUE=DATE:20200228
DTSTAMP:20260422T171027
CREATED:20200110T101437Z
LAST-MODIFIED:20200110T101437Z
UID:16289-1582761600-1582847999@ccib.ro
SUMMARY:Managementul profesionist\, provocarea majoră pentru companiile cu capital de stat
DESCRIPTION:Camera de Comerț și Industrie București și Universul Juridic organizează conferința „Managementul profesionist\, provocarea majoră pentru companiile cu capital de stat”. \nEvenimentul va avea loc la data de 27 februarie 2020\, fiind găzduit în Sala Ștefan Cerchez a Palatului Camerei de Comerț și Industrie București\, str. Ion Ghica\, Nr. 4\, Sector 3\, București (vis-à-vis de Palatul BNR). \n  \nPrezentare: \nÎntreprinderile publice – regii autonome și societăți la care statul deține participații integrale sau majoritare sau participații care le asigură controlul – sunt un segment important al economiei naționale și prin activitatea și rezultatele lor financiare au influență asupra stabilității și dezvoltării economice a țării. \n  \nAvând o pondere de 6-8% în PIB și angajând aproximativ 4% din forța de muncă din România\, întreprinderile publice au o contribuție semnificativă la dezvoltarea economică. Totodată\, acestea furnizează o gamă largă de produse și servicii\, utilități publice fundamentale pentru funcționarea și siguranța societății în ansamblul său. Nu în ultimul rând\, prin intermediul lor statul controlează și gestionează direct accesul la resurse naturale importante și își implementează politicile economice și strategice în domenii precum energie\, transport\, exploatarea resurselor minerale sau protecția mediului. \nÎncepând cu 2011 s-au făcut anumite progrese în administrarea și conducerea companiilor de stat\, mulțumită cadrului de reglementare asigurat de Ordonanța de Urgență nr. 109/ 2011 privind guvernanța corporativă a întreprinderilor publice\, se arată într-un Raport elaborat de Ministerul Economiei și Ministerul Finanțelor Publice. \nDin cele 1.250 întreprinderi publice locale active monitorizate\, le sunt aplicabile dispozițiile O.U.G. nr. 109/2011 privind guvernanța corporativă a întreprinderilor publice\, aprobată cu modificări și completări prin Legea nr. 111/2016 pentru un număr de 1.169. \nLa finele anului 2018\, s-a constatat creșterea cu 38% a numărului întreprinderilor publice care aplică prevederile O.U.G. nr.109/2011 privind selecția administratorilor și directorilor\, respectiv de la 393 la 541 întreprinderi publice locale. \nÎn cadrul conferinței vom prezenta o serie de modele de succes în administrarea riguroasă a companiilor de stat și vom încerca să identificăm o serie de soluții pentru eficientizarea acestor entități. \nConferința va asigura un mediu deschis și util de discuții\, reunind cei mai buni experți din domeniul recrutărilor de manageri\, oameni de afaceri și consultanți de profil\, reprezentanți ai instituțiilor\, regiilor și companiilor de stat\, ai băncilor și societăților de asigurări care sunt implicate în acest proces. \n  \nTeme de discuție: \n\nEvoluția OUG nr. 109 / 2011 de la promulgare și până în prezent; modificări preconizate;\nEste eficient managementul privat? Poate fi extins managementul privat și la alte instituții ale statului?\nParticiparea statului în întreprinderile publice;\nNecesitatea deținerii de participații de către stat;\nRolul statului și performanța întreprinderilor publice;\nDelimitarea rolului statului de reglementator față de cel de acționar;\nRolul autorităților publice tutelare;\nNivelul de decizie în AGA și principii pentru participarea reprezentanților statului în AGA;\nNivelul de decizie în Consiliile de Administratie / Supraveghere și principii pentru participarea membrilor în CA / CS\, candidați din partea statului\, propuși de autoritatea publică tutelară;\nNivelul de decizie în conducerea executivă a întreprinderii publice;\n\n  \nPropuneri vorbitori: \n\nVirgil Popescu\, Ministrul Economiei\, Energiei și Mediului de Afaceri\nSorana Baciu\, Președinte\, Asociația Administratorilor Independenți\nOvidiu Demetrescu\, Partener\, OCD Capital & Resource\nReprezentant ROMGAZ\nReprezentant societate de avocatură\nReprezentant Partener\n\n  \nAgendă: \n09\,00 -09\,30: Înregistrarea participanților și welcome coffee \n09\,30-11\,30: Sesiunea I \n11\,30-12\,00: Business networking coffee break \n12\,00-14\,00: Sesiunea a II-a \n14\,00-15\,00: Business lunch &  networking \n  \nContact: \nRoxana Biga\, Project Manager; 0733.674.555\, roxana.biga [at] universuljuridic.ro \nMircea Fica\, Editor\, 0732.903.216\, mircea.fica [at] universuljuridic.ro \nCristian Pavel\, Director Dezvoltare\, 0744.656.568\,   \n  \nTaxa de participare este în valoare de 300 de lei plus TVA \n– Participarea la toate sesiunile evenimentului; \n– Participarea la pauzele de cafea și la prânz; \n– Documentația oficială a evenimentului și acces la prezentările speakerilor; \n– Acces la Abonamentul Premium Universul Juridic pe o perioadă de 3 luni. \n  \nPentru înscrieri: https://www.universuljuridic.ro/managementul-profesionist-provocarea-majora-pentru-companiile-cu-capital-de-stat/#formular \n  \n* Persoanele care au achitat taxa de participare\, dar care\, din motive obiective\, nu mai pot participa la conferință\, pot solicita returnarea banilor\, cu cel puțin două zile (48 de ore) înaintea evenimentului\, la adresa de e-mail: conferintele [at] universuljuridic.ro.\nSolicitările ulterioare nu vor fi luate în calcul\, având în vedere costurile logistice aferente manifestării. Mulțumim pentru înțelegere. \n* Având în vedere prevederile legale în materia protecției datelor cu caracter personal\, vă informăm că la evenimentul la care urmează să participați există posibilitatea să se realizeze filmări/fotografii. Totodată\, este posibil ca aceste materiale să fie transmise live și în reluare pe universuljuridic.ro\, precum și promovate pe site-urile și pe rețelele noastre de socializare – Facebook\, Twitter\, Google+ și Instagram. \nPrin completarea prezentului formular\, prin plata taxei de participare și prin participarea dumneavoastră la eveniment\, vă exprimați acordul față de filmarea/fotografierea și posibila apariție a imaginii dumneavoastră în materialele filmate/fotografice\, destinate diseminării pe canalele arătate. \n  \n 
URL:https://ccib.ro/eveniment/conferinta-managementul-profesionist/
LOCATION:Birou  reprezentare CCIB – Londra\, 1 Belgrave Square\, London\, London\, SW1X 8PH\, United Kingdom
CATEGORIES:Eveniment
ATTACH;FMTTYPE=image/jpeg:https://ccib.ro/wp-content/uploads/2020/01/ujmag27feb2020.jpg
END:VEVENT
END:VCALENDAR