BEGIN:VCALENDAR
VERSION:2.0
PRODID:-//Camera de Comerţ şi Industrie a Municipiului Bucureşti - ECPv6.15.14//NONSGML v1.0//EN
CALSCALE:GREGORIAN
METHOD:PUBLISH
X-ORIGINAL-URL:https://ccib.ro
X-WR-CALDESC:Evenimente pentru Camera de Comerţ şi Industrie a Municipiului Bucureşti
REFRESH-INTERVAL;VALUE=DURATION:PT1H
X-Robots-Tag:noindex
X-PUBLISHED-TTL:PT1H
BEGIN:VTIMEZONE
TZID:Europe/Moscow
BEGIN:STANDARD
TZOFFSETFROM:+0300
TZOFFSETTO:+0300
TZNAME:MSK
DTSTART:20190101T000000
END:STANDARD
END:VTIMEZONE
BEGIN:VEVENT
DTSTART;VALUE=DATE:20201021
DTEND;VALUE=DATE:20201031
DTSTAMP:20260422T052202
CREATED:20201006T104432Z
LAST-MODIFIED:20201006T104432Z
UID:17158-1603238400-1604102399@ccib.ro
SUMMARY:Workshop:  Drepturi ale agenților economici din sectorul Retail în raport cu platformele de comerț online
DESCRIPTION:Avem placerea să vă invităm să participați la workshop-ul cu tema \nREGULAMENTUL UE PLATFORM 2 BUSINESS \nDREPTURI ALE AGENȚILOR ECONOMICI DIN SECTORUL RETAIL ÎN RAPORT CU PLATFORMELE DE COMERȚ ONLINE \nREGULAMENTUL (UE) 2019/1150 \nÎncepînd cu luna iulie 2020\, au intrat în vigoare la nivel european prevederile Regulamentului (UE) 1150/2019. Regulamentul stipulează o serie de drepturi ale comercianților care utilizează platformele de vânzare online pentru a targeta piața europeană. Pe de altă parte\, toți deținătorii de platforme de e-commerce sunt obligați să pună în aplicare prevederile respectivului regulament\, în raporturile comerciale pe care le au cu societățile care aleg să își desfacă produsele prin intermediul lor. \nAcest workshop este conceput pentru a ajuta antreprenorii din sectorul de retail\, puternic afectat de restricțiile de mobilitate datorate pandemiei Covid 19\, să înteleagă cum își pot gestiona cât mai avantajos relațiile cu platformele online prin care își vând serviciile către clienții finali. \nDeoarece Regulamentul se aplică în mod unitar la nivelul întregii Uniuni Europene\, workshopul nostru va fi util atât în relațiile cu platformele de comerț online românești\, dar și din alte țări ale UE. \nSunt invitați să participe: antreprenori sau profesioniști comerciali sau în vânzări\, responsabili cu activitatea de business development\, juriști\, precum și orice alte persoane cheie cu implicare în comerțul online al companiei. \nWorkshopul are o durata de cca. 3-4 ore\, funcție de gradul de interactivitate înregistrat și se va desfășura online\, pe platforma Zoom\, în data de 21 oct. 2020 de la orele 17.00 \nParticipanților înregistrați li se va comunica din timp\, prin email\, linkul de acces. \nTematica abordată: \n\n• Cadrul general de aplicare al Regulamentului Platform 2 Business.\n• Necesitatea Regulamentului – concluziile studiului CE „Business-to-Business relations  in the online platform  environment”.\n• Cui se adresează regulamentul și pe cine afectează.\n• Principiile cadrului legislativ de aplicare a Regulamentului.\n• Ce obligații au platformele de e-commerce.\n• Ce drepturi au agenții economici care utilizează platformele de e-commerce în raport cu acestea.\n• Restricționarea la vânzare / suspendarea / delistarea.\n• Algoritmii de ierarhizare pe platforma online.\n• Tratamentul diferențiat.\n• Accesul la datele proprii ale agentului economic.\n• Soluționarea reclamațiilor de către proprietarul platformei de e-commerce.\n• Medierea conflictelor între agenții economici și platforma de e-commerce.\n• Relația dintre agenții economici și detinatorii motoarelor de căutare.\n\nFormator: Dr. Valentin Militaru\, este deținătorul unei diplome de doctor în Cibernetică\, la Academia de Studii Economice din București\, cu specializare în data mining și inteligenta artificială aplicate pe piețele financiare; 20 de ani de experiență în consultanță de business și o bună cunoaștere a mediului de afaceri în doua mandate succesive (8 ani) în Colegiul de Conducere at Camerei de Comerț și Industrie București. \nCostul cursului: 400 lei /pers plus TVA; fiecare participant suplimentar din aceeași companie beneficiază de o reducere de 75%. Membrii CCIB cu cotizația achitată la zi beneficiază de o reducere de 30%. \nModalitatea de plată: prin transfer bancar în contul CCIB: RO61BRDE441SV51068924410 \nBanca: BRD – Sucursala UNIREA \nPentru înscrieri vă rugăm sa transmiteți formularul de participare completat\, la adresa de e-mail: ruxandra.stoica@ccib.ro \nPentru alte detalii vă rugăm să ne contactați la tel: 0740 249 775\, persoana de contact Ruxandra Stoica \nÎn speranța că acest eveniment prezinta interes pentru dumneavoastră\, asteptăm confirmarea participării până la data de 19.10.2020. \n  \nDescarca Formular de inscriere
URL:https://ccib.ro/eveniment/workshop-platform2business/
CATEGORIES:Cursuri,Eveniment
ATTACH;FMTTYPE=image/jpeg:https://ccib.ro/wp-content/uploads/2020/10/banner-SITE.jpg
ORGANIZER;CN="CCIB":MAILTO:office@ccib.ro
END:VEVENT
END:VCALENDAR