BEGIN:VCALENDAR
VERSION:2.0
PRODID:-//Camera de Comerţ şi Industrie a Municipiului Bucureşti - ECPv6.15.14//NONSGML v1.0//EN
CALSCALE:GREGORIAN
METHOD:PUBLISH
X-ORIGINAL-URL:https://ccib.ro
X-WR-CALDESC:Evenimente pentru Camera de Comerţ şi Industrie a Municipiului Bucureşti
REFRESH-INTERVAL;VALUE=DURATION:PT1H
X-Robots-Tag:noindex
X-PUBLISHED-TTL:PT1H
BEGIN:VTIMEZONE
TZID:Europe/Moscow
BEGIN:STANDARD
TZOFFSETFROM:+0300
TZOFFSETTO:+0300
TZNAME:MSK
DTSTART:20190101T000000
END:STANDARD
END:VTIMEZONE
BEGIN:VEVENT
DTSTART;VALUE=DATE:20201207
DTEND;VALUE=DATE:20201212
DTSTAMP:20260422T033232
CREATED:20200815T152112Z
LAST-MODIFIED:20200928T082822Z
UID:17073-1607299200-1607731199@ccib.ro
SUMMARY:Responsabil cu Protectia Datelor cu Caracter Personal - curs acreditat ANC -cod COR 242 231
DESCRIPTION:  \nCamera de Comert si Industrie a Municipiului Bucuresti (CCIB) in parteneriat cu Professionals Business Knowledge au onoarea de a va invita incepand cu luna septembrie 2020\, la cursul „Responsabil cu protectia datelor cu caracter personal”\, acreditat ANC pentru toate modulele din standardul european\, cod COR 242 231\, organizat LIVE\, în sistem de videoconferinţă.   \nPentru a raspunde cerintelor dumneavoastra\, va prezentam programul cursurilor organizate pana la sfarsitul anului 2020\, in speranta ca agenda va va permite sa participati la una dintre sesiunile de mai jos. \nGrupa 1: 19 octombrie – 19 noiembrie 2020 \nGrupa 2: 9 noiembrie – 14 decembrie 2020 \nGrupa 3: 7 decembrie 2020 – 11 ianuarie 2021 \n  \nLectorii cursului sunt avocati specializati in domeniul protectiei datelor cu caracter personal\, specialisti I.T\, auditori in domeniul securitatii informatiei. Cursul abordeaza aspectele practice cu privire la prelucrarile datelor cu caracter personal ale clientilor\, salariatilor si furnizorilor din organizatie din perspectiva dispozitiilor G.D.P.R. \nCursul se adreseaza persoanelor cu studii superioare\, conform cerintelor din standardul ocupational. Pot participa si persoane cu studii medii dar acestea nu vor putea sustine examenul recunoscut de ANC si\, in consecinta\, vor primi doar diploma de participare la curs. \n  \nCompetente si deprinderi obtinute in urma finalizarii cursului cu examen ANC: \n1) Informarea organizatiei si persoanelor vizate cu privire la drepturile si obligatiile lor in baza legislatiei privind protectia datelor cu caracter personal; \n2) Monitorizarea modalitatilor prin care organizatia respecta legislatia privind protectia datelor cu caracter personal si standardele specifice la care organizatia a aderat; \n3) Emiterea de recomandari si oferirea asistentei de specialitate organizatiei cu privire la interpretarea si aplicarea prevederilor legislatiei privind protectia datelor cu caracter personal; \n4) Gestionarea relatiei cu autoritatea de supraveghere in domeniul protectiei datelor cu caracter personal; \n5) Respectarea principiului obiectivitatii in domeniul protectiei datelor cu caracter personal; \n6) Asigurarea si gestionarea registrului de evidenta al prelucrarii datelor cu caracter personal; \n7) Gestionarea si coordonarea resurselor umane\, financiare\, tehnice necesare realizarii sarcinilor si activitatilor specifice domeniului protectiei datelor cu caracter personal; \n8) Dezvoltarea profesionala continua in domeniul protectiei datelor cu caracter personal; \n9) Monitorizarea alocarii instrumentelor si metodelor de imbunatatire a eficacitatii sistemului de management al securitatii datelor cu caracter personal; \n10) Analizarea si evaluarea riscurilor de prelucrare a datelor cu caracter personal. \n  \n  \n  \nPret promotional pentru cursurile ON-LINE acreditate\, valabil pentru inscrierile efectuate pana la 30 noiembrie 2020: 990 lei ( redus de la 1400 lei) \nLa pretul indicat NU se adauga TVA\, cursurile acreditate ANC sunt scutite de plata TVA-ului. \n  \nIn pret sunt incluse urmatoarele : \n  \n\nCertificat de absolvire ANC si supliment conform cod COR 242 231;\nMaterialele de curs ;\nTaxa de examinare ANC\n\n  \n  \n  \nDesfasurare curs : \nPret promotional pentru cursurile ON-LINE acreditate\, valabil pentru inscrierile efectuate pana la 30 noiembrie 2020: 990 RON\, redus de la 1400 RON (nu se aplica TVA). \n  \nAvând în vedere prevederile OUG 70/394/14.05.2020\, pe perioada stării de alertă cursurile autorizate ANC se pot organiza si în sistem de videoconferinţă\, utilizând o platforma online. Examenul final se va sustine de asemenea utilzand o platforma online. \n  \nCursanţii sunt în legătură directă cu profesorii\, 100% LIVE\, pot să comunice în timp real cu aceştia\, pot adresa întrebări şi pot rezolva exerciţii interactive. \n  \nLa pretul indicat NU se adauga TVA\, cursurile acreditate ANC sunt scutite de plata TVA-ului. \n  \nGrupa 1: 19 octombrie – 19 noiembrie 2020 \nGrupa 2: 9 noiembrie – 14 decembrie 2020 \nGrupa 3: 7 decembrie 2020 – 11 ianuarie 2021 \n  \n5 zile (prima saptamana din perioada mentionata): sesiune de curs cu prezenta la sala: prezentari\, dezbateri\, aplicatii practice; \n17 zile : parte practica individuala: realizarea proiectului final\, indrumare si coordonare prin email; \n1 zi : sesiune de curs cu prezenta la sala: recapitulare\, verificare proiecte\, evaluarea finala: test grila + proiect – diploma acreditata va fi eliberata in aproximativ 7 zile de la data examinarii. \n  \nProgram zilnic: 09:30 – 17 :30 \nLoc desfasurare : Platforma on-line Zoom \nNOTA* : Conform standardului ocupational cod COR 242231\, durata totala a cursului este de 180 de ore (teorie + practica)\, din care 5 zile vor fi in sistem de videoconferinta\, in perioada mentionata. \n  \n  \n  \nPlata cursului se face in contul bancar al Professionals Business Knowledge SRL \ncod fiscal: 34831314 (fara RO) \nReg. Com.: J/40/9352/2015 \nSediul: Str. Valea Buzaului 3\, bl. G13\, ap. 47\, sector 3\, Bucuresti \nIBAN: RO63CECEB30830RON4063069 \nBanca : CEC BANK sucursala Ghica Tei \n  \n  \nPentru inscrierea la curs trebuie sa completati si sa transmiteti formularul de inscriere atasat.  Acest demers reprezinta comanda dvs. ferma. In urma primirii formularului vom emite o factura proforma pe baza careia se va putea achita taxa de participare. \nContact:     dna. Anca Apalaghiei – 0730.980.807; E-mail: anca.apalaghiei@ccib.ro dl. Andrei Parvu–0746.199.869; E-mail: vanzari@training-professionals.ro \n  \nIn speranta ca acest  curs prezinta interes pentru dumneavoastra\, asteptam confirmarea participarii la una din sesiunile propuse. \nNu ezitati sa ne contactati pentru informatii suplimentare. \n\n  \nDescarca Formular inscriere\n  \nDescarca Agenda cursului
URL:https://ccib.ro/eveniment/responsabil-cu-protectia-datelor-cu-caracter-personal-curs-acreditat-anc-cod-cor-242-231-decembrie2020/
CATEGORIES:Cursuri,Eveniment
ATTACH;FMTTYPE=image/jpeg:https://ccib.ro/wp-content/uploads/2020/09/banner-site-ccib-gdpr-octombrie-decembrie.jpg
END:VEVENT
BEGIN:VEVENT
DTSTART;VALUE=DATE:20201210
DTEND;VALUE=DATE:20201212
DTSTAMP:20260422T033232
CREATED:20201127T094120Z
LAST-MODIFIED:20201127T094120Z
UID:17426-1607558400-1607731199@ccib.ro
SUMMARY:Cursul RESPONSABIL CU GESTIONAREA DESEURILOR
DESCRIPTION:Camera de Comert si Industrie a Municipiului Bucuresti organizeaza in premiera\, Cursul RESPONSABIL CU GESTIONAREA DESEURILOR\, LIVE\, în sistem de videoconferinţă\, in perioada 10 – 11 decembrie 2020\, intre orele 11.00-15.00. \nPe toata durata evenimentului\, cursanţii sunt în legătură directă cu lectorul\, 100% LIVE\, pot să comunice în timp real cu acesta\, pot adresa întrebări şi pot rezolva exerciţii interactive. \n  \nCursul se adreseaza operatorilor economici care produc\, utilizeaza\, manipuleaza\, depoziteaza sau transporta deseuri nepericuloase si/sau periculoase\, persoane juridice\, care detin autorizatie/autorizatie integrata de mediu. \nIn conformitate cu prevederile OUG nr. 74/2018 pentru modificarea si completarea Legii nr. 211/2011\, a Legii nr. 249/2015 si a OUG nr. 196/2005 privind Fondul de mediu\, cu modificarile si completarile ulterioare „persoanele juridice\, care detin a autorizatie/autorizatie integrata de mediu au obligatia sa desemneze o persoana\, din randul angajatilor proprii\, care sa urmareasca si sa asigure indeplinirea obligatiilor prevazute de prezenta lege sau sa delege aceasta obligatie unei terte persoane”. \nPersoanele desemnate trebuie sa fie instruite in domeniul gestiunii deseurilor\, inclusiv a deseurilor periculoase\, ca urmare a absolvirii unor cursuri de specialitate. Nedesemnarea unei persoane constituie contraventie si se sanctioneaza cu amenda conform legii. \n  \nTematica cursului: \n  \nPrezentarea actelor normative care reglementeaza domeniul protectiei mediului referitoare la solicitarea si obtinerea actelor de reglementare\, precum si obligatiile titularilor de activitate impuse prin legislatia specifica privind regimul deseurilor\, in conformitate cu prevederile legislatiei comunitare. \n\nOrdonanta de Urgenta a Guvernului nr. 74/2018 pentru modificarea si completarea Legii nr. 211/2011 privind regimul deseurilor\, a Legii nr. 249/ 2015 privind modalitatea de gestionare a ambalajelor si deseurilor de ambalaje si a OUG nr. 196/2005 privind Fondul de mediu.\nOrdonanta de Urgenta a Guvernului nr. 195/2005 privind protectia mediului\, cu modificarile si completarile ulterioare cu referire la obligatiile operatorilor economici fata de cerintele impuse prin actele de reglementare privind protectia mediului- studii de caz.\nOM nr.739/2017 privind aprobarea Procedurii de inregistrare a operatorilor economici care nu se supun autorizarii de mediu conform prevederilor Legii nr.211/2011 privind regimul deseurilor.\nLegea nr. 211/2011 privind regimul deseurilor – obligatiile agentilor economici;\nHG 856/2002 privind evidenta gestiunii deseurilor si pentru aprobarea listei cuprinzând deseurile\, inclusiv deseurile periculoase\, cu completarile ulterioare;\nHG 1061/2008 privind transportul deseurilor periculoase si nepericuloase pe teritoriul României;\nLegea 249/2015 privind gestionarea ambalajelor si a deseurilor de ambalaje\, cu modificarile si completarile ulterioare;\nIdentificarea\, caracterizarea si codificarea deseurilor – studiu de caz.\nGestionarea deseurilor si\, in special\, a anumitor categorii reglementate prin acte normative speciale: uleiurile uzate\, bateriile si acumulatorii uzati\, deseurile de echipamente electrice si electronice\, deseurilor periculoase\, etc.;\nIntocmirea si raportarea Registrului privind evidenta deseurilor nepericuloase si periculoase.\nObligatiile fata de fondul de mediu in domeniul gestiunii deseurilor si ambalajelor.\nSolutii practice pentru conformarea agentilor economici cu cerintele legislatiei de mediu in domeniul deseurilor. Evitarea sanctiunilor.Trasabilitatea deseurilor\nInformatii privind aplicatiile SIM si DSS existente pe site-ul ANPM.\n\n  \nCursul beneficiaza de expertiza dnei ing. Magdalena Gheorghe\, consultant in domeniul protectiei mediului\, având experienta dobândita in cadrul autoritatilor de mediu\, APM/ANPM si Garda Nationala de Mediu. \nLa finalul cursurilor se vor elibera certificatele de absolvire emise de Camera de Comert si Industrie a Municipiului Bucuresti. \n  \nTaxa de participare este de 300 lei/participant la care se adauga TVA si se poate achita conform formularului de participare anexat. \nPretul include: suportul de curs\, suport din partea organizatorului pe toata durata cursului\, certificatul de absolvire oferit de organizator (CCIB). \nFirmele membre ale CCIB cu cotizatia achitata la zi beneficiaza de o reducere de 30% din taxa. \nPentru inscrieri va rugam sa transmiteti la adresa de e-mail: anca.apalaghiei@ccib.ro formularul de participare completat.  În urma confirmării înscrierii\, participanții vor primi datele de conectare pentru conectarea la eveniment\, în platforma Zoom. \n  \nPentru alte detalii va rugam sa ne contactati la tel: 021.319.01.28\, 0730.980.807\, \ne-mail: anca.apalaghiei@ccib.ro \, persoana de contact Anca Apalaghiei. \nIn speranta ca acest eveniment prezinta interes pentru dumneavoastra\, asteptam confirmarea participarii pana la data de 09.12.2020. \n  \n\n  \nDescarca Formular inscriere
URL:https://ccib.ro/eveniment/cursul-responsabil-cu-gestionarea-deseurilor-dec2020/
CATEGORIES:Cursuri,Eveniment
ATTACH;FMTTYPE=image/jpeg:https://ccib.ro/wp-content/uploads/2020/11/banner-site-ccib-daseuri-dec-2020.jpg
ORGANIZER;CN="CCIB":MAILTO:membri@ccib.ro;
END:VEVENT
END:VCALENDAR