BEGIN:VCALENDAR
VERSION:2.0
PRODID:-//Camera de Comerţ şi Industrie a Municipiului Bucureşti - ECPv6.15.14//NONSGML v1.0//EN
CALSCALE:GREGORIAN
METHOD:PUBLISH
X-WR-CALNAME:Camera de Comerţ şi Industrie a Municipiului Bucureşti
X-ORIGINAL-URL:https://ccib.ro
X-WR-CALDESC:Evenimente pentru Camera de Comerţ şi Industrie a Municipiului Bucureşti
REFRESH-INTERVAL;VALUE=DURATION:PT1H
X-Robots-Tag:noindex
X-PUBLISHED-TTL:PT1H
BEGIN:VTIMEZONE
TZID:Europe/Moscow
BEGIN:STANDARD
TZOFFSETFROM:+0300
TZOFFSETTO:+0300
TZNAME:MSK
DTSTART:20200101T000000
END:STANDARD
END:VTIMEZONE
BEGIN:VEVENT
DTSTART;VALUE=DATE:20210323
DTEND;VALUE=DATE:20210325
DTSTAMP:20260421T224743
CREATED:20210222T150639Z
LAST-MODIFIED:20210222T150639Z
UID:17746-1616457600-1616630399@ccib.ro
SUMMARY:Curs IT Requirements Elicitation pentru experţii IT
DESCRIPTION:OBIECTIV \nCursul constă în prezentarea unor concepte de specialitate și din exerciţii individuale sau de grup\, menite să introducă participanții în procesul realizării unei analize de sistem și a specificațiilor de programare IT\, utilizând metode și tehnici specifice domeniului Competitive Intelligence. \nParticipanţii vor dobândi competențe de construire a relației cu solicitanții produsului software și de obținere de la aceștia\, într-o manieră eficientă și cooperantă\, a informațiilor privind problema concretă ce trebuie adresată prin soft. \nObiectivul cursului îl reprezintă creşterea competențelor profesionale ale participanților privind: \n\ncunoașterea procesului de întocmire a analizei de sistem şi a specificațiilor de programare;\ncunoașterea şi aplicarea unui set de metode şi tehnici specifice domeniului Competitive Intelligence pentru obținerea eficientă a informațiilor necesare întocmirii specificațiilor de programare.\n\nGRUPUL ŢINTĂ \nExperți IT ce relaționează direct cu beneficiarii produselor de soft\, persoane implicate în analiza de sistem și întocmirea specificațiilor de programare\, programatori ce doresc să dobândească competențe de relaționare inter-personală. \nCONŢINUT \n\nElemente teoretice privind analiza de sistem și înțelegerea nevoilor operaționale ale beneficiarului viitorului produs software;\nConcepte specifice domeniului Competitive Intelligence operaționalizate în analiza de sistem;\n“Cum să fiu perceput ca un om de încredere?”\nCulegerea de informații prin metoda Elicitation;\nCulegerea de informații prin metoda Interviului de tip P.E.A.C.E (Preparation and Planning; Engage and Explain; Account\, Clarify and Challenge; Closure; Evaluation);\nÎnțelegerea modului de rezolvare a problemelor de tipul SAY-DO (oamenii știu să facă multe lucruri\, dar cei mai mulți nu pot descrie cunoștințele pe care le dețin sau le descriu cu lacune).\n\nLECTORI  \nDr. Adriean Pârlog are peste 25 de ani de experienţă în domeniul Intelligence şi a deţinut funcţia de Şef al serviciului de analiză informaţii militare. În prezent este profesor asociat la Universitatea Lucian Blaga şi la Universitatea Babeş Bolyai\, membru în comisii de admitere la cursul postuniversitar de Informaţii Militare\, membru în comisii la Colegiul Naţional de Apărare\, conducător ştiinţific\, etc. A absolvit Facultatea de Cibernetică Economică şi Statistică – Specialitatea Cibernetică Economică\, după care a urmat un curs postuniversitar de Specializare în Modelarea şi simularea fenomenelor economico – sociale în cadrul ASE. Deţine titlul de Doctor obţinut de la Academia de Înalte Studii Militare\, unde a absolvit şi un curs postuniversitar de informaţii militare. Aria sa de expertiză include: intelligence & business intelligence\, teoria informaţiilor\, modelarea şi simularea proceselor economice şi sociale. \nDr. Ionuţ Corduneanu este specialist în informaţii şi securitate\, consultant în informaţii pentru afaceri şi  vicepreşedinte al Asociaţiei Specialiştilor în Informaţii pentru Afaceri (asia.org.ro)\, membru al Strategic & Competitive Intelligence Professionals (scip.org) şi redactor-şef adjunct al revistei Business/Competitive Intelligence. De asemenea\, este trainer autorizat\, livrând în mod curent cursuri în domeniul informaţiilor pentru afaceri. Este licenţiat în comunicare socială-informaţii (ANI) şi are o practică de peste 13 ani în domeniul intelligence. \nDURATA CURSULUI  \nCursul se desfăşoară pe durata a 1 şi 1/2 zile (12 ore). \nPERIOADA DE DESFĂŞURARE  \n23 martie 2021\, orele 15.00 – 19.00 \n24 martie 2021\, orele 9.00 – 17.00. \nÎnscrierea la curs se face prin completarea fişei de înscriere. \n  \nLa finalul cursului\, participanţilor li se va emite un certificat\, emis de IBR (sub egida membrilor fondatori: BNR şi ARB)\, cu 11 credite de dezvoltare profesională continuă (CPDs). \nTARIFUL SPECIAL pentru membrii CCIB cu cotizaţia achitată la zi (redus cu 25% faţă de tariful standard): 1050 lei/persoană (nu se aplică TVA)  \nCursul se va livra ONLINE\, pe platforma ZOOM  \nCursanţii vor avea nevoie de un laptop sau tabletă și conexiune la internet. \nMai precis: vom folosi platforma ZOOM\, care pentru cursanţi este o platformă gratuită şi care nu necesită crearea unui cont. \nCursanţii vor avea nevoie de un calculator (laptop)\, dotat cu sistem de operare MINIM WINDOWS 7\, placă de sunet integrat şi browserul Chrome. În cazul în care accesul la un calculator nu este posibil\, cursanţii pot accesa întâlnirea online şi de pe telefon cu condiţia de a-şi fi descărcat şi instalat înainte aplicaţia. Ideal ar fi totuşi un calculator pentru condiţii optime de vizualizare. \nInvitaţia este generată de către lector sub forma unui link\, care va fi transmis cursanţilor de către organizator\, cu o zi înainte de data de începere a cursului. \nCursanţii trebuie să acceseze linkul primit la data şi ora cursului. \nPentru siguranţă vom face împreună cu participanţii câteva teste\, înainte de începerea cursului. \nPentru a înţelege cât de uşor este de accesat platforma ZOOM\, puteţi urmări acest video: https://youtu.be/fVRReTFe5Lg \n  \nPERSOANĂ DE CONTACT:  \nAnca Străchinescu\, anca.strachinescu@ibr-rbi.ro\, telefon: 0748886818 \n  \n  \n  \nDescarca Formular inscriere \n 
URL:https://ccib.ro/eveniment/curs-requirements-elicitation/
CATEGORIES:Cursuri,Eveniment
ATTACH;FMTTYPE=image/png:https://ccib.ro/wp-content/uploads/2021/02/banner-IT-Requirements-Elicitation-.png
ORGANIZER;CN="CCIB":MAILTO:membri@ccib.ro;
END:VEVENT
END:VCALENDAR