BEGIN:VCALENDAR
VERSION:2.0
PRODID:-//Camera de Comerţ şi Industrie a Municipiului Bucureşti - ECPv6.15.14//NONSGML v1.0//EN
CALSCALE:GREGORIAN
METHOD:PUBLISH
X-WR-CALNAME:Camera de Comerţ şi Industrie a Municipiului Bucureşti
X-ORIGINAL-URL:https://ccib.ro
X-WR-CALDESC:Evenimente pentru Camera de Comerţ şi Industrie a Municipiului Bucureşti
REFRESH-INTERVAL;VALUE=DURATION:PT1H
X-Robots-Tag:noindex
X-PUBLISHED-TTL:PT1H
BEGIN:VTIMEZONE
TZID:Europe/Moscow
BEGIN:STANDARD
TZOFFSETFROM:+0300
TZOFFSETTO:+0300
TZNAME:MSK
DTSTART:20200101T000000
END:STANDARD
END:VTIMEZONE
BEGIN:VEVENT
DTSTART;VALUE=DATE:20210324
DTEND;VALUE=DATE:20210326
DTSTAMP:20260421T224847
CREATED:20210303T094636Z
LAST-MODIFIED:20210303T094636Z
UID:17766-1616544000-1616716799@ccib.ro
SUMMARY:Curs GDPR - Registrul de evidenta al operatiunilor de prelucrare a datelor cu caracter personal
DESCRIPTION:OBIECTIV \nStudierea reglementărilor şi criteriilor pentru stabilirea obligaţiei de ţinere a registrului de evidenţă al operaţiunilor de prelucrare a datelor\, excepţiilor aplicabile\, dar şi a modalităţii efective de completare şi ţinere a registrului\, plecând de la inventarierea operaţiunilor în funcţie de scopul acestora\, de natura datelor\, de contextul sau domeniul în care se realizează operaţiunile\, mediul de stocare\, măsurile tehnice şi organizatorice etc.\, obligaţie ce incumbă atât operatorilor de date\, cât şi persoanelor împuternicite în conformitate cu art. 30 din Regulamentul General 2016/679 privind protecţia datelor. Se vor detalia astfel atât aspectele de ordin teoretic\, din perspectiva reglementărilor aplicabile\, cât şi pe cele de ordin practic\, completând mai multe pagini de registru în domenii diferite\, cum ar fi marketing\, resurse umane\, precum şi alte procese operaţionale alese în cadrul trainingului de către participanţii la curs. \nGRUP ŢINTĂ \nSeminarul este adresat atât specialiştilor de protecţia datelor\, respectiv responsabililor care au calitatea de salariaţi ai operatorului de date/persoană împuternicită\, cât şi altor categorii de salariaţi din cadrul acestora\, care sunt desemnaţi să completeze registrul de evidenţă al operaţiunilor de prelucrare a datelor cu caracter personal\, în condiţiile stabilite de articolul 30 din Regulamentul General 2016/679 privind protecţia datelor. \nCONŢINUT \n\nAplicabilitatea Regulamentului General 2016/679 privind protecţia datelor (GDPR) – parte teoretică\nTermenii specifici domeniului de protecţia datelor\nPrincipiile de legitimitate a operaţiunilor de prelucrare a datelor\nTemeiurile juridice privind operaţiunile de prelucrare a datelor\nMăsurile tehnice şi organizatorice\n\n  \n\nRegistrul de evidenţă al operaţiunilor de prelucrare a datelor cu caracter personal (registrul de evidenţă) – parte teoretică\nObligaţia ţinerii unui registru de evidenţă\nExcepţiile de la regula obligativităţii ţinerii registrului de evidenţă\nObiectivul urmărit prin registrul de evidenţă\nRoluri şi responsabilităţi în cadrul operatorului de date / persoanei împuternicite\n\n  \n\nModelul de registru şi conţinutul acestuia – parte teoretică\n\nConţinutul registrului de evidenţă\nFişa unică\nModele existente în practică\n\n\n\n  \n\nCompletarea şi Revizuirea registrului de evidenţă – parte practică aplicată (inventarierea unor operaţiuni de prelucrare a datelor cu caracter personal în domeniile menţionate mai jos):\n\nCompletare operaţiuni privind protecţia datelor în scop de HR;\nCompletare operaţiuni privind prelucrarea datelor în scop de marketing;\nCompletare operaţiuni privind prelucrarea datelor realizate în interesul legitim al operatorului în diverse scopuri.\n\n\n\n  \n  \n  \nLECTOR \nAv. Maria Maxim este Director de Conformitate la filiala locală a uneia dintre cele mai importante firme de FMCG din Europa. Anterior\, a fost Partener Coordonator Practică Protecţia Datelor cu Caracter Personal la Wolf Theiss – Leading Lawyers in CEE şi Senior Manager în Departamentul de Investigare a Fraudelor și de Soluționare a Disputelor în România din cadrul EY Romania. A lucrat în industria de telecomunicații în mai multe posturi de conducere executivă\, în domeniul protecției datelor\, juridic\, precum și conformitate. A deținut funcția de director executiv de conformitate și director executiv de protecția datelor\, făcând parte dintr-o echipă internațională. Maria are o vastă experiență în domeniile juridic\, conformitate\, anti-trust și protecția datelor. Ea  este\, de asemenea\, avocat membru al Baroului București. Este certificată de Frankfurt School of Management ca şi investigator de fraudă și deține Certificatul internațional avansat în Conformitate și Criminalitate Financiară\, acordat de International Compliance Association (UK). A desfășurat numeroase proiecte internaționale în materie de conformitate\, anti-trust\, de protecția datelor\, dreptul muncii\, achiziții\, dispute\, litigii și investigații. \nDURATA CURSULUI  \nCursul se desfășoară pe durata a 7 ore. \nPERIOADA DE DESFĂŞURARE  \n24-25 martie 2021 (Miercuri – Joi)\, între orele 18-21.45 \nÎnscrierea la curs se face prin completarea fișei de înscriere. \nCursul se va livra ONLINE\, pe platforma ZOOM. Cursanţii vor avea nevoie de un calculator/laptop/tabletă și conexiune la internet. Platforma ZOOM este gratuită pentru cursanţi şi nu necesită crearea unui cont. Aceştia vor avea nevoie de postul de lucru dotat cu sistem de operare MINIM WINDOWS 7\, placă de sunet integrat şi browserul Chrome. În cazul în care accesul la un calculator nu este posibil\, cursanţii pot accesa întâlnirea online şi de pe telefonul mobil\, cu condiţia de a-şi fi descărcat şi instalat înainte aplicaţia Zoom. Pentru condiţii optime de vizualizare\, recomandăm accesul de pe calculator/laptop/tabletă. \nInvitaţia este generată de către lector sub forma unui link\, care va fi transmis cursanţilor de către organizator\, cu o zi înainte de data de începere a cursului. Cursanţii trebuie să acceseze linkul primit la data şi ora cursului. \nLa finalul cursului\, participanților li se va înmâna un certificat emis de IBR (sub egida membrilor fondatori: BNR si ARB)\, cu 7 credite de dezvoltare profesională continuă (CPDs). \n  \nTARIFUL SPECIAL pentru membrii CCIB cu cotizaţia achitată la zi (redus cu 25% faţă de tariful standard): 150 euro/persoană (echivalent în lei la cursul BNR din ziua facturării) – nu se aplică TVA  \n  \nPersoană de contact \nSanda Voinescu \nTraining Manager \nTelefon: 0748 020 305 \ne-mail: sanda.voinescu@ibr-rbi.ro \n  \n  \nDescarca Formular inscriere \n 
URL:https://ccib.ro/eveniment/curs-gdpr-registrul-evidenta-martie2021/
CATEGORIES:Cursuri,Eveniment
ATTACH;FMTTYPE=image/png:https://ccib.ro/wp-content/uploads/2021/03/banner-GDPR-IBR.png
ORGANIZER;CN="CCIB":MAILTO:membri@ccib.ro;
END:VEVENT
END:VCALENDAR