BEGIN:VCALENDAR
VERSION:2.0
PRODID:-//Camera de Comerţ şi Industrie a Municipiului Bucureşti - ECPv6.15.14//NONSGML v1.0//EN
CALSCALE:GREGORIAN
METHOD:PUBLISH
X-ORIGINAL-URL:https://ccib.ro
X-WR-CALDESC:Evenimente pentru Camera de Comerţ şi Industrie a Municipiului Bucureşti
REFRESH-INTERVAL;VALUE=DURATION:PT1H
X-Robots-Tag:noindex
X-PUBLISHED-TTL:PT1H
BEGIN:VTIMEZONE
TZID:Europe/Moscow
BEGIN:STANDARD
TZOFFSETFROM:+0300
TZOFFSETTO:+0300
TZNAME:MSK
DTSTART:20200101T000000
END:STANDARD
END:VTIMEZONE
BEGIN:VEVENT
DTSTART;VALUE=DATE:20210406
DTEND;VALUE=DATE:20210408
DTSTAMP:20260421T211225
CREATED:20210226T124340Z
LAST-MODIFIED:20210226T124340Z
UID:17760-1617667200-1617839999@ccib.ro
SUMMARY:Curs Analiza financiară – nivel bază
DESCRIPTION:OBIECTIVUL CURSULUI \n  \nDupa parcurgerea acestui curs participantii vor putea să: \n  \n\nContribuie la reducerea riscului în activitatea de gestionare a resurselor financiare;\nÎntocmescă bilanţul în varianta restructurată;\nAnalizeze bilantul în varianta restructurată;\nAnalizeze (interpreteze) corect indicatorii de bonitate;\nIntercoreleze indicatorii de bonitate în vederea luării unor decizii investiţionale corecte;\nÎnteleagă fluxurile de fonduri care iau nastere între două perioade;\nAnalizeze şi interpreteze rezultatul exercițiului în funcţie de factorii care au contribuit la formarea nivelului global;\nCoroboreze analiza financiară cu proiecția fluxului de lichidităţi pentru a putea lua decizii manageriale (de creditare) corecte\, cu riscuri reduse;\nÎntocmească un flux de numerar;\nAnalizeze un flux de numerar.\n\nGRUP ŢINTĂ \nPersonalul implicat în activitatea de analiză financiară\, care nu dispune de o experiență vastă în domeniu\, angajați din bănci\, oameni de afaceri\, contabili\, persoanele implicate în diverse activități economice\, antreprenori etc. \n  \nCONŢINUT \nMODUL 1: Analiza structurii bilanţului \n1.1. Analiza financiară a bilanţului restructurat \n1.2. Fondul de rulment \n1.3. Necesarul de fond de rulment \n1.4. Trezoreria netă \n  \nMODUL 2: Analiza indicatorilor de structură  \n2.1.Modul de interpretare a indicatorilor \n2.2. Indicatori de lichiditate (current ratio\, quick ratio\, working capital) \n2.3. Indicatori de eficienţă \n2.4. Indicatori de îndatorare \nMODULUL 3: Analiza contului de profit şi pierdere  \n3.1 Analiza fluxurilor \n3.2. Indicatorii de performanţă ai contului de profit şi pierdere(EBIT\, EBITDA) \n3.2.1. Indicatori de profitabilitate \n3.2.2. Indicatori de risc financiar \n  \nPREZENTAREA LECTORULUI  \nLevente KATONA este licențiat al Facultății de Științe Economice a Universității Babeș-Bolyai din Cluj Napoca și doctor în economie al Institutului Național de Cercetări Economice al Academiei Române\, având numeroase specializări în domeniul managementului financiar și al marketingului bancar (Deutsche Management Akademie Niederschsen\, Ministerul Finanțelor\, Luxemburg etc). \nLevente a parcurs treptele profesionale de la economist la director de bancă (1992 – 2004)\, iar din 2004 pana in 2008 a coordonat activitatea de pregătire profesionala pentru zona corporate într-una dintre băncile aflate în top cinci din România şi parte a unui important grup financiar european. Are o experienţă vastă în training\, consultanță şi formare profesională și de peste 12 ani livrează cu succes cursuri cu tematicile: Analiza financiară și analiza cash-flow\, Management financiar\, Managementul proiectelor – îmbunătățiirea proceselor (Lean Management)\, Standingul financiar al firmei – noțiuni de contabilitate\, Managementul costurilor\, Marketing – promovarea și vânzarea produselor\, Costumer care – fidelizarea clienților\, Management strategic etc. \n  \nDURATA CURSULUI \nCursul se desfăşoară pe durata a 8 ore (4 ore / zi). \n  \nPERIOADA DE DESFĂŞURARE \n6 – 7 aprilie 2021\, orele 09:00 – 13:00 \n  \nÎnscrierea la curs se face prin completarea fişei de înscriere. \nLa finalul cursului\, participanţilor li se va înmâna un certificat\, emis de IBR (sub egida membrilor fondatori: BNR si ARB)\, cu 7 credite CPD. \n  \nCursul se va organiza ONLINE\, pe platforma ZOOM. Pentru detalii click aici. \nInvitaţia este generată de către IBR sub forma unui link\, care va fi transmis cursanţilor de către organizator\, cu câteva zile înainte de data de începere a cursului. Cursanţii trebuie să acceseze linkul primit la data şi ora cursului. \nTARIFUL SPECIAL pentru membrii CCIB (redus cu 25% faţă de tariful standard): 655 lei/persoană (nu se aplică TVA)  \nPERSOANA DE CONTACT \nGabriela Dumitrache\, Specialist training \nTel: 0748.886.822; e-mail: gabriela.dumitrache@ibr-rbi.ro \n  \n  \n  \nDescarca Formular inscriere \n 
URL:https://ccib.ro/eveniment/curs-analiza-financiara-aprilie2021/
CATEGORIES:Cursuri,Eveniment
ATTACH;FMTTYPE=image/png:https://ccib.ro/wp-content/uploads/2021/02/banner-analiza-financiara.png
ORGANIZER;CN="CCIB":MAILTO:membri@ccib.ro;
END:VEVENT
END:VCALENDAR