BEGIN:VCALENDAR
VERSION:2.0
PRODID:-//Camera de Comerţ şi Industrie a Municipiului Bucureşti - ECPv6.15.14//NONSGML v1.0//EN
CALSCALE:GREGORIAN
METHOD:PUBLISH
X-ORIGINAL-URL:https://ccib.ro
X-WR-CALDESC:Evenimente pentru Camera de Comerţ şi Industrie a Municipiului Bucureşti
REFRESH-INTERVAL;VALUE=DURATION:PT1H
X-Robots-Tag:noindex
X-PUBLISHED-TTL:PT1H
BEGIN:VTIMEZONE
TZID:Europe/Moscow
BEGIN:STANDARD
TZOFFSETFROM:+0300
TZOFFSETTO:+0300
TZNAME:MSK
DTSTART:20200101T000000
END:STANDARD
END:VTIMEZONE
BEGIN:VEVENT
DTSTART;VALUE=DATE:20210517
DTEND;VALUE=DATE:20210518
DTSTAMP:20260421T192830
CREATED:20210505T102603Z
LAST-MODIFIED:20210505T102603Z
UID:18025-1621209600-1621295999@ccib.ro
SUMMARY:Prezentări tips & trick - Power Point și Outlook
DESCRIPTION:Prezentări tips & trick – Power Point și Outlook \n                         \nMS Power Point vă oferă instrumentele pentru realizarea unor prezentări profesionale. Utilizată cu toate facilităţile\, aplicaţia permite crearea unor prezentări de business convingătoare\, atractive\, care să capteze atenţia şi interesul auditoriului. \nGrup ţintă \nCursul se adresează persoanelor interesate de tehnici de prezentare\, manageri şi angajaţi din toate departamentele\, care doresc să folosească produsele Outlook și Power Point la un nivel profesional\, persoane dinamice\, mereu la curent cu noul\, dornice să ţină pasul cu tehnologia pentru a evolua şi a fi performante. \nTematica \nOutlook: \n\nStabilirea destinatarilor in functie de mesajul transmis (diferența dintre To\, Cc și Bcc)\nSubiectul emailului\nTipuri de mesaje și structurarea corecta a mesajului\nFolosirea formularilor predefinite pentru mesaje recurente\nOrganizarea emailurilor: foldere\, reguli\, retention policy\, categorii\nReguli de bună practică în comunicarea electronică\n\n  \nPowerPoint \n\nStructura corectă a unei prezentări\nTipuri de slide-uri: utilizarea tipurilor predefinite și crearea de tipuri de slide-uri noi\nSlide Master pentru crearea de șabloane și modificări pentru tipuri de conținut similar în întreaga prezentare\nReutilizarea slide-urilor folosite în altă prezentare\nReguli pentru prezentări de impact\nReguli de bună practică pentru crearea eficientă a prezentărilor\n\n  \nDurata şi perioada \nCursul are o durată de 8 ore de instruire teoretică şi practică (2 ore/zi) şi se desfăşoară în perioada 17 – 18 mai 2021\, între orele 1600 – 2000. \nÎnscrierea la curs se face prin completarea fişei de înscriere. \nIBR va organiza cursul online\, pe platforma ZOOM. \n  \n  \n  \nLector \nLuciana Bercean – formator autorizat\, cu o experiență de peste 8 ani în livrarea de cursuri în domeniul IT\, specializată în programele din suita Microsoft Office: Word\, Excel\, Access\, PowerPoint și Outlook. Deține importante certificări în domeniu: Microsoft Certified Trainer (MCT)\, Microsoft Office Specialist Expert Excel 2016\, expert ECDL \n  \nAtestarea  \nLa finalul cursului\, participanţilor li se va înmâna un certificat\, emis de IBR (sub egida membrilor fondatori: BNR şi ARB)\, cu 8 credite de dezvoltare profesională continuă (CPDs). \n  \nTarif  \n  \nTARIFUL SPECIAL pentru membrii CCIB cu cotizaţia achitată la zi (redus cu 25% faţă de tariful standard): 402 lei/persoană (nu se aplică TVA)  \n  \nPlata se va face integral\, cu cel puţin patru zile înainte de începerea cursului\, în contul Institutului Bancar Roman numărul RO93BTRLRONCRT0261315401\, deschis la Banca Transilvania\, Sucursala Lipscani (pe ordinul de plată va rugăm să specificaţi numele cursanţilor şi titlul cursului). În cazul în care un participant anunţă retragerea sa de la curs cu 1-2 zile\, înainte de începerea cursului\, din taxa de participare se reţine un procent de 17 %. În cazul în care un participant anunţă retragerea la data începerii cursului\, taxa de participare nu se mai restituie. În toate cazurile există posibilitatea înlocuirii participantului retras cu un alt participant\, caz în care nu se percepe nici o penalizare. \n  \nRoxana Ivan \nSpecialist formare\, IBR \nemail: roxana.ivan@ibr-rbi.ro; \ntel: 0748 886 839 \n  \nDescarca Formular inscriere \n 
URL:https://ccib.ro/eveniment/prezentari-tips-tricks-mai2021/
CATEGORIES:Cursuri,Eveniment
ATTACH;FMTTYPE=image/jpeg:https://ccib.ro/wp-content/uploads/2021/05/banner-Tips-and-Tricks.jpg
ORGANIZER;CN="CCIB":MAILTO:membri@ccib.ro;
END:VEVENT
END:VCALENDAR