BEGIN:VCALENDAR
VERSION:2.0
PRODID:-//Camera de Comerţ şi Industrie a Municipiului Bucureşti - ECPv6.15.14//NONSGML v1.0//EN
CALSCALE:GREGORIAN
METHOD:PUBLISH
X-ORIGINAL-URL:https://ccib.ro
X-WR-CALDESC:Evenimente pentru Camera de Comerţ şi Industrie a Municipiului Bucureşti
REFRESH-INTERVAL;VALUE=DURATION:PT1H
X-Robots-Tag:noindex
X-PUBLISHED-TTL:PT1H
BEGIN:VTIMEZONE
TZID:Europe/Moscow
BEGIN:STANDARD
TZOFFSETFROM:+0300
TZOFFSETTO:+0300
TZNAME:MSK
DTSTART:20200101T000000
END:STANDARD
END:VTIMEZONE
BEGIN:VEVENT
DTSTART;VALUE=DATE:20210525
DTEND;VALUE=DATE:20210530
DTSTAMP:20260421T193014
CREATED:20210524T075557Z
LAST-MODIFIED:20210524T075905Z
UID:18107-1621900800-1622332799@ccib.ro
SUMMARY:Webinar: Dezvoltarea cooperării economice și comerciale între România și Regatul Maroc
DESCRIPTION:  \n  \n  \n  \nI N V I T A Ț I E \n  \nÎn dorința de a oferi mediului de afaceri noi oportunități pentru internaționalizarea operațiunilor comerciale și cooperării economice\, Camera de Comerț și Industrie a Municipiului București (CCIB)\, în parteneriat cu Ministerul Economiei\, Antreprenoriatului și Turismului\, Ambasada Regatului Maroc în România și Biroul De Promovare Comercial Economică (BPCE) Tanger\, secție comercial-economică a Ambasadei României în Regatul Maroc\, vă adresează călduroasa invitație de a participa la: \n  \nWEBINAR-UL \n  \nDezvoltarea cooperării economice și comerciale între România și Regatul Maroc \n  \ncare are loc marți\, 25 mai 2021\, ora 13:00 (ora României- R) / 11:00 (ora Marocului-M) \nModerator: Dl. Iuliu STOCKLOSA\, Președinte al Camerei de Comerț și Industrie a Municipiului București (CCIB) \nProgramul Webinar-ului \n  \n13:00 – 13:10 (R)     Alocuțiune de deschidere\, Dl. Iuliu STOCKLOSA\, președintele CCIB     \n  11:00-11:10 (M) \n13:10 – 13:20  (R)     Prezentarea Excelenței Sale Dl. Claudiu NĂSUI\, ministrul economiei\, \n  11.10 – 11:20 (M)    antreprenoriatului și turismului\, România \n13:20 – 13:30  (R)     Prezentarea Excelenței Sale Dl. Aziz RABBAH\, ministrul energiei\,  \n  11:20 – 11:30 (M)    minelor și mediului\, Regatul Maroc \n13:30 – 13:40  (R)    Alocuțiunea Excelenței Sale Dna. Maria CIOBANU\, Ambasador al României \n  11:30 – 11:40 (M)     în Regatul Maroc \n13:40 – 13:50 (R)     Alocuțiunea Excelenței Sale Dl. Hassan ABOUYOUB\, Ambasador al \n  11:40 – 11:50 (M)    Regatului Maroc în România \n  \n13:50 – 14:00  (R)       Prezentarea Dlui. Magour ZOUHAIR\, președintele Camerei Bilaterale de   \n  11:50 – 14:00 (M)      Comerț Regatul Maroc – România  \n14:00 – 14.15  (R)       Sesiune de Întrebări și Răspunsuri \n  12:00 – 12:15 (M)       \n14:15 – 14:45  (R)       Sesiune B2B \n  12:15 – 12:45 (M) \nLimba de comunicare: engleza \nLink pentru participare Webinar: \nhttps://zoom.us/j/94009536297?pwd=RFd5Tk1xYTQ1WDR4K3Ivc1c5cG5tQT09 \nMeeting ID: 940 0953 6297  \nPasscode: 191252 \n  \nFirmele și companiile\, precum și instituțiile din cele două țări interesate să participe la acest Webinar\, sunt rugate să confirme participarea la adresele de mail:  \nPentru Romania: mircea.toader@ccib.ro  \nPentru Maroc: remusradulescu@yahoo.com.br \nPentru sprijin tehnic: tiberiu.nistor@ccib.ro și stefan.toader@ccib.ro \n  \nAcest Webinar va constitui începutul unor contacte între mediile de afaceri din România și Regatul Maroc\, fiind urmat\, ulterior\, de întâlniri sectoriale pe diverse domenii de interes comun\, iar pe măsura normalizării situației pandemice\, de organizarea unor misiuni economice în Regatul Maroc și respectiv în România. \n  \nVă așteptăm să fiți alături de noi\, virtual\, la acest Webinar dedicat promovării relațiilor comercial economice româno-marocane. \n  \nIuliu STOCKLOSA \nPreședintele CCIB \nMail: presedinte@ccib.ro \nTel: +40 744 569 546 \n  \n 
URL:https://ccib.ro/eveniment/webinar-forum-romania-maroc-mai2021/
CATEGORIES:Eveniment
ATTACH;FMTTYPE=image/png:https://ccib.ro/wp-content/uploads/2021/05/banner-webinar-Ro-Maroc.png
ORGANIZER;CN="CCIB":MAILTO:membri@ccib.ro;
END:VEVENT
BEGIN:VEVENT
DTSTART;VALUE=DATE:20210526
DTEND;VALUE=DATE:20210528
DTSTAMP:20260421T193014
CREATED:20210511T083123Z
LAST-MODIFIED:20210511T083123Z
UID:18052-1621987200-1622159999@ccib.ro
SUMMARY:Cursul RESPONSABIL CU GESTIONAREA DESEURILOR
DESCRIPTION:INVITATIE \n  \n  \n       Pentru a raspunde cerintelor dumneavoastra\, Camera de Comert si Industrie a Municipiului Bucuresti organizeaza Cursul RESPONSABIL CU GESTIONAREA DESEURILOR\, LIVE – în sistem de videoconferinţă\, in perioada 26 – 27 MAI 2021\, intre orele 12.00-16.00\, pe platforma ZOOM. \nPe toata durata evenimentului\, cursanţii sunt în legătură directă cu lectorul\, 100% LIVE\, pot să comunice în timp real cu acesta\, pot adresa întrebări şi pot rezolva exerciţii interactive. \n  \nCursul se adreseaza operatorilor economici care produc\, utilizeaza\, manipuleaza\, depoziteaza sau transporta deseuri nepericuloase si/sau periculoase\, persoane juridice\, care detin autorizatie/autorizatie integrata de mediu. \nIn conformitate cu prevederile OUG nr. 74/2018 pentru modificarea si completarea Legii nr. 211/2011\, a Legii nr. 249/2015 si a OUG nr. 196/2005 privind Fondul de mediu\, cu modificarile si completarile ulterioare „persoanele juridice\, care detin a autorizatie/autorizatie integrata de mediu au obligatia sa desemneze o persoana\, din randul angajatilor proprii\, care sa urmareasca si sa asigure indeplinirea obligatiilor prevazute de prezenta lege sau sa delege aceasta obligatie unei terte persoane”. \nPersoanele desemnate trebuie sa fie instruite in domeniul gestiunii deseurilor\, inclusiv a deseurilor periculoase\, ca urmare a absolvirii unor cursuri de specialitate. Nedesemnarea unei persoane constituie contraventie si se sanctioneaza cu amenda conform legii. \n  \nTematica cursului: \n  \nPrezentarea actelor normative care reglementeaza domeniul protectiei mediului referitoare la solicitarea si obtinerea actelor de reglementare\, precum si obligatiile titularilor de activitate impuse prin legislatia specifica privind regimul deseurilor\, in conformitate cu prevederile legislatiei comunitare. \n\nOrdonanta de Urgenta a Guvernului nr. 74/2018 pentru modificarea si completarea Legii nr. 211/2011 privind regimul deseurilor\, a Legii nr. 249/ 2015 privind modalitatea de gestionare a ambalajelor si deseurilor de ambalaje si a OUG nr. 196/2005 privind Fondul de mediu.\nOrdonanta de Urgenta a Guvernului nr. 195/2005 privind protectia mediului\, cu modificarile si completarile ulterioare cu referire la obligatiile operatorilor economici fata de cerintele impuse prin actele de reglementare privind protectia mediului- studii de caz.\nOM nr.739/2017 privind aprobarea Procedurii de inregistrare a operatorilor economici care nu se supun autorizarii de mediu conform prevederilor Legii nr.211/2011 privind regimul deseurilor.\nLegea nr. 211/2011 privind regimul deseurilor – obligatiile agentilor economici;\nHG 856/2002 privind evidenta gestiunii deseurilor si pentru aprobarea listei cuprinzând deseurile\, inclusiv deseurile periculoase\, cu completarile ulterioare;\nHG 1061/2008 privind transportul deseurilor periculoase si nepericuloase pe teritoriul României;\nLegea 249/2015 privind gestionarea ambalajelor si a deseurilor de ambalaje\, cu modificarile si completarile ulterioare;\nIdentificarea\, caracterizarea si codificarea deseurilor – studiu de caz.\nGestionarea deseurilor si\, in special\, a anumitor categorii reglementate prin acte normative speciale: uleiurile uzate\, bateriile si acumulatorii uzati\, deseurile de echipamente electrice si electronice\, deseurilor periculoase\, etc.;\nIntocmirea si raportarea Registrului privind evidenta deseurilor nepericuloase si periculoase.\nObligatiile fata de fondul de mediu in domeniul gestiunii deseurilor si ambalajelor.\nSolutii practice pentru conformarea agentilor economici cu cerintele legislatiei de mediu in domeniul deseurilor. Evitarea sanctiunilor.Trasabilitatea deseurilor\nInformatii privind aplicatiile SIM si DSS existente pe site-ul ANPM.\n\n  \nCursul beneficiaza de expertiza dnei ing. Magdalena Gheorghe\, consultant in domeniul protectiei mediului\, având experienta dobândita in cadrul autoritatilor de mediu\, APM/ANPM si Garda Nationala de Mediu. \nLa finalul cursurilor se vor elibera certificatele de absolvire emise de Camera de Comert si Industrie a Municipiului Bucuresti. \n  \nTaxa de participare este de 300 lei/participant\, la care se adauga TVA si se poate achita conform formularului de participare anexat. \nPretul include: suportul de curs\, suport din partea organizatorului pe toata durata cursului\, certificatul de absolvire oferit de organizator (CCIB). \nFirmele membre ale CCIB cu cotizatia achitata la zi beneficiaza de o reducere de 30% din taxa. \nPentru inscrieri va rugam sa transmiteti formularul de participare completat la adresa de e-mail: ruxandra.stoica@ccib.ro.  \nÎn urma confirmării înscrierii\, participanții vor primi datele de conectare la eveniment\, în platforma Zoom. \n  \nPentru alte detalii va rugam sa ne contactati la tel: 0740.249.775 dna. Ruxandra.Stoica. \n  \nIn speranta ca acest eveniment prezinta interes pentru dumneavoastra\, asteptam confirmarea participarii pana la data de 24.05.2021. \n  \nDescarca Formular inscriere \n 
URL:https://ccib.ro/eveniment/curs-responsabil-gestionare-deseuri-mai2021/
CATEGORIES:Cursuri,Eveniment
ATTACH;FMTTYPE=image/jpeg:https://ccib.ro/wp-content/uploads/2021/05/banner-site.jpg
ORGANIZER;CN="CCIB":MAILTO:membri@ccib.ro;
END:VEVENT
END:VCALENDAR