BEGIN:VCALENDAR
VERSION:2.0
PRODID:-//Camera de Comerţ şi Industrie a Municipiului Bucureşti - ECPv6.15.14//NONSGML v1.0//EN
CALSCALE:GREGORIAN
METHOD:PUBLISH
X-ORIGINAL-URL:https://ccib.ro
X-WR-CALDESC:Evenimente pentru Camera de Comerţ şi Industrie a Municipiului Bucureşti
REFRESH-INTERVAL;VALUE=DURATION:PT1H
X-Robots-Tag:noindex
X-PUBLISHED-TTL:PT1H
BEGIN:VTIMEZONE
TZID:Europe/Moscow
BEGIN:STANDARD
TZOFFSETFROM:+0300
TZOFFSETTO:+0300
TZNAME:MSK
DTSTART:20200101T000000
END:STANDARD
END:VTIMEZONE
BEGIN:VEVENT
DTSTART;VALUE=DATE:20210623
DTEND;VALUE=DATE:20210624
DTSTAMP:20260421T174829
CREATED:20210604T102943Z
LAST-MODIFIED:20210622T153029Z
UID:18183-1624406400-1624492799@ccib.ro
SUMMARY:Conferinta FOCUS BUCURESTI: dezvoltare urbana\, economie\, mobilitate - 23 iunie 2021
DESCRIPTION:Camera de Comerţ şi Industrie a Municipiului Bucureşti (CCIB) va invita miercuri\, 23 iunie 2021\, începand cu ora 9:00\, la a treia editie a Conferintei FOCUS BUCURESTI: dezvoltare urbana\, economie\, mobilitate\, ce va avea loc in sediul nostru istoric din str. Ion Ghica nr. 4\, Aula Carol I\, etajul 2. \nCu o traditie de peste 150 de ani de activitate neîntreruptă in slujba oamenilor de afaceri\, Camera de Comerţ şi Industrie a Municipiului Bucureşti se afla in fata unei provocari continue: aceea de a oferi companiilor instrumentele si solutiile pentru a rezista in competitia globala\, incurajand dialogul intre diversii actori implicati in activitatea economica si de dezvoltare a Bucurestiului. \nÎn cadrul ediției 2021 a conferinței FOCUS BUCURESTI ne propunem abordarea urmatoarelor domenii\, dar nu numai: digitalizarea administratiei si accesul operatorilor economici la serviciile publice pentru rezolvarea problemelor administrative și fiscale\, București Smart City – solutii si oportunitati\, infrastructura de transport si mizele economice. \nFOCUS BUCURESTI reuneste cei mai importanti reprezentanti ai comunitatii de afaceri\, înalţi funcţionari ai statului si responsabili ai administratiei centrale si locale\, pentru a clarifica impreuna problemele aparute in relatia autoritati – mediu de afaceri\, dar si pentru a identifica solutii si bune practici menite sa transforme Bucurestiului intr-o metropola moderna a businessului romanesc. \nGraţie speakerilor prezenti la conferinţă – persoane cu experienţă deosebită şi cu putere de decizie\, suntem convinşi că evenimentul va ramane unul de referinţă pentru metropola bucureşteană. \nParticiparea la eveniment este gratuita cu conditia confirmarii prezentei dumneavoastra la  email: anca.vasile@ccib.ro. \nDe asemenea va invitam sa analizati posibilitatea de a va promova compania\, achizitionand unul din pachetele de parteneriat puse la dispozitia dvs. \n  \nParteneriat conferinta\n  \nParteneriat Media\n  \n  \n  \n  \nA G E N D A  \n\n\n \n\n\n\n09:00 – 09:30\nÎnregistrarea participanților\n\n\n09:30 – 09:35\nDeschidere oficială \nIuliu Stocklosa\, Președintele Camerei de Comerț și Industrie a Municipiului București\n\n\n09:35 – 9:45\nKeynote speech \n  \nAlin Bogdan Stoica\, Prefectul Capitalei – Digitalizarea administrației\n\n\n9:45 – 11:00 \n  \n  \n  \n  \n  \n  \n  \n \nDIGITALIZAREA ADMINISTRAȚIEI  ȘI ACCESUL OPERATORILOR ECONOMICI LA SERVICIILE PUBLICE PENTRU REZOLVAREA PROBLEMELOR FISCALE ȘI ADMINISTRATIVE \n  \nStelian Bujduveanu\, Viceprimar general al Municipiului București – Digitalizarea administrației și transparentizarea întregului proces de emitere a documentelor \n  \nRadu Nicolae Mihaiu\, Primarul sectorului 2 – Digitalizarea administrației și accesul operatorilor economici la serviciile publice pentru rezolvarea problemelor fiscale și administrative \n  \nRobert Negoiță\, Primarul sectorului 3 – Digitalizarea administrației\, colaborarea între instituțiile statului și mediul economic\, învățământul dual. \n  \nDaniel Oproiu\, Consilier al Primarului\,  Primăria sector 4 – Incluziunea digitală: Smart City pentru toate nivelurile de competențe digitale \n  \nClaudiu Octavian Ceti\, Consilier al Primarului\, Primăria sector 5 – Regenerare Urbană Sector 5 \n  \nMihaela Drăgulin\, director general adjunct – Direcția Generală de Asistență pentru Contribuabili ANAF – Reforma ANAF în contextul PNRR – Creșterea conformării voluntare prin dezvoltarea serviciilor digitale\n\n\n11:00 – 11:15\nPauza de cafea\n\n\n11:15 – 11:45\nBUCUREȘTI SMART CITY – SOLUȚII ȘI OPORTUNITĂȚI \nOctavian Berceanu\, Comisar General al Gărzii Naționale de Mediu  – Gestionarea deșeurilor și a rețelelor publice \nEduard Dumitrașcu\, președintele Asociației Române pentru Smart City – Oportunități de Dezvoltare Smart a Municipiului București 2021-2027 \nCălin Vilt\, consilier CNR-CME – Rețele inteligente de energie și eficacitatea energetică pentru comunitate\n\n\n11:45– 12:00\nPauza de cafea\n\n\n12:00 – 12:45 \n  \n  \n  \n  \n \nINFRASTRUCTURA DE TRANSPORT ȘI MIZELE ECONOMICE \nRaluca Badau\, Manager bancar infrastructura BERD  – Oportunități și mecanisme de finanțare a proiectelor de infrastructură \nCosmin Coșereață\, Managing Partner @ Blinkee City Romania – Cum influențează Blinkee problemele de trafic\, poluare și lipsa locurilor de parcare \nMarlena Pop\,  CEO Humanities & Design Center for the Creative Industries – Centrul Cultural al CCIB în dinamica sustenabilității culturale metropolitane\n\n\n12:45-13:30     \nNetworking Bufet\n\n\n\n \n\nLocația: Aula Carol I\, Palatul CCI Bucuresti Business Center\, Etaj 2 \nStr. Ion Ghica nr 4\, Sector 3\, Bucuresti (vis-à-vis de Banca Nationala a Romaniei) \n  \n  \n  \n 
URL:https://ccib.ro/eveniment/focus-bucuresti-iunie2021/
CATEGORIES:Cursuri,Eveniment
ATTACH;FMTTYPE=image/jpeg:https://ccib.ro/wp-content/uploads/2021/06/banner-Focus-Bucuresti.jpg
ORGANIZER;CN="CCIB":MAILTO:membri@ccib.ro;
END:VEVENT
END:VCALENDAR