BEGIN:VCALENDAR
VERSION:2.0
PRODID:-//Camera de Comerţ şi Industrie a Municipiului Bucureşti - ECPv6.15.14//NONSGML v1.0//EN
CALSCALE:GREGORIAN
METHOD:PUBLISH
X-ORIGINAL-URL:https://ccib.ro
X-WR-CALDESC:Evenimente pentru Camera de Comerţ şi Industrie a Municipiului Bucureşti
REFRESH-INTERVAL;VALUE=DURATION:PT1H
X-Robots-Tag:noindex
X-PUBLISHED-TTL:PT1H
BEGIN:VTIMEZONE
TZID:Europe/Moscow
BEGIN:STANDARD
TZOFFSETFROM:+0300
TZOFFSETTO:+0300
TZNAME:MSK
DTSTART:20200101T000000
END:STANDARD
END:VTIMEZONE
BEGIN:VEVENT
DTSTART;VALUE=DATE:20210916
DTEND;VALUE=DATE:20210917
DTSTAMP:20260419T014553
CREATED:20210907T152731Z
LAST-MODIFIED:20210914T203432Z
UID:18411-1631750400-1631836799@ccib.ro
SUMMARY:Forumul Antreprenorilor din industria agricolă
DESCRIPTION:Camera de Comerț și Industrie București și Club Antreprenor vor organiza joi\, 16 septembrie 2021\, Forumul Antreprenorilor din industria agricolă. \nEvenimentul se va desfășura în Aula Carol I\, etajul 2\, Palatul CCIB – Str. Ion Ghica\, Nr. 4\, Sector 3\, București. \nParteneri: LAPAR\, AIPROM\, REI Finance Advisors\, Bento și Patria Bank\n \nForumul antreprenorilor din industria agricolă își propune să prezinte soluții legislative care să determine dezvoltarea fermierilor\, stimularea asocierii acestora și o creștere vizibilă a absorbției fondurilor europene. Totodată\, în cadrul acestui eveniment vor fi prezentate exemple de succes  – companii care au reușit să atragă fonduri europene\, care fac export și care contribuie consistent la bugetele locale. \nPotrivit Programului de Guvernare\, ministerul Agriculturii si Dezvoltării Rurale și-a stabilit următoarele Direcții de acțiune \n\nInvestiții în modernizarea\, restructurarea şi creșterea competitivității fermelor\, cu accent pe fermele de familie;\nInstalarea tinerilor fermieri;\nSprijin pentru cooperare în vederea integrării producției pe lanțul agroalimentar;\nGestionarea riscurilor la nivel de fermă;\nInvestiții în crearea şi dezvoltarea valorii adăugate prin procesarea şi marketingul produselor agro-alimentare;\nInvestiții în infrastructura de irigații;\nCooperare în vederea inovării\, respectiv dezvoltarea de noi practici care să răspundă la nevoile specifice ale fermierilor;\nPlăți compensatorii pentru angajamente în materie de mediu și climă și alte angajamente\, constrângeri naturale sau alte constrângeri specifice anumitor zone;\nFructificarea oportunității oferite de ecoscheme în noul regulament al Politicii Agricole Comune.\n\nSectorul agro-industrial are un potențial de creștere extraordinar. Promotorii evoluției acestui domeniu strategic sunt antreprenorii români și companiile multinaționale care activează în țara noastră. Guvernul trebuie să stimuleze dezvoltarea afacerilor\, să fie un catalizator. Este necesară o campanie eficientă de comunicare privind fondurile europene și alte surse de finanțare. Se impune o reducere a birocrației în acest sector. \nVorbitori:\nIuliu STOCKLOSA\, Președinte\, Camera de Comerț și Industrie București \nMarius MICU\, Secretar de Stat\, ministerul Agriculturii și Dezvoltării Rurale \nDaniel BUDA\, Europarlamentar\, Vicepreședinte\, Comisia pentru agricultură și dezvoltare rurală \nMihai-Liviu MORARU\, Director General\, Agenția pentru Finanțarea Investițiilor Rurale (AFIR) \nGeorge SCARLAT\, Senator\, Președinte\, Comisia pentru agricultură\, industrie alimentară și dezvoltare rurală \nNicu VASILE\, Președinte\, LAPAR (Liga Asociațiilor Producătorilor Agricoli din România) \nVasile IOSIF\, Președinte\, AIPROM (Asociația Industriei de Protecția Plantelor din România) \nRoxana MIRCEA\, Managing Partner\, REI Finance Advisors \nDan GIUȘCĂ\, Software Arhitect & Partner\, Bento \nIulian HARPA\, Managing Partner\, HIM Public Affairs \nReprezentant Patria Bank \nTeme de discuție:\nPNRR și viitorul industriei agricole românești; Agricultura 4.0; Inputuri moderne pentru agricultori; Soluții eficiente de finanțare pentru fermieri; Revigorarea cercetării agricole româ­nești; Care este necesarul de forță de muncă în agricultură?; Clarificarea statutului juridic și fiscal al cooperativelor și grupurilor de producători; Nevoia de organizare a activității fermierilor într-o formă juridică prin intermediul căreia aceștia să poata atrage finanțare sau să pătrundă în lanțul de distribuție și desfacere; Accelerarea înființării unui cadastru agricol generalizat; Fonduri mutuale pentru gestionarea unor riscuri în agricultură; Soluții pentru refacerea sistemului de irigații; Identificarea de noi piețe pentru produsele românești în vederea creșterii competitivității sectorului agro-alimentar; Avantajele Indicațiilor geografice protejate și a Denumirilor de origine protejate. \nAgendă:\n09\,00- 09\,30: Înregistrarea participanților și welcome coffee \n09\,30 – 11\,30: Sesiunea I \n11\,30 – 12\,00: Business networking coffee break \n12\,00 – 14\,00: Sesiunea a II-a \n14\,00 – 15\,00: Business lunch &  networking \n  \nMai multe detalii:  https://www.clubantreprenor.ro/2021/09/04/forumul-antreprenorilor-din-agricultura-16-septembrie-2021/
URL:https://ccib.ro/eveniment/forumul-antreprenorilor-din-industria-agricola/
CATEGORIES:Eveniment
ATTACH;FMTTYPE=image/jpeg:https://ccib.ro/wp-content/uploads/2021/09/IMG-20210914-WA0001.jpg
ORGANIZER;CN="CCIB":MAILTO:membri@ccib.ro;
END:VEVENT
END:VCALENDAR