BEGIN:VCALENDAR
VERSION:2.0
PRODID:-//Camera de Comerţ şi Industrie a Municipiului Bucureşti - ECPv6.15.14//NONSGML v1.0//EN
CALSCALE:GREGORIAN
METHOD:PUBLISH
X-WR-CALNAME:Camera de Comerţ şi Industrie a Municipiului Bucureşti
X-ORIGINAL-URL:https://ccib.ro
X-WR-CALDESC:Evenimente pentru Camera de Comerţ şi Industrie a Municipiului Bucureşti
REFRESH-INTERVAL;VALUE=DURATION:PT1H
X-Robots-Tag:noindex
X-PUBLISHED-TTL:PT1H
BEGIN:VTIMEZONE
TZID:Europe/Moscow
BEGIN:STANDARD
TZOFFSETFROM:+0300
TZOFFSETTO:+0300
TZNAME:MSK
DTSTART:20210101T000000
END:STANDARD
END:VTIMEZONE
BEGIN:VEVENT
DTSTART;VALUE=DATE:20220302
DTEND;VALUE=DATE:20220303
DTSTAMP:20260419T022119
CREATED:20220215T171230Z
LAST-MODIFIED:20220215T171434Z
UID:19086-1646179200-1646265599@ccib.ro
SUMMARY:NOILE OPORTUNITĂȚI DE VÂNZARE ÎN MEDIUL ONLINE
DESCRIPTION:NOILE OPORTUNITĂȚI DE VÂNZARE ÎN MEDIUL ONLINE \nWEBMINAR GRATUIT PENTRU MEMBRII CCIB \n2 martie 2022\, între orele 10:00- 11:30 \n  \nCamera de Comert și Industrie a Municipiului București in parteneriat cu RE7CONSULTING România invită membrii săi la webminarul cu tema: Noile oportunități de vânzare în mediul online. \nEvenimentul se va desfașura online\, miercuri\, 2 martie 2022\, între orele 10:00-11:30. \nWebminarul interactiv\, susținut de Alexandra Lovin\, va prezenta instrumente de marketing online structurate astfel: \n\nOportunitățile pe fiecare canal de promovare: Facebook\, Instagram\, LinkedIn\, Youtube\, TikTok\, Google Ads\nObiectivele de promovare (atât pentru campaniile PPC\, cât și pentru continutul organic)\nImportanța Content Marketing\nCum targetăm audiența potrivită business-ului nostru\n\nÎn plus\, webinarul va avea un format interactiv\, participanții avand ocazia de a intra în dialog cu Alexandra Lovin pentru a-și clarifica unele aspecte legate de temele prezentate. \nPentru membrii CCIB participarea este gratuită. Termenul limită pentru înregistrare este 28 februarie 2022. \nUlterior înregistrării (prin completarea formularului de mai jos) și validării participării dvs. ca membru CCIB\, participanții vor primi acces printr-un link transmis pe e-mail împreună cu instrucțiunile de conectare pe platforma ZOOM. \nDespre RE7CONSULTING România \nRe7consulting România\, cu sediul central în București\, este singura agenție germană din România care oferă servicii complete de marketing digital. Agenția a fost fondată în anul 2015 de compania mamă din Fulda\, Germania\, cu o prezență de peste 10 ani pe piața de profil din această țară. \nMisiunea re7consulting România este să livreze în mod constant noi campanii de marketing și soluții specializate de promovare care să depășească așteptările clienților.  \nAgenția se concentrează întotdeauna pe mai multe puncte de contact pentru a ajuta organizațiile să își atingă cu succes obiectivele. \nDespre Alexandra Lovin \nAlexandra are o experiență de zece ani în Marketing Online. Cariera în Digital Marketing a început-o cu serviciul de optimizare pentru motoarele de căutare\, iar mai apoi a continuat să studieze alte servicii de marketing online\, precum Google Ads\, Social Media Marketing și marketing de conținut. Alexandra este\, de asemenea\, trainer specializat în social media și deține un master în NLP (programare neurolingvistică). \nDespre Camera de Comerț și Industrie a Municipiului București \nCu o tradiţie de peste 150 de ani în reprezentarea mediului de afaceri şi în derularea de parteneriate cu autorităţile\, CCIB se bucură şi de o largă recunoaştere în țară și străinătate. Camera bucureșteană conlucrează cu peste 100 de organizaţii similare de pe toate continentele și\, pe plan intern\, cu mai mult de 40 de organizaţii profesionale\, patronale\, instituţii ale mediului academic şi reprezentanţi ai comunităţii de afaceri. CCIB oferă membrilor săi\, dar şi comunităţii de afaceri bucureştene o gamă largă de servicii: de la arbitraj comercial și mediere\, înfiinţări de firme\, sucursale\, filiale\, servicii personalizate de promovare a produselor şi serviciilor\, inclusiv prin intermediul reprezentanţelor sale din străinătate\, eliberare de certificate de origine sau de atestare a situației de forță majoră\, şi până la servicii organizare de evenimente.  Potrivit statutului CCIB\, membrii săi beneficiază de o serie de facilităţi. \n\n\n  \n\n\n\n Nume (obligatoriu)\n \n \n Prenume (obligatoriu)\n \n \n Companie (obligatoriu)\n \n \n Funcție (obligatoriu)\n \n \n Adresa Dvs. de Email (obligatoriu)\n \n \nDoresc să primesc o copie a răspunsurilor mele\nDaNu\n \nAi o întrebare ? Adreseaz-o de acum speakerului pentru a primi răspuns la webinar:\n\n \nPrin completarea acestui formular sunteti de acord ca datele dvs. personale sa fie prelucrate de CCIB si de organizatorul cursului.
URL:https://ccib.ro/eveniment/oportunitati-vanzare-online/
CATEGORIES:Eveniment
ATTACH;FMTTYPE=image/png:https://ccib.ro/wp-content/uploads/2022/02/webinar.png
ORGANIZER;CN="CCIB":MAILTO:membri@ccib.ro;
END:VEVENT
END:VCALENDAR