BEGIN:VCALENDAR
VERSION:2.0
PRODID:-//Camera de Comerţ şi Industrie a Municipiului Bucureşti - ECPv6.15.14//NONSGML v1.0//EN
CALSCALE:GREGORIAN
METHOD:PUBLISH
X-ORIGINAL-URL:https://ccib.ro
X-WR-CALDESC:Evenimente pentru Camera de Comerţ şi Industrie a Municipiului Bucureşti
REFRESH-INTERVAL;VALUE=DURATION:PT1H
X-Robots-Tag:noindex
X-PUBLISHED-TTL:PT1H
BEGIN:VTIMEZONE
TZID:Europe/Moscow
BEGIN:STANDARD
TZOFFSETFROM:+0300
TZOFFSETTO:+0300
TZNAME:MSK
DTSTART:20210101T000000
END:STANDARD
END:VTIMEZONE
BEGIN:VEVENT
DTSTART;VALUE=DATE:20220329
DTEND;VALUE=DATE:20220330
DTSTAMP:20260418T012448
CREATED:20220311T091459Z
LAST-MODIFIED:20220314T141200Z
UID:19173-1648512000-1648598399@ccib.ro
SUMMARY:”Serate muzicale în București”- “What the World Needs Now”
DESCRIPTION:  \n29 Martie –  “What the World Needs Now”   \nConcert de jazz \nGabi Stanescu – Vioara/Pian  \nAdrian Flautistu – Contrabas  \nCiprian Pop – Chitara  \nAndrei Paraschiv – Tobe  \nInvitati  \nAndra Maria Lupu – Voce  \nMiruna Popescu – Voce  \nBogdan Munteanu – Pian  \n\nIn a Sentimental Mood – Duke Elington/John Coltrane\nThe Shadow of Your Smile – Johnny Mandel\nEverything Happens to Me – Matt Dennis\nIsn’t She Lovely – Stevie Wonder\nStolen Moments – Oliver Nelson\nRound Midnight – Thelonious Monk\nJust the Two Of Us – Bill Withers\nNo More Blues – Antonio Carlos Jobim\nWhat Are You Doing the Rest Of Your Life? – Michel Legrand\nLush Life – Billy Strayhorn\nBeautiful Love – Victor Young\nLullaby Of Birdland – George Shearing\nThere Will Never Be Another You – Harry Warren\nAria din Suita no.3 – J.S.Bach\nWhat the World Needs Now – Burt Bacharach\n\nSeria de evenimente va continua cu prezența unor artiști de marcă\, programul Seratelor Muzicale în București va fi publicat pe www.lanto.ro www.ccib.ro. Biletele pentru concertele din cadrul Seratelor muzicale în București sunt disponibile pe www.lanto.ro\, www.bilete.ro. Toate evenimentele se vor desfășura de la ora 18:00\, cu o introducere în tema serii. \nDespre Lanto Communication \nLanto Communication a apărut acum aproape un deceniu. Încă de la început\, inițiatorul său\, Dorin Ioniță\, şi-a propus ca unic scop să arate lumii că România\, prin tinerii ei\, a păstrat intactă sclipirea diamantină a geniului muzical al locuitorilor acestor locuri străvechi. Compania a organizat 10 ediții ale Festivalului Vara Magică și peste 100 de concerte oferite publicului român în sezonul estival\, precum și 12 ediții ale concertelor exclusiviste Iarna Magică. \nApariția Asociației Lanto Magia Muzicii a adus un spor substanțial de calitate și a înlesnit crearea unor parteneriate benefice culturii naționale. Asocierile cu mediul de afaceri\, cu entități instituționale – fie ele locale sau guvernamentale\, în cele din urmă cu oameni care au același scop al promovării binelui și frumosului\, au adus tuturor celor implicați notorietate și respect. \nProiectele artistice ale Lanto Communication și Lanto Magia Muzicii constituie\, în egală măsură\, garanția unui act artistic de calitate\, dar și a unei vizibilități social-culturale și comunitare ridicate. Mai multe detalii și datele următoarelor concerte din cadrul festivalului Vara Magică le puteți consulta la: https://lanto.ro/ precum și pe pagina de Facebook: https://www.facebook.com/FestivalulVaraMagica/ \nDespre CCIB \nCu o tradiţie de peste 150 de ani în reprezentarea mediului de afaceri şi în derularea de parteneriate cu autorităţile\, CCIB se bucură şi de o largă recunoaştere în țară și străinătate. Camera bucureșteană conlucrează cu peste 100 de organizaţii similare de pe toate continentele și\, pe plan intern\, cu mai mult de 40 de organizaţii profesionale\, patronale\, instituţii ale mediului academic şi reprezentanţi ai comunităţii de afaceri. \nCCIB oferă membrilor săi\, dar şi comunităţii de afaceri bucureştene o gamă largă de servicii: de la arbitraj comercial și mediere\, înfiinţări de firme\, sucursale\, filiale\, servicii personalizate de promovare a produselor şi serviciilor\, inclusiv prin intermediul reprezentanţelor sale din străinătate\, eliberare de certificate de origine sau de atestare a situației de forță majoră\, şi până la servicii organizare de evenimente. Potrivit statutului CCIB\, membrii săi beneficiază de o serie de facilităţi. \nCCIB pune la dispoziția comunității de business\, dar și a celei locale\, în sediul său istoric din Str. Ion Ghica nr 4\, un Centru de conferințe modern\, cu săli cu capacitate maximă de 150 persoane. În aceste spații elegante\, rafinate și încărcate de istorie\, dar care răspund celor mai exigente cerințe în domeniu\, organizăm evenimente de înaltă ținută: conferințe\, mese rotunde\, workshop-uri\, evenimente culturale și științifice\, lansări de carte și de produs\, cursuri. \n### \n  \nVă mulțumim!
URL:https://ccib.ro/eveniment/serate-muzicale-in-bucuresti-3/
CATEGORIES:Eveniment
ATTACH;FMTTYPE=image/jpeg:https://ccib.ro/wp-content/uploads/2022/03/Afis-29_03.jpg
ORGANIZER;CN="CCIB":MAILTO:membri@ccib.ro;
END:VEVENT
END:VCALENDAR