BEGIN:VCALENDAR
VERSION:2.0
PRODID:-//Camera de Comerţ şi Industrie a Municipiului Bucureşti - ECPv6.15.14//NONSGML v1.0//EN
CALSCALE:GREGORIAN
METHOD:PUBLISH
X-ORIGINAL-URL:https://ccib.ro
X-WR-CALDESC:Evenimente pentru Camera de Comerţ şi Industrie a Municipiului Bucureşti
REFRESH-INTERVAL;VALUE=DURATION:PT1H
X-Robots-Tag:noindex
X-PUBLISHED-TTL:PT1H
BEGIN:VTIMEZONE
TZID:Europe/Moscow
BEGIN:STANDARD
TZOFFSETFROM:+0300
TZOFFSETTO:+0300
TZNAME:MSK
DTSTART:20210101T000000
END:STANDARD
END:VTIMEZONE
BEGIN:VEVENT
DTSTART;VALUE=DATE:20220629
DTEND;VALUE=DATE:20220630
DTSTAMP:20260420T224252
CREATED:20220602T145822Z
LAST-MODIFIED:20220602T145822Z
UID:19576-1656460800-1656547199@ccib.ro
SUMMARY:Convocarea plenului arbitrilor - Curtea de Arbitraj Bucuresti\, 29 iunie
DESCRIPTION:Colegiul de conducere al Curtii de Arbitraj Bucuresti\, prin Presedinte Cristina Petrovici\, convoaca Plenul arbitrilor inscrisi pe lista arbitrilor pentru data de 29 iunie \, ora 12:00\, la sediul Curtii din Strada Ion Ghica nr. 4\, sector 3\, Bucuresti\, etajul 3\, sala Miron Vlasto
URL:https://ccib.ro/eveniment/arbitraj/
CATEGORIES:Eveniment
ATTACH;FMTTYPE=image/jpeg:https://ccib.ro/wp-content/uploads/2022/06/Convocator-Plen-arbitrii-CAB.jpeg
ORGANIZER;CN="CCIB":MAILTO:membri@ccib.ro;
END:VEVENT
BEGIN:VEVENT
DTSTART;VALUE=DATE:20220629
DTEND;VALUE=DATE:20220630
DTSTAMP:20260420T224253
CREATED:20220621T173631Z
LAST-MODIFIED:20220621T173902Z
UID:19639-1656460800-1656547199@ccib.ro
SUMMARY:„O harpă de poveste” – 29 iunie
DESCRIPTION:  \n„O harpă de poveste” – ediţia a III-a\, între 16 şi 29 iunie \n  \n            O harpă construită în 1827 de faimosul fabricant de instrumente muzicale Erard şi-a început călătoria în România în urmă cu aproape un secol. Între 16 şi 29 iunie\, Turneul „O harpă de poveste” – ediţia a III-a aduce această călătorie în zilele noastre\, printr-o serie de concerte susţinute de harpista Adriana Cazacu\, căreia i se alătură pianista Oxana Corjos şi clarinetistul Petru Pane\, în săli de concert din ţară\, respectiv la Bistriţa\, Deva şi Bucureşti şi cu o avanpremieră la Londra. Turneul „O harpă de poveste” aduce în prim plan un instrument original\, păstrat într-o stare excepțională\, care aparţine unei familii cu adânci rădăcini muzicale din România\, familiei Iuşceanu-Corjos. \n            Pe 16 iunie\, ora 19.00 la Institutul Cultural Român Londra\, Sala George Enescu\, pe 25 iunie\, ora 19.00 la Sinagoga din Bistriţa\, pe 26 iunie\, la Sala Pro Arte din Deva şi pe 29 iunie la Sala de concerte a Palatului Camerei de Comerţ şi Industrie din Bucureşti vor avea loc patru recitaluri\, avându-i ca protagonişti pe Adriana Cazacu – harpă\, Petru Pane – clarinet\, Oxana Corjos – pian. Programul va cuprinde lucrări diverse dedicate sau adaptate pentru această formula\, de la Henry Purcell\, până la Krzysztof Penderecki. \n            Ajuns în România în urmă cu mult timp\, instrumentul păstrează inscripţia primelor harpe construite de manufactura fraţilor Erard din Londra\, furnizori la acel moment ai casei regale franceze şi ai casei imperiale ruse. Povestea spune că această harpă a rămas pe teritoriul actualei Românii luată de la un ofițer german aflat în retragere la finalul celui de-al doilea război mondial\, la schimb pentru un sac de merinde\, fiind coborâtă dintr-o căruță pe ulița unui sat din vestul Transilvaniei\, în care se afla acesta în timpul retragerii armatei germane din 1944. \n            Prin proiectul O harpă de poveste ne propunem readucerea parfumului muzical al secolului al XIX-lea\, atunci când a fost construit instrumentul\, cu o antologie de lucrări pentru harpă solistă\, în dialog cu clarinetul sau împletindu-și particulele sonore cu delicateţea cozilor orizontale ale pianului\, repertoriul ajungând până în secolul XX. \n            Elementul care leagă neobişnuitul trio clarinet\, harpă şi pian este reprezentat de readucerea la viață a acestei bijuterii\, harpa cu dublă acţiune Erard\, un instrument care simbolizează rădăcinile și conservarea tradiţiei muzicale românești în cel mai frumos și optimist mod. \nItinerar \nAdriana Cazacu – harpă \nOxana Corjos – pian \nPetru Pane – clarinet \n16 iunie\, ora 19.00 – Londra\, Institutul Cultural Român Londra\, Sala George Enescu \n25 iunie\, ora 19.00 – Bistriţa\, Sinagoga \n26 iunie\, ora 19.00 – Deva\, Sala Pro Arte \n29 iunie\, ora 19.00 – Bucureşti\, Sala de concerte a Palatului Camerei de Comerţ şi Industrie Bucureşti \n  \nProgram muzical : \n\nHenry Purcell – Ground\, harpă solo\nKrzysztof Penderecki – Preludiu pentru clarinet solo\nCh. W. Gluck – Orpheus’ Klage\, pian solo\nFranz Schubert – Die Zauberharfe\, clarinet și harpă\nFriedrich Smetana – Vltava (arr. Hans Trnecek) – harpă solo\nSerghei Rachmaninov – Polka Italienne\, pian la 4 mâini\nCarmen Petra Basacopol – Pastoral Sonata pentru harpă solo\nFrancis Poulenc – Sonata pentru clarinet și pian\nBela Bartok – Dansuri românești (arr. Dan Dediu) clarinet\, harpă\, pian\n\nProducător : Pro Contemporania \nCu sprijinul : JTI\, Aqua Carpatica\, Domeniile Sâmbureşti \nOrganizatori locali : ICR Londra\, Primăria Bistriţa prin Centrul municipal pentru cultură Bistriţa\, Primăria Deva prin Centrul cultural Drăgan Muntean\, Lanto Communication \nParteneri: Mediatrust\, Radio România\, România TV\, Liternet\, Agenţia de carte\, Observator cultural\, Viewfinder Solutions\, The Culture Club. \nhttps://youtu.be/wtHE1Sz27TE
URL:https://ccib.ro/eveniment/harpa-29-iunie/
LOCATION:Birou  reprezentare CCIB – Londra\, 1 Belgrave Square\, London\, London\, SW1X 8PH\, United Kingdom
CATEGORIES:Eveniment
ATTACH;FMTTYPE=image/jpeg:https://ccib.ro/wp-content/uploads/2022/06/Harpa_4_WEB_Foto_Virgil-Oprina_2021_06_17_Adriana-Ciltea-1.jpg
END:VEVENT
BEGIN:VEVENT
DTSTART;TZID=Europe/Moscow:20220629T090000
DTEND;TZID=Europe/Moscow:20220629T123000
DTSTAMP:20260420T224253
CREATED:20220627T161928Z
LAST-MODIFIED:20220627T162548Z
UID:19664-1656493200-1656505800@ccib.ro
SUMMARY:Intâlniri de lucru cu reprezentanții MAT din cadrul BPCE din Misiunile diplomatice ale României în străinătate\, 29.06-01.07.2022\, la Palatul CCIB
DESCRIPTION:Stimata doamna/Stimate domn\nPresedinte/Director general/Administrator\, \nAvem placerea sa va informam că urmare preocuparii constante de a sprijini internaționalizarea afacerilor firmelor și companiilor romanesti\, Ministerul Antreprenoriatului și Turismului (MAT) în colaborare cu Camera de Comerț și Industrie a Municipiului București (CCIB) vor organiza în perioada 29 iunie – 1 iulie 2022\, între orele 9:00 și 13:00\, la Palatul CCIB\, strada Ion Ghica nr. 4\, sector 3\, întâlniri de lucru pentru firmele și companiile interesate cu reprezentanții MAT din cadrul Birourilor de Promovare Comercial Economică (BPCE) din Misiunile diplomatice ale României în străinătate cu prilejul efectuării pregătirii anuale în țară a acestora. \nEste o ocazie unică pentru firmele si companiile românești de a promova pe pietele externe produsele și serviciile\, de a identifica noi oportunități de cooperare internațională\, inclusiv de atragere de investiții străine și turisti în țara noastra\, intrand in contact direct cu reprezentanții economici ai României în strainatate\, precum și cu cei ai Departamentului de Comerț Exterior (DCE) din MAT (timpul va fi alocat exclusiv convorbirilor directe cu reprezentanții BPCE-urilor\, precum și cu cei din DCE pentru situațiile în care interesul se refera la țări în care nu există BPCE). \nPrin efortul CCIB\, participarea la intalnire este gratuita fiind necesara doar inregistrarea. Pentru eventuale informatii suplimentare poate fi contactat dl. Mircea Toader\, Coordonator Relatii Internationale CCIB \, la tel. 0725 167 894 sau 0723 144 663. \nIn dorința de a veni in intampinarea posibilitatilor firmelor si companiilor interesate\, dar si pentru evitarea aglomerării\, exista rugamintea de a se avea în vedere folosirea tuturor celor 3 zile alocate intalnirilor cu reprezentantii din reteaua externa de promovare comercial economica ai MAT indicand ”ziua preferata”. \nVa multumim pentru colaborare\, va dorim mult succes in activitatea Dumneavoastra si asteptam cu drag reprezentantii mediului de afaceri din judetul Dvs. la intalnirile cu diplomatii din Birourile de Promovare Comercial Economică din cadrul misiunilor diplomatice ale României în străinătate\, precum și cu specialiștii din Departamentul de Comerț Exterior. \nIuliu STOCKLOSA\nPreședinte CCIB
URL:https://ccib.ro/eveniment/intalniri-de-lucru-cu-reprezentantii-mat-din-cadrul-bpce-din-misiunile-diplomatice-ale-romaniei-in-strainatate-29-06-01-07-2022-la-palatul-ccib-29iunie/
LOCATION:Birou  reprezentare CCIB – Londra\, 1 Belgrave Square\, London\, London\, SW1X 8PH\, United Kingdom
CATEGORIES:Eveniment
ATTACH;FMTTYPE=image/jpeg:https://ccib.ro/wp-content/uploads/2022/06/diplomatie.jpg
ORGANIZER;CN="CCIB":MAILTO:membri@ccib.ro;
END:VEVENT
END:VCALENDAR