BEGIN:VCALENDAR
VERSION:2.0
PRODID:-//Camera de Comerţ şi Industrie a Municipiului Bucureşti - ECPv6.15.14//NONSGML v1.0//EN
CALSCALE:GREGORIAN
METHOD:PUBLISH
X-WR-CALNAME:Camera de Comerţ şi Industrie a Municipiului Bucureşti
X-ORIGINAL-URL:https://ccib.ro
X-WR-CALDESC:Evenimente pentru Camera de Comerţ şi Industrie a Municipiului Bucureşti
REFRESH-INTERVAL;VALUE=DURATION:PT1H
X-Robots-Tag:noindex
X-PUBLISHED-TTL:PT1H
BEGIN:VTIMEZONE
TZID:Europe/Moscow
BEGIN:STANDARD
TZOFFSETFROM:+0300
TZOFFSETTO:+0300
TZNAME:MSK
DTSTART:20210101T000000
END:STANDARD
END:VTIMEZONE
BEGIN:VEVENT
DTSTART;VALUE=DATE:20221020
DTEND;VALUE=DATE:20221021
DTSTAMP:20260419T014511
CREATED:20221015T153520Z
LAST-MODIFIED:20221015T153840Z
UID:21637-1666224000-1666310399@ccib.ro
SUMMARY:Forumul de Afaceri România-Republica Croația\, 20 octombrie 2022\, ora 10:30\, Palatul CCIB
DESCRIPTION:  \nI N V I T A Ț I E \n  \n                 Camera de Comerț și Industrie a Municipiului București (CCIB)\, alături de Lifestyle Check IN din Split au plăcerea să vă invite la Forumul de Afaceri România-Republica Croația\, organizat cu ocazia aniversării a 30 ani de relații diplomatice între cele două state\, ce va avea loc joi\, 20 octombrie 2022\, ora 10:30\, la Palatul CCIB\, Aula Carol I. \n                 Anexat\, vă transmitem invitația oficială din partea organizatorilor\, programul evenimentului\, lista cu delegația croată\, precum și participanții din România care și-au anunțat până în prezent participarea. \n  \nVă rugăm să ne confirmați interesul dumneavoastră de a fi prezenți la eveniment până marți\, 18 octombrie 2022. \n  \nPersoană de contact în cadrul CCIB: dna. Sandra Botorogeanu (Lăsculescu)\, E-mail: sandra.lasculescu@ccib.ro iar în cadrul Lifestyle Check IN: dna. Monica Ioanițescu\, E-mail: monica@lifestylecheckin.com. \n  \nParticiparea este gratuită fiind necesară înregistrarea Dvs. prin mail. \n  \nÎn speranța că această acțiune va raspunde interesului dumneavoastră pentru diversificarea și internaționalizarea propriilor afaceri\, vă stăm la dispoziție pentru orice alte detalii suplimentare. \n  \n  \nIuliu STOCKLOSA\nPresedinte
URL:https://ccib.ro/eveniment/forum-afaceri-romania-croatia-oct2022/
CATEGORIES:Eveniment
ATTACH;FMTTYPE=image/jpeg:https://ccib.ro/wp-content/uploads/2022/10/INVITATIE-OFICIALA-din-partea-organizatorilor-scaled.jpg
ORGANIZER;CN="CCIB":MAILTO:membri@ccib.ro;
END:VEVENT
END:VCALENDAR