BEGIN:VCALENDAR
VERSION:2.0
PRODID:-//Camera de Comerţ şi Industrie a Municipiului Bucureşti - ECPv6.15.14//NONSGML v1.0//EN
CALSCALE:GREGORIAN
METHOD:PUBLISH
X-WR-CALNAME:Camera de Comerţ şi Industrie a Municipiului Bucureşti
X-ORIGINAL-URL:https://ccib.ro
X-WR-CALDESC:Evenimente pentru Camera de Comerţ şi Industrie a Municipiului Bucureşti
REFRESH-INTERVAL;VALUE=DURATION:PT1H
X-Robots-Tag:noindex
X-PUBLISHED-TTL:PT1H
BEGIN:VTIMEZONE
TZID:Europe/Moscow
BEGIN:STANDARD
TZOFFSETFROM:+0300
TZOFFSETTO:+0300
TZNAME:MSK
DTSTART:20210101T000000
END:STANDARD
END:VTIMEZONE
BEGIN:VEVENT
DTSTART;TZID=Europe/Moscow:20221210T190000
DTEND;TZID=Europe/Moscow:20221210T220000
DTSTAMP:20260419T015458
CREATED:20221109T145836Z
LAST-MODIFIED:20221109T150302Z
UID:21708-1670698800-1670709600@ccib.ro
SUMMARY:Balul Camerei de Comerț și Industrie a Municipiului București
DESCRIPTION:Stimata doamnă\, \nStimate domn\, \n  \n          Am deosebita plăcere de a vă invita la prima ediție a Balului Camerei de Comerț și Industrie a Municipiului București\, care va avea loc sâmbătă\, 10 decembrie 2022\, începând cu ora 19\,00\, la Sala de Bal din sediul nostru istoric (Str. Ion Ghica nr 4). \nNe vor fi alături: reprezentanți ai comunității de afaceri a Capitalei\, oficiali din administrația centrală și locală\, dar și membri ai corpului diplomatic. \nEvenimentul s-a născut din dorința de a strânge\, și pe această cale\, fondurile necesare punerii în valoare a Palatului Camerei bucureștene\, clădire monument istoric de o remarcabilă valoare arhitectonică și istorică. \nProgramul manifestării\, organizate la noi acasă\, într-un spațiu elegant\, rafinat și încărcat de istorie\, cuprinde: un program artistic variat\, expoziție de artă și produse premium – silent auction\, licitație caritabilă; degustare de vinuri și cafea; tombolă și o cină de gală. \nÎn plus\, sunt onorat să vă adresez invitaţia de a ne fi partener\, valorificând astfel oportunitatea de a promova imaginea prestigioasei companii pe care o reprezentaţi în cadrul evenimentului\, dar și pe site-ul www.ccib.ro și în publicația online Afacerea (www.ccib.ro/afacerea). Detalii despre pachetele de parteneriat pe care vi le oferim puteți obține accesând hiperlink-ul Oportunități de promovare. \nÎn cazul în care oferta noastră de parteneriat nu corespunde intereselor dumneavoastră\, aveți posibilitatea de a opta pentru participare simplă la tariful de 500 euro+TVA (2 persoane) sau 250 euro+TVA (1 persoană). În cazul în care facturarea nu se va face pe firmă\, tarifele sunt de 250 euro (1 persoană)\, respectiv 500 euro (2 persoane). \nAșteptăm confirmarea participării dvs\, cu menționarea variantei pentru care optaţi\, la adresa de e-mail: marketing.comunicare@ccib.ro\, până la data de 18 noiembrie 2022. Informații suplimentare se pot obține de la Cristina Șerbănescu (tel. 0730 990 764). \nCu apreciere\, \nPreședinte \nIuliu STOCKLOSA\, \n 
URL:https://ccib.ro/eveniment/balul-ccib-2022/
LOCATION:Birou  reprezentare CCIB – Londra\, 1 Belgrave Square\, London\, London\, SW1X 8PH\, United Kingdom
CATEGORIES:Eveniment
ATTACH;FMTTYPE=image/jpeg:https://ccib.ro/wp-content/uploads/2022/11/Bal2022-1.jpg
ORGANIZER;CN="CCIB":MAILTO:office@ccib.ro;
END:VEVENT
END:VCALENDAR