BEGIN:VCALENDAR
VERSION:2.0
PRODID:-//Camera de Comerţ şi Industrie a Municipiului Bucureşti - ECPv6.15.14//NONSGML v1.0//EN
CALSCALE:GREGORIAN
METHOD:PUBLISH
X-ORIGINAL-URL:https://ccib.ro
X-WR-CALDESC:Evenimente pentru Camera de Comerţ şi Industrie a Municipiului Bucureşti
REFRESH-INTERVAL;VALUE=DURATION:PT1H
X-Robots-Tag:noindex
X-PUBLISHED-TTL:PT1H
BEGIN:VTIMEZONE
TZID:Europe/Moscow
BEGIN:STANDARD
TZOFFSETFROM:+0300
TZOFFSETTO:+0300
TZNAME:MSK
DTSTART:20240101T000000
END:STANDARD
END:VTIMEZONE
BEGIN:VEVENT
DTSTART;TZID=Europe/Moscow:20251106T100000
DTEND;TZID=Europe/Moscow:20251106T130000
DTSTAMP:20260424T235528
CREATED:20251027T153035Z
LAST-MODIFIED:20251028T141045Z
UID:27711-1762423200-1762434000@ccib.ro
SUMMARY:INDIA-ROMANIA BUSINESS OPPORTUNITIES DAY
DESCRIPTION:                                                                                   \nCamera de Comerţ şi Industrie a Municipiului Bucureşti (CCIB) \n  vă adresează INVITAȚIA de a participa joi\, 6 noiembrie 2025 la \n  \nINDIA-ROMANIA BUSINESS OPPORTUNITIES DAY \ncu începere de la ora 10:00\, înregistrarea de la 09:30\,  în Aula Carol I \na Palatului CCIB\, Strada Ion Ghica 4\, sector 3\, etaj 2.  \n  \nEvenimentul are loc în cadrul celei de a XIX-a sesiune a Comisiei Mixte Interguvernamentale de Cooperare Economică România-India. \nLa eveniment vor participa Ministrul de Stat al Comerțului și Industriei\, Shri Jitin Prasada\, alături de membrii delegației Federației Camerelor Indiene de Comerț și Industrie\, reprezentanți ai Agenției Române pentru Investiții și Comerț Exterior (ARICE)\, Ministerului Economiei\, Digitalizării\, Antreprenoriatului și Turismului (MEDAT)\, Ministerului Afacerilor Externe (MAE) și lideri de afaceri indieni activi în domenii de interes strategic comun\, precum IT\, agricultură și sectorul agroalimentar\, industrie petrolieră\, farmaceutic\, energie regenerabilă\, turism\, textile și producție manufacturieră. \nProgramul evenimentului va cuprinde întâlniri B2B\, oferind participanților prilejul de a explora oportunități concrete de colaborare și de a descoperi climatul investițional din India\, în vederea dezvoltării unor parteneriate comerciale și tehnologice reciproc avantajoase. \n  \nPentru înscriere\, vă rugăm să accesați link-ul de mai jos până pe 4 noiembrie:  https://forms.gle/4cQfe7KuyyrVVJmc6 \n  \nPentru detalii suplimentare\, vă puteți adresa persoanelor de contact din cadrul Departamentului de Relații Internaționale:  dna. Adriana Crișan\, tel. 0729.743.032 sau e-mail adriana.crisan@ccib.ro și dra. Nadjet Ranete\, e-mail nadjet.ranete@ccib.ro \n  \n*Pentru membrii CCIB participarea este gratuită\, iar pentru nemembri se va percepe o taxă în valoare de 200 RON + TVA. \nPlata se face în contul: RO61BRDE441SV51068924410 (BRD Sucursala Unirea) \nBeneficiar: Camera de Comerț și Industrie a Municipiului București \nCUI: RO17823540 \nMențiune: \,\,ZOA India 2025” \n  \nLa rândul nostru\, vă vom ține la curent cu programul Forumului pe măsura finalizării acestuia. \n  \n  \nVă așteptăm cu drag la Forumul de afaceri!
URL:https://ccib.ro/eveniment/india-romania-business-opportunities-day-2025/
LOCATION:Aula Carol I\, Palatul CCIB\, Strada Ion Ghica nr. 4\, Bucuresti\, Romania
CATEGORIES:Eveniment
ATTACH;FMTTYPE=image/png:https://ccib.ro/wp-content/uploads/2025/10/SITE.png
ORGANIZER;CN="CCIB":MAILTO:office@ccib.ro;
END:VEVENT
END:VCALENDAR