BEGIN:VCALENDAR
VERSION:2.0
PRODID:-//Camera de Comerţ şi Industrie a Municipiului Bucureşti - ECPv6.15.14//NONSGML v1.0//EN
CALSCALE:GREGORIAN
METHOD:PUBLISH
X-ORIGINAL-URL:https://ccib.ro
X-WR-CALDESC:Evenimente pentru Camera de Comerţ şi Industrie a Municipiului Bucureşti
REFRESH-INTERVAL;VALUE=DURATION:PT1H
X-Robots-Tag:noindex
X-PUBLISHED-TTL:PT1H
BEGIN:VTIMEZONE
TZID:Europe/Moscow
BEGIN:STANDARD
TZOFFSETFROM:+0300
TZOFFSETTO:+0300
TZNAME:MSK
DTSTART:20240101T000000
END:STANDARD
END:VTIMEZONE
BEGIN:VEVENT
DTSTART;TZID=Europe/Moscow:20251110T140000
DTEND;TZID=Europe/Moscow:20251110T160000
DTSTAMP:20260424T235626
CREATED:20251024T143818Z
LAST-MODIFIED:20251027T095006Z
UID:27703-1762783200-1762790400@ccib.ro
SUMMARY:Inaugurarea Biroului de Reprezentare al CCIB în Londra
DESCRIPTION:  \nINVITAȚIE \nCamera de Comerț și Industrie a Municipiului București (CCIB) are plăcerea de a vă invita la inaugurarea Biroului de reprezentare al Camerei de Comerț și Industrie București în Londra. \nAcest eveniment va avea loc pe data de 10 noiembrie 2025\, ora 14:00\, la adresa 1 Belgrave Square\, Londra\, SW1X 8PH.  \nEvenimentul marchează extinderea prezenței internaționale a Camerei de Comerț și Industrie București (CCIB) și deschiderea unui nou cadru de colaborare între mediul de afaceri românesc și cel britanic. \nVă rugăm să accesați următorul link pentru detaliile evenimentului  https://drive.google.com/drive/folders/1nvHIr1Fywbv3gaibwsWetLp71pmLgnjx?usp=sharing \nPentru detalii suplimentare\, vă puteți adresa Departamentului de Relații Internaționale (adriana.crisan@ccib.ro și nadjet.ranete@ccib.ro ).
URL:https://ccib.ro/eveniment/inaugurare-birou-reprezentare-ccib-londra/
LOCATION:Birou  reprezentare CCIB – Londra\, 1 Belgrave Square\, London\, London\, SW1X 8PH\, United Kingdom
CATEGORIES:Eveniment
ATTACH;FMTTYPE=image/png:https://ccib.ro/wp-content/uploads/2025/10/Invitatie-site.png
ORGANIZER;CN="CCIB":MAILTO:office@ccib.ro;
END:VEVENT
END:VCALENDAR