BEGIN:VCALENDAR
VERSION:2.0
PRODID:-//Camera de Comerţ şi Industrie a Municipiului Bucureşti - ECPv6.15.14//NONSGML v1.0//EN
CALSCALE:GREGORIAN
METHOD:PUBLISH
X-ORIGINAL-URL:https://ccib.ro
X-WR-CALDESC:Evenimente pentru Camera de Comerţ şi Industrie a Municipiului Bucureşti
REFRESH-INTERVAL;VALUE=DURATION:PT1H
X-Robots-Tag:noindex
X-PUBLISHED-TTL:PT1H
BEGIN:VTIMEZONE
TZID:Europe/Moscow
BEGIN:STANDARD
TZOFFSETFROM:+0300
TZOFFSETTO:+0300
TZNAME:MSK
DTSTART:20240101T000000
END:STANDARD
END:VTIMEZONE
BEGIN:VEVENT
DTSTART;TZID=Europe/Moscow:20251127T100000
DTEND;TZID=Europe/Moscow:20251127T130000
DTSTAMP:20260424T235625
CREATED:20251105T143906Z
LAST-MODIFIED:20251124T093102Z
UID:27745-1764237600-1764248400@ccib.ro
SUMMARY:Dezbatere - ”ARBITRAJUL – rolul și importanța acestuia în sistemul judiciar român”
DESCRIPTION:  \nINVITAȚIE \n  \nCurtea de Arbitraj București de pe lângă Camera de Comerț și Industrie a Municipiului București are plăcerea de a anunța organizarea dezbaterii intitulată ”ARBITRAJUL – rolul și importanța acestuia în sistemul judiciar român”\, care va avea loc în data de 27 noiembrie 2025\, în intervalul orar 10:00 – 13:00\,la sediul Camerei de Comerț și Industrie a Municipiului București\, Str. Ion Ghica nr. 4\, sector 3\, Mun. București\, etaj 2\, sala Aula Carol I. \nDezbaterea are ca obiectiv analizarea și evidențierea rolului arbitrajului în cadrul sistemului judiciar român\, precum și importanța acestuia ca mijloc alternativ și eficient de soluționare a litigiilor. \nEvenimentul se adresează profesiilor juridice din România – avocați\, consilieri juridici\, notari publici\, executori judecătorești – și instituțiilor publice cu atribuții în domeniu. \n  \nAGENDA \n  \n09:30 – 10:00 – Înregistrare participanți și welcome coffee \nModeratorul dezbaterii – Carmen Todică\, Arbitru \n10:00 – 10:30 | Deschidere oficială \n\nCosmin Marina\, Președinte Curtea de Arbitraj București de pe lângă CCIB\nDaniel Fenechiu\, Senator\, Președinte Uniunea Profesiilor Liberale din România (UPLR)\n\n\nLiviu-Bogdan Ciucă\, Președinte Comisia Juridică de Disciplină și Imunități\, Camera Deputaților\, Parlamentul României\nIoan Turc\, Secretar de stat Ministerul Justiției\nIrina Ghimici\, Președinte a Secției a VI – a Civilă\, Tribunalul București\nBogdan Maghiar\, Președinte Uniunea Naţională a Executorilor Judecătoreşti (UNEJ)\n\n\nSilviu Boroi\, Reprezentant Camera Notarilor Publici București (CNPB)\nȘtefan Naubauer\, Reprezentant Baroul București\n\n\nCornel Popa\, Reprezentant Curtea de Arbitraj Comercial International de pe lângă CCIR\n\n\nReprezentant Tribunalul București – TBC\nReprezentant Curtea de Apel București – TBC\n\n10:30 – 10:50 |   Mădălina Grecu – Arbitru\, fost judecător ÎCCJ \n\nIndependența și imparțialitatea arbitrilor – garanții ale unui proces echitabil\n\n10:50 – 11:10 | Robert Florea – Arbitru\, fost judecător Tribunalul Galați \n\nArbitrajul instituționalizat versus arbitrajul ad-hoc\n\n11:10 – 11:30 | Horațiu Pătrașcu – Arbitru\, fost judecător ÎCCJ \n\nCurțile de arbitraj – necesitatea reglementării\n\n11:30 – 11:50 | Tudor Velea – Arbitru\, avocat Baroul New York \n\nDigitalizarea arbitrajului\n\n11:50 – 12:10 | Cătălin Mihalache – Arbitru\, avocat Baroul București \n\nConfidențialitatea în arbitraj – între protecția datelor și transparență\n\n12:10 – 12:30 | Daniel Severin – Arbitru\, fost judecător ÎCCJ \n\nArbitrajul în contractele de achiziție publică\n\n12:30 – 12:50 | Cosmin Marina\, Președintele CAB \n\nRolul Curții de Arbitraj București în consolidarea culturii juridice în România\n\n12:50 – 13:00 | Concluzii finale  \n13:00 – 13:30 | Networking buffet \n13:30 – 14:30 | Plenul Arbitrilor Curții de Arbitraj București \n\nSesiune dedicată arbitrilor CAB\n\n  \n  \nParticiparea este gratuită\, în limita locurilor disponibile\, cu condiția completării formularului de înscriere. \nPentru a vă confirma participarea și pentru o bună desfășurare a evenimentului\, vă rugăm să vă înregistrați accesând pagina de mai jos: \nhttps://docs.google.com/forms/d/e/1FAIpQLSdDirFuSxRxJ0wFLhOmr9K2sRFa5qaHcCrarj8Dto21EHAshQ/viewform?usp=dialog \nDetaliile despre eveniment și oportunitățile de promovare disponibile pot fi accesate prin următorul document. \nPersoană de contact: \nFilip STĂNCULESCU \nasistent arbitral \ne-mail: registratura.arbitraj@ccib.ro  \ntel. 0755 030 675 \n  \n\nSe încarcă…
URL:https://ccib.ro/eveniment/dezbatere-curte-arbitraj-noiembrie2025/
LOCATION:Aula Carol I\, Palatul CCIB\, Strada Ion Ghica nr. 4\, Bucuresti\, Romania
CATEGORIES:Eveniment
ATTACH;FMTTYPE=image/png:https://ccib.ro/wp-content/uploads/2025/11/ARBITRAJ-27-NOV-2025.png
ORGANIZER;CN="Curtea de Arbitraj Bucure%C8%99ti":MAILTO:Registratura.arbitraj@ccib.ro
END:VEVENT
END:VCALENDAR